Workbook

Sheet אינדקס
A1: שם המרצה: | B1: ד״ר שי צבאן
A2: דוא״ל: | C2: shay.tsaban@gmail.com | D2: לציין תמיד: ״מבוא לחשבונאות פיננסית - עמק יזרעאל״.
A3: טלפון: | C3: 050-6551519 | D3: לפניות דחופות / מילואים וכו׳
A5: כל חומרי ההרצאות, התרגילים והפתרונות - יופיעו בקובץ זה, בחלוקה לגיליונות.
A7: הקלטות השיעורים יועלו לחומרי למידה באתר.
A9: תכנית שיעורים מפורטת
A11: מס׳ שיעור | B11: תאריך | C11: נושא | F11: חומרים נוספים
A12: 1
A15: 2
A18: 3
A20: =A18+1 -> 4
A23: =A20+1 -> 5
A25: =A23+1 -> 6
A26: =A25+1 -> 7
A27: =A26+1 -> 8
A28: =A27+1 -> 9
A29: =A28+1 -> 10
A30: =A29+1 -> 11
A31: =A30+1 -> 12
A32: =A31+1 -> 13
A33: 14

Sheet 1 - הרצאה
A1: מבוא לחשבונאות פיננסית - שיעור מס׳ 1 | H1: 45594
A3: מטרה והגדרות | J3: חברה >>> סוג של עסק
A4: מטרת החשבונאות הפיננסית [סוג של מערכת לייצור מידע] היא לספק מידע כספי [פיננסי] שימושי לצרכים של קבלת החלטות | J4: מה עסק רוצה >>> לפעול ולהתפתח
A5: כלכליות, בעיקר בהקשר להקצאת משאבים לישות [החברה] המדווחת. | J5: מה הוא צריך לשם כך >>> כסף
J6: מאיפה מגיע הכסף >>> משקיעים
A7: בשפה פשוטה - המידע שמספקת החשבונאות הפיננסית יעזור להשיב על השאלה - האם כדאי להשקיע בחברה? | J7: איך משקיעים ידעו אם להשקיע >>> מידע
A8: או האם בתור בנק, ״הגיוני״ להעניק לחברה הלוואה? | J8: איזה מידע >>> דוחות חשבונאיים
A9: לשם מענה לשאלות אלו, אנו זקוקים למידע לגביה. | J9: לכן זה חשוב!!!
A10: מידע שיעזור להסיק האם ועד כמה החברה צפויה להניב ערך (רווחים / עליית ערך) למשקיעים;
A11: ועד כמה קיים סיכוי גבוה להחזר הקרן והריבית (במקרה של הלוואות).
A12: מידע שמספקת מערכת החוקים והכללים הנקראת ״חשבונאות פיננסית״. | J12: מה ההכנסות? מה ההוצאות? מה הרווח
A14: אז אוקיי, צריך מידע חשבונאי - כדי להצדיק השקעות ולאפשר לעסקים להתפתח - איזה מידע זה? | J14: המצב הכספי כרגע: נכסים <> התחייבויות
A16: א. ביצועים = תוצאות הפעילות = הביצועים של החברה: חיוביים. - יוצרי ערך (הכנסות - למשל מכירות או מתן שירות) | J16: האם כשכסף נכנס מתעדים הכנסה?
A17: נתחיל בהתמקדות בדוח רווח והפסד | E17: ,- צורכים ערך (הוצאות - צריכת שירותים ומשאבים)
C19: דוח = מסמך (מידע). הוא מראה הכנסות, הוצאות ואת ההפרש ביניהן (רווח או הפסד)
C20: בחלוקה לתחומי פעילות - לפי קטגוריות (למשל - הכנסות ממכירות / הכנסות מריבית).
C21: הדוח תמיד מראה ערכים לתקופה (שנה).
A24: כך שלמעשה, בדוח רווח והפסד, הכנסות יתועדו ויירשמו כאשר חברה מבצעת פעילויות כגון מכירה או מתן שירות, גם אם הכסף
A25: טרם הגיע (או שולם בתקופה אחרת). הכנסות, אם כך, משקפות פעילות ולא מזומן.
A27: הוצאות יתועדו ויירשמו כאשר חברה מבצעת פעילויות שצורכות ערך (צריכת שירותים או משאבים) גם אם הכסף משולם
A28: במועד אחר.
A30: המחשה לגבי סוג הערכים בדוח רווח והפסד וחשיבותם: | J30: כאשר מוכרים / מעניקים שירות!
A48: תרגול נוסף - פרקטי יותר לגבי הכנסות והוצאות וההבדל בינן לבין מזומן
I68: חשבונאות פיננסית >>> מידע פיננסי (כספי) >>> לגבי חברות
A69: תרגיל כיתה 1 - תרגול ההכרה בהכנסות והוצאות לפי הגדרתן | I69: מיועד למשקיעים (בעלים ומלווים) - כדי להבין ״אם להשקיע״ או לא
A70: לפניכם נתונים לגבי שווי השירות שחברה סיפקה בתחום חימום הנקניק בכל אחת מהשנים 2020-2024, וכן סכום המזומן
A71: שגבתה בשנים אלו מלקוחותיה: | K71: ואיזה מידע צריך לשם כך?
C73: שנה | D73: שווי שירות שסופק | E73: סכום המזומן שגבתה
C74: 2020 | D74: 100000 | E74: 100000 | I74: שווי פעילויות השנה | M74: המצב הכספי לנקודת זמן (31.12)
C75: 2021 | D75: 150000 | E75: 90000 | I75: השווי הכספי של פעילויות ״מה קרה השנה״ | M75: המצב הכספי
C76: 2022 | D76: 80000 | E76: 120000 | I76: הכנסות והוצאות | M76: נכסים והתחייבויות (והון עצמי)
C77: 2023 | D77: 70000 | E77: 50000 | I77: הכנסות = לפי שווי מכר / שווי שירות שניתן | M77: נכסים = רכוש וחוב כלפי החברה
I78: בלי קשר למועד קבלת המזומן | M78: התחייבויות = כגון הלוואה
A79: נדרש - השלימו את הטבלה הבאה: | I79: הוצאות = במועד צריכת שירותים / משאבים | M79: הון עצמי =
M80: נכסים פחות התחייבויות
C81: שנה | D81: סכום ההכנסה שתוכר ברווח והפסד לשנה זו | M81: כרגע:
C82: 2020 | D82: =D74 -> 100000 | I82: הכנסות בניכוי הוצאות = רווח (או הפסד) | M82: השקעת בעלים
C83: 2021 | D83: =D75 -> 150000 | I83: הדוח הכספי = דוח רווח והפסד | M83: רווח מצטבר (עודפים)
C84: 2022 | D84: =D76 -> 80000
C85: 2023 | D85: =D77 -> 70000
...

Sheet 1 - מושגים
A1: מלאי
A2: פריט בחברה שמוחזק לצורך מכירה שוטפת. למשל - באופיס דיפו ציוד משרדי הוא מלאי.
A3: למשל - באייבורי - מחשבים הם מלאי.
A4: מדוע מלאי הוא נכס? משום שצפויה מכירתו, ובעקבותיה תיווצר הטבה כלכלית (נגבה כסף).
A6: לקוחות:
A7: לקוחות משקפים את סך החוב הכולל של לקוחות החברה כלפיה.
A8: כלומר: ״כמה הלקוחות חייבים לי״.
A9: זהו נכס. מדוע? משום שמדובר בסכום כספי שהחברה אמורה לקבל בעתיד מהלקוח.
A10: כאשר צפויה קבלה של סכום כספי מלקוח = = כניסת הטבה כלכלית בעתיד = = נכס.
A12: חייבים:
A13: חוב כלפי החברה שאיננו של לקוח - כלומר לא נובע מקשרי מסחר רגילים (ממכירה / מתן שירות).
A14: לדוגמא: חוב של רשות המסים כלפיי (החזר מס צפוי)
... A61: התחייבות, ולכן, זהו מקור מימון הוני.

Sheet 1 - תרגול
A1: תרגול עצמי (לא להגשה) לאחר מפגש 1 - מבוא לחשבונאות פיננסית
A3: ביום 31 בדצמבר 2022 מסר לעיונכם מנהל החשבונות של חברת ״מקבוקים״ בע״מ את רשימת יתרות כרטיסי החשבון-
A4: הערכים הכספיים, בחברה זו. זוהי חברה מסחרית העוסקת בשיווק מוצרים שונים, אך איננה מחזיקה מלאי.
A6: נדרש - השלימו את הטבלה: סווגו כל אחד מהערכים לנכסים / התחייבויות / הון / הכנסות / הוצאות.
A7: נסו לבד! הפתרון המלא בהמשך.
A9: חשבון | B9: יתרה כספית בש״ח | C9: נכסים | D9: התחייבויות | E9: הון עצמי | F9: הכנסות | G9: הוצאות
A10: קופת מזומן | B10: 19255
A11: עו״ש בנק | B11: 15401
A12: מכונות | B12: 8208
A13: פיקדון לזמן קצר | B13: 6681
A14: ספקים | B14: 16465
A15: מבנים | B15: 12680
A16: זכאים | B16: 6660
A17: הוצאות טלפון | B17: 14439
A18: לקוחות | B18: 19591
A19: שכר טרחת רואה חשבון | B19: 3612
A20: הון מניות | B20: 6237
A21: חייבים | B21: 2015
... A42: הכנסות ריבית | B42: 12000
A44: פתרון:
A46: חשבון | B46: יתרה כספית בש״ח | C46: נכסים | D46: התחייבויות | E46: הון עצמי | F46: הכנסות | G46: הוצאות
A47: קופת מזומן | B47: 19255 | C47: =B47 -> 19255
A48: עו״ש בנק | B48: 15401 | C48: =B48 -> 15401
A49: מכונות | B49: 8208 | C49: =B49 -> 8208
A50: פיקדון לזמן קצר | B50: 6681 | C50: =B50 -> 6681
A51: ספקים | B51: 16465 | D51: =B51 -> 16465
A52: מבנים | B52: 12680 | C52: =B52 -> 12680
A53: זכאים | B53: 6660 | D53: =B53 -> 6660
A54: הוצאות טלפון | B54: 14439 | G54: =B54 -> 14439
A55: לקוחות | B55: 19591 | C55: =B55 -> 19591
A56: שכר טרחת רואה חשבון | B56: 3612 | G56: =B56 -> 3612
A57: הון מניות | B57: 6237 | E57: =B57 -> 6237
A58: חייבים | B58: 2015 | C58: =B58 -> 2015
A59: פיקדון לזמן ארוך | B59: 3012 | C59: =B59 -> 3012
A60: הלוואה לזמן קצר | B60: 1541 | D60: =B60 -> 1541
A61: הלוואה לזמן ארוך | B61: 1518 | D61: =B61 -> 1518
A62: משיכת יתר (מינוס בבנק) | B62: 11049 | D62: =B62 -> 11049
A63: כלי רכב | B63: 6827 | C63: =B63 -> 6827
A64: עודפים | B64: 10447 | E64: =B64 -> 10447
A65: פטנטים | B65: 17354 | C65: =B65 -> 17354
...

Sheet 2 - הרצאה
A1: מבוא לחשבונאות פיננסית - שיעור מס׳ 2 - התעמקות בעלות המכר | H1: 45966
A2: ועריכת הדוחות הכספיים בכללותם
A4: ראשית, התייחסות לבקשות הקהל:
A5: הבנתי שהיה אתגר מסויים בתרגול ותחושת פער כזו או אחרת, לכן נטפל בה תחילה. אחרי שנסגור את הסוגיה,
A6: נמשיך הלאה לרענון, דיון ומשמעויות בהיבט הדוחות הכספיים של סוגי חשבונות שונים.
A8: רענון:
A9: המפגש הקודם עסק בעיקרו בהגדרות: נכסים (משאבים, צפי להטבה כלכלית) אל מול מקורות המימון ששימשו
A10: בהשגתם (התחייבויות והון עצמי).
A12: ומה מטרת המפגש הנוכחי, אם כך?
A13: השלב הבא הוא לקחת את הסיווג הבסיסי הזה צעד אחד קדימה, ולערוך דוחות כספיים מלאים על בסיס היתרות
A14: הללו. כלומר, נסווג את היתרות בהתאם לנלמד, ולאחר מכן נעסוק במתכונת עריכה מלאה, כולל כזו שמבהירה
A15: את הזהות בין הנכסים לבין ההתחייבויות וההון, וכולל, כמובן, בנייה מלאה של כלל הדיווח.
A17: בקצרה: מסיווג ערכים לדוחות מלאים - בהדגש דוח רווח והפסד - זו המטרה של המפגש שלנו!
... A22: המבנה הכללי של דוח רווח והפסד בחברות שעליהן נדבר הסמסטר - חברות שמוכרות מוצרים:
A24: חלק מההכנסות - נזקפות ל: | C24: מכירות | D24: +
A25: חלק מההוצאות - נזקפות ל: | C25: עלות המכירות | D25: (-)
C26: רווח גולמי | D26: =
C28: ולאחר מכן: סוגים נוספים של הכנסות והוצאות,
C29: שמופיעים בשורות נפרדות / סעיפים נפרדים.
C30: נציג בהמשך.
A35: נושא ראשון - הבנת המשמעות והרכיבים של הוצאה שנקראת ״עלות המכר״ / ״עלות המכירות״
A37: באופן כללי - אנחנו מכירים הרבה ״הוצאות״ = הוצאות חשמל, טלפון, קניות, כיבודים ועוד.
A38: כדי להסדיר דיווח כספי הגיוני - מחלקים את ההוצאות (וגם את ההכנסות) לקטגוריות [סוגים].
A39: ספציפית - אם נביט על שני הסוגים העיקריים של הכנסות והוצאות בחברה, הם כוללים:
B41: מכירות: | C41: הכנסות נטו ממכירות של מוצרים. | F41: קיימים סוגים נוספים של הכנסות והוצאות
B42: עלות המכר: | C42: עלות המוצרים שנמכרו. | F42: אך נתמקד בשני אלו בתור התחלה
A45: הכנסות -
A46: מכירות: | B46: סעיף ״הכנסות ממכירות״ או ״מכירות״ בדוח רווח והפסד משקף את סך שווי המכירות שביצעה
B47: החברה, ואשר מתייחסות למוצרים העיקריים שהיא מוכרת בשוטף.
B49: הסעיף מורכב מ-3 חלקים (ערכים ספציפיים / חשבונות):
B50: מכירות ״ברוטו״ | D50: + | E50: סך המכירות שבוצעו (קרוב לסך החשבוניות)
B51: החזרות מלקוחות | D51: (-)
B52: הנחות מסחריות ללקוחות | D52: (-)
B53: מכירות ״נטו״ = מכירות | D53: =
A55: עלות המכירות: עלות המכירות משקפת את ההוצאה שהיא עלות המוצרים שנמכרו במהלך התקופה.
B56: את עלות המכירות אפשר לחשב בשתי שיטות:
B57: השיטה התמידית - לא תחייב בקורס הזה - כל פריט שנמכר - ארשום את עלותו ב״עלות המכירות״.
B58: השיטה התקופתית - היחידה המחייבת בקורס:
C59: במקום לרשום בכל רגע נתון עלות של כל מוצר שנמכר -
C60: רושמים את כל הקניות (קניות המלאי שהחברה מבצעת), | I60: קניות השנה: 200
...

Sheet 2 - ביאורים
A1: ביאורים = פירוטים בדבר ההרכב ו/או המשמעות של סעיפים שונים בדוחות.
A3: מכירות (כולל התייחסות להנחה מסחרית)
A4: משקף את סך ההכנסות ממכירות המוצרים העיקריים בחברה.
A5: ההרכב:
B6: מכירות ״ברוטו״ | E6: +
B7: בניכוי הנחות מסחריות ללקוחות | E7: (-)
B8: בניכוי החזרות מלקוחות | E8: (-)
B9: מכירות ״נטו״ לצורך הצגה ברווח והפסד | E9: =
A11: במקרה שלנו: אין נתונים על מכירות ברוטו / הנחות וכו׳, אלא סכום המכירות נטו נתון.
A13: למשל, אם היה נתון:
B15: מכירות, ברוטו | D15: 500000
B16: החזרות מלקוחות | D16: 70000
B17: הנחות מסחריות ללקוחות | D17: 20000
A19: אז היינו מחשבים את המכירות נטו כך:
B21: מכירות ״ברוטו״ | E21: =D15 -> 500000
B22: בניכוי הנחות מסחריות ללקוחות | E22: =-D17 -> -20000
B23: בניכוי החזרות מלקוחות | E23: =-D16 -> -70000
B24: מכירות ״נטו״ לצורך הצגה ברווח והפסד | E24: =SUM(E21:E23) -> 410000
A26: הוצאות מכירה ושיווק
A27: כל העלויות שקשורות לפרסום המוצר, הפצתו ושיווקו.
A29: הוצאות פרסום - שילוט חוצות | D29: ='2 - הרצאה'!I332 -> 14000
A30: הוצאות פרסום - שיווק ישיר | D30: ='2 - הרצאה'!I333 -> 11000
A31: עמלת סוכני מכירות | D31: ='2 - הרצאה'!I344 -> 13000
A32: הוצאות שכר ומשכורות - שיווק | D32: ='2 - הרצאה'!I345 -> 23000
A33: סה״כ | D33: =SUM(D29:D32) -> 61000
A35: הוצאות הנהלה וכלליות
A36: זוהי ברירת המחדל לכל ההוצאות שאינן כלולות בעלות המכר / מימון.
A38: הוצאות טלפון | D38: 12000
A39: הוצאות אחזקה | D39: 3000
A40: הוצאות חשמל | D40: 34000
A41: הוצאות רכב | D41: 28000
A42: הוצאות ארנונה | D42: 10000
A43: הוצאות שכר ומשכורות - הנהלה | D43: 52000
A44: סה״כ | D44: =SUM(D38:D43) -> 139000
A46: הכנסות אחרות
A47: מדובר בפריטי הכנסה חריגים, כאלו שמתרחשים לעתים רחוקות יחסית, ואינם חלק מליבת העיסוק
A48: של החברה. כאן, מדובר ברווח הון ממכירת רכוש קבוע (כגון מכירת רכב מנכ״ל).
A49: דוגמאות נוספות תכלולנה: רווח ממכירת מבנים / נדל״ן להשקעה, רווח מדמי שכירות, הכנסה חד פעמית
A50: מייעוץ בחברה מסחרית.
A52: רווח הון ממכירת רכוש קבוע | D52: 14000
...

Sheet 2 - יונית
A2: הסברים והגדרות נוספות לשאלה 4 מחוברת התרגילים - יונית
A4: פחת נצבר כלי רכב:
A5: באופן כללי, ״כלי רכב״ מהווים נכס.
A6: אבל אין ספק גם שכאשר משתמשים בכלי הרכב (או באופן כללי, בפריט רכוש קבוע) תקופה ממושכת,
A7: הוא נשחק, מתבלה, וערכו קטן.
A9: הדרך שבה נתייחס לקיטון בערך / סכום השחיקה (בלאי) = פחת נצבר.
A11: למשל: למאי יש מכונית שעלתה לה 50,000 ש״ח.
A12: נכון ליום 31.12.2020 הפחת הנצבר בגין המכונית: 20,000 ש״ח.
A14: כיצד תוצג המכונית?
A16: בטבלת הסיווגים:
B17: יתרות | C17: נכסים | D17: התחייבויות | E17: הון | F17: הכנסות | G17: הוצאות
A18: מכונית | B18: 50000 | C18: =B18 -> 50000
A19: פחת נצבר | B19: 20000 | C19: =-B19 -> -20000
A21: בדוח על המצב הכספי - רכוש קבוע לפי עלות בניכוי פחת נצבר:
B23: רכוש קבוע | C23: =C18+C19 -> 30000 | E23: 50,000 - 20,000 =
A25: עלות המכירות - הגדרה מלאה על בסיס רכיבים
A26: בתרגיל שפתרנו בכיתה - עלות המכר היתה נתונה.
A27: בתרגיל יונית היא לא נתונה, ויש לחשבה על בסיס רכיביה המפורטים, כדלקמן:
A29: + | B29: מלאי פתיחה 1.1 | E29: 20000 | F29: בשאלת יונית
A30: + | B30: קניות | E30: 220000 | F30: בשאלת יונית
A31: + | B31: הובלה למחסן | E31: 0 | F31: בשאלת יונית ספציפית אין עלות כזו
A32: (-) | B32: החזרות לספקים | E32: 0 | F32: בשאלת יונית ספציפית אין עלות כזו
A33: (-) | B33: הנחות מסחריות מספקים/שהתקבלו | E33: -12000 | F33: בשאלת יונית
A34: (-) | B34: מלאי סגירה 31.12 | E34: -30000 | F34: בהתאם לנתון 2 בשאלת יונית
E35: =SUM(E29:E34) -> 198000
A37: הוצאות פחת
A38: הוצאות בגין שחיקה של פריט רכוש קבוע, ספציפית, השנה.
A39: אלא אם נאמר אחרת - נשייך להנהלה וכלליות.
A41: סוגיית ההנחות - פירוט מלא של אופן ההתייחסות
B44: הנחות מסחריות מספקים / שהתקבלו | E44: קיטון בהוצאות
B45: הנחות מזומן מספקים / שהתקבלו | E45: הכנסות מימון
B46: הנחות מסחריות ללקוחות / שניתנו | E46: קיטון בהכנסות
B47: הנחות מזומן ללקוחות / שניתנו | E47: הוצאות מימון

Sheet 2 - תרגול נוסף
A1: תרגול נוסף לתרגול עצמי (לא להגשה) - מבוא לחשבונאות פיננסית - לאחר הרצאה 2
A4: ביום 31 בדצמבר 2022 מסר לעיונכם מנהל החשבונות של חברת ״פנטומימים״ בע״מ את רשימת יתרות כרטיסי החשבון-
A5: הערכים הכספיים, בחברה זו. זוהי חברה מסחרית העוסקת בשיווק מוצרים שונים.
A7: נדרש - השלימו את הטבלה: סווגו כל אחד מהערכים לנכסים / התחייבויות / הון / הכנסות / הוצאות.
A8: נסו לבד! הפתרון המלא בהמשך.
A10: חשבון | B10: יתרה כספית בש״ח | C10: נכסים | D10: התחייבויות | E10: הון עצמי | F10: הכנסות | G10: הוצאות
A11: קופת מזומן | B11: 406971
A12: עו״ש בנק | B12: 107865
A13: הנחות מסחריות מספקים (שהתקבלו) | B13: 17000
A14: מכונות | B14: 206764
A15: פיקדון לזמן קצר | B15: 68294
A16: ספקים | B16: 60701
A17: שכר טרחת עורך דין | B17: 12000
A18: מבנים | B18: 5000000
A19: זכאים | B19: 233207
A20: הוצאות טלפון | B20: 11000
A21: לקוחות | B21: 271469
A22: שכר טרחת רואה חשבון | B22: 14000
... A31: פחת נצבר כלי רכב | B31: 26223
A32: עודפים ל- 1.1 | B32: ?
A33: פטנטים | B33: 378948
A34: מותגים | B34: 385795
A35: שמות מסחריים | B35: 345777
A36: הנחות מסחריות ללקוחות | B36: 21000
A37: קניות | B37: 200000
A38: הוצאות רכב | B38: 70000
A39: עמלות בנק | B39: 12000
A40: דמי ניהול | B40: 13000
A41: הוצאות שיווק | B41: 19000
A42: הנחות מזומן ללקוחות / שניתנו | B42: 6000
A43: הוצאות פרסום | B43: 4000
A44: עמלות הפצה | B44: 13000
... A51: הכנסות ריבית | B51: 11000
A53: טיפים:
A54: חלק גדול מהמושגים לעיל מוגדרים בשאלת יונית. לאחר התרגול יהיה לכם קל יותר להתמודד עמם.
A55: בינתיים, הוספתי לכם לגיליון 2 - יונית, התייחסות למושגים עיקריים אלו.
A56: כמובן, בשלב זה אין להעמיק בנושאים אלו, אלא רק לדעת עקרונית את הגדרתם. ההעמקה בהם תבוצע במסגרת הדיון בנושאים הבאים.
A57: מאותה הסיבה, אין כל חובה לערוך דוח מלא מורכב על בסיס כל היתרות הללו. את השילובים נבצע בהמשך, כרגע רק להכיר את ההגדרות זה מספיק,
A58: לצד, כמובן תרגילי התרגול ותרגיל הכיתה שהם מעט יותר פשוטים.
A60: חשבון | B60: יתרה כספית בש״ח | C60: נכסים | D60: התחייבויות | E60: הון עצמי | F60: הכנסות | G60: הוצאות
...

Sheet 3 - הרצאה
A1: מפגש מס׳ 3 - רישום חשבונאי בסיסי - פקודות יומן | I1: 45973
A3: מטרת המפגש:
A4: עד כה רק הצגנו הגדרות: אמרנו שלקוחות הם חוב כלפי החברה, ולא ציינו כיצד נוצרו;
A5: הסברנו שנכסים הם משאבים; ולא הגדרנו את תהליך יצירתם.
A6: ולכן - כדי להשלים את הידע - נעסוק היום באופן הרישום והתיעוד המלא של עסקאות ואירועים כלכליים.
A7: לא רק הגדרה - אלא מהן מכלול ההשפעות של עסקה - על נכסים / התחייבויות / הון עצמי / הכנסות / הוצאות.
A9: הדרך שבה מקובל לתאר את מכלול ההשפעות של עסקה - פקודות יומן.
A11: כשעוסקים בפקודות יומן - תיעוד מלא של השפעות עסקה - מקבלים תיאור מילולי מפורט שלה ולא טבלה גולמית.
A13: חיזוק נוסף בנושא עלות מכר ורווח גולמי (בסמסטר 2025א למדנו את זה במפגש 2, לכן לא נעבור לע זה רק תתרגלו בבית)
A15: דוח רווח והפסד נפתח בחברה מסחרית (חברה שקונה ומוכרת מוצרים כעיסוק עיקרי) בשורות הבאות:
A17: (*) | B17: מכירות (מכירות המוצרים העיקריים בחברה) - הכנסות | F17: +
A18: (**) | B18: עלות המכירות (עלות המוצרים שנמכרו) - הוצאה | F18: (-)
B19: רווח גולמי - ההפרש בין המכירות לעלות המכר | F19: ,=
A21: רווח גולמי הוא הרווח הבסיסי ביותר - המייצג את ההפרש בין ההכנסות העיקריות בחברה (ממכירות)
A22: לבין העלות הבסיסית ביותר - עלות המוצרים שנמכרו.
A24: נפעל כעת להגדרת וחישוב כל אחדת מהסעיפים הבונים את הרווח הגולמי:
A26: מכירות (*) = מכירות נטו: | F26: עלות המכירות (**):
A27: מכירות ברוטו | D27: + | F27: מלאי פתיחה | G27: + | H27: מלאי לתחילת השנה
A28: בניכוי החזרות מלקוחות | D28: (-) | F28: קניות, נטו | G28: + | H28: קניות בניכוי הנחות והחזרות
A29: בניכוי הנחות מסחריות ללקוחות / שנתתי | D29: (-) | F29: מלאי סגירה | G29: (-) | H29: מלאי לתום השנה
A30: סך הכל מכירות נטו | D30: = | F30: סך עלות המכר | G30: =
A32: הנחה מסחרית: כל הנחה שאיננה הנחת מזומן.
A33: הנחות מזומן הן הוצאות מימון / הכנסות מימון, | F33: נניח: לתחילת שנה 1.1.2020
A34: ואינן נכללות במכירות / בעלות המכירות. | F34: מלאי פתיחה בעלות 100 ש״ח
I35: מלאי פתיחה + קניות
I36: 400
F37: במהלך השנה 2020:
F38: קניות בהיקף 300 ש״ח
A41: איך ניתן לחלץ את X - עלות המלאי שיצא - עלות המכר? | F41: במהלך השנה 2020:
D42: X = 100 + 300 - 120 = 280 | F42: הוצאתי מלאי בהיקף X | I42: 400-120=280
A43: או:
B44: מלאי פתיחה | C44: 100
B45: קניות, נטו | C45: 300 | F45: בתום השנה 31.12.2020:
B46: מלאי סגירה | C46: -120 | F46: מלאי סגירה בעלות 120 ש״ח
B47: עלות המכר | C47: =SUM(C44:C46) -> 280
A50: כדי להשלים את הדיון - ההגדרה האחרונה שנחדד היא קניות נטו:
B52: קניות נטו:
B53: קניות ברוטו | D53: + | E53: ״קניות״
B54: הובלה למחסן | D54: +
B55: החזרות לספקים | D55: (-)
...

Sheet 3 - תרגול נוסף
A1: מפגש מס׳ 3 - תרגול נוסף של פקודות יומן ותוספת קטנטנה - ריכוז הפקודות ליתרות | I1: 44879
A3: המטרה שלנו במפגש זה היא להמשיך ולתרגל את נושא פקודות היומן, ולאחר התרגול, להציג את טכניקת הרישום המקובלת
A4: לתיעוד ערכים לשם צבירת יתרות במסגרת ״כרטיסי חשבון״ ו״מאזן בוחן תלת טורי״.
A6: למי שעדיין מתקשה בפקודות יומן ופספס - סרטון עזר מאד חובבני אך שקיבל פידבקים טובים מאד מסטודנטים, נמצא כאן:
H7: https://youtu.be/yBkNCQvDNCw
A9: התרגיל
A10: חברת ״מקינטה הקטנה״ בע״מ (להלן: ״החברה״) היא חברה מסחרית העוסקת במגוון רחב של פעילויות עסקיות. להלן נתונים
A11: בדבר עסקאות ואירועים שהתרחשו בחברה בשנת הקמתה (החברה הוקמה ב-1.1.2018):
A12: א. החברה הנפיקה 200,000 מניות בנות 1 ש״ח ערך נקוב כל אחת בתמורה ל-200,000 ש״ח.
A13: ב. החברה נטלה הלוואות לזמן ארוך בסכום של 70,000 ש״ח.
A14: ג. החברה שילמה הוצאות ריבית בגין הלוואות לזמן ארוך בסך של 7,000 ש״ח.
A15: ד. החברה ביצעה קניות מספקים בעלות של 40,000 ש״ח. מתוך סכום זה, 10,000 ש״ח שולמו במזומן והיתרה טרם שולמה.
A16: ה. החברה ביצעה מכירות שכל כל הקניות - ללקוחות בהיקף של 100,000 ש״ח, מתוכן 44,000 ש״ח במזומן והיתרה באשראי לקוחות.
A17: ו. החברה שילמה הוצאות חשמל בסך 15,000 ש״ח.
A18: ז. החברה שילמה הוצאות פרסום בסך 4,000 ש״ח.
A19: ח. החברה רכשה מקבוקים לעובדי המשרד בסך 8,000 ש״ח.
A20: ט. החברה נטלה הלוואה לזמן קצר בסך 10,000 ש״ח.
... A29: תזכורת - כללי יסוד:
C30: נכסים | D30: = | E30: התחייבויות + | F30: הון עצמי
F31: הון מניות | G31: הכנסות (+) | H31: הוצאות (-)
A32: טבלת פקודות יומן בהתאם לכלל היסוד:
C33: גידול - בחובה | E33: גידול - בזכות
C34: קיטון - בזכות | E34: קיטון - בחובה
A39: א. החברה הנפיקה 200,000 מניות בנות 1 ש״ח ערך נקוב כל אחת בתמורה ל-200,000 ש״ח.
C40: נכסים | D40: = | E40: התחייבויות + | F40: הון עצמי
F41: הון מניות | G41: הכנסות (+) | H41: הוצאות (-)
C42: מזומן
C43: 200000 | F43: 200000
A45: חובה מזומן | B45: =C43 -> 200000
A46: זכות הון מניות | B46: =B45 -> 200000
A51: ב. החברה נטלה הלוואות לזמן ארוך בסכום של 70,000 ש״ח.
C52: נכסים גידול-חובה קיטון-זכות | D52: = | E52: התחייבויות והון עצמי גידול-בזכות קיטון-חובה
E53: התחייבות: הלוואה | F53: הון מניות | G53: הכנסות (+) | H53: הוצאות (-)
C54: מזומן
C55: 70000 | E55: 70000
A57: חובה מזומן | C57: =C55 -> 70000
A58: זכות הלוואה לזמן ארוך | C58: =C57 -> 70000
A61: ג. החברה שילמה הוצאות ריבית בגין הלוואות לזמן ארוך בסך של 7,000 ש״ח.
C62: נכסים גידול-חובה קיטון-זכות | D62: = | E62: התחייבויות והון עצמי גידול-בזכות קיטון-חובה
E63: התחייבות: הלוואה | F63: הון מניות | G63: הכנסות (+) | H63: הוצאות (-)
...

Sheet 4 - הרצאה
A1: מבוא לחשבונאות פיננסית - שיעור מס׳ 4 | H1: 45980
A2: סרטון לתרגול נוסף | E2: https://youtu.be/WBmwt2wrMco
A3: נושא על: הכרה בהכנסות ובהוצאות - כולל רישומי התאמה / חשבונות חתך
A4: מטרה:
A5: לחדד ולהדגיש את הפער העקרוני בין עיתוי כניסה ויציאת מזומנים, לבין עיתוי הפעילות שבגינה נרשמות הכנסות
A6: או הוצאות.
A7: לחדד את אופן רישום פקודות היומן הקשורות, והמעגל החשבונאי השלם של התהליך בעסקאות לשירות מתמשך
A8: בכללותן.
A10: תהליך חשבונאי - תכל׳ס מה עושים:
A11: א. רישום בסיסי של ההכנסה / ההוצאה ברמת הנהלת החשבונות - לפי עיתוי האסמכתא (להנחתנו, עיתוי זרימת המזומן). | I11: רישום לפי תשלום
A12: ב. אמידת סכום ההכנסה / ההוצאה בפועל, בהתאם לשווי השירות שנצרך / סופק. | I12: לדיווח הכנסה/הוצ׳: לפי שווי השירות
A13: ג. אמידת הערך ההפרשי המצטבר בין סכומי ההכנסות / ההוצאות לבין סכומי המזומן המצטברים ששולמו / התקבלו. | I13: חישוב הפרש מצטבר בין הערכים
A14: ד. רישום פקודת יומן מתאימה לעדכון ההפרש (פקודת התאמה / פקודת חתך). | I14: תיעוד ההפרש / השינוי
A16: לא מספיק ברור? הבה נדגים.
A18: אז בעצם - מה מטרת המפגש - ״הכרה בהכנסות ובהוצאות - תהליך הרישום ופקודות התאמה / חתך״
A28: מנהלת החשבונות בחברה - מקבלת לתיעוד | F28: רגע! מה זה השטויות האלה? | J28: אני החשבונאי אדאג
A29: את ״החשבוניות והקבלות״ | F29: למה כל הסכומים שהתקבלו | J29: לבצע למענכם פקודת
A30: עליה לתעד כל יום את כל העסקאות | F30: במזומן דווחו כהכנסה? | J30: התאמה:
A31: בהתאם לחשבוניות וקבלות שהיא מקבלת | F31: הרי הכנסה צריכה לשקף בדיווחים | J31: לתקן ולעדכן את הרישום
F32: למשקיע רק את שווי השירות | J32: השוטף לערכים שבאמת
A33: שאלה: נניח שמנהלת החשבונות מקבלת | F33: שסיפקנו, את הביצועים - לא | J33: משקפים את שווי
A34: חשבונית שכתוב עליה ״העברה בנקאית | F34: את התקבולים | J34: השירות שסופק
A35: עבור שירות - 100,000 ש״ח״
A36: האם לדעתכם יש למנהלת החשבונות זמן
A37: ללכת ולבדוק עם מנהלי הפרויקט איפה
A38: השירות הזה עומד? איזה חלק ממנו סופק?
A39: מה סטטוס הביצוע של הפרויקט?
A41: התשובה: לא. היא תרשום את העסקה
A42: לפי הסכום בחשבונית. אם כתוב שהתקבל עבור שירות - היא רושמת הכנסה.
A44: תהליך העבודה - מרמת הנהלת החשבונות לרמת ההתאמה והדוח - תיאור יותר טכני
A46: בהנהלת החשבונות: | C46: בבקרה התקופתית שמבצעים, | E46: הגדרה - יתרת חתך: | G46: פקודת התאמה
A47: רושמים בפקודה את העסקאות | C47: עורכים בדיקה - מגלים את הערך / | E47: מי חייב למי וכמה | G47: פקודת החתך
A48: לפי סכום המזומן | C48: את השווי של השירות שסופק/נצרך | G48: פקודה ש״מתקנת״
G49: את הפקודה של הנהלת
A50: ח׳ מזומן. ז׳ הכנסות | C50: סכום הכנסה: שווי שירות שסופק | G50: החשבונות לערך השווי
A51: ח׳ הוצאות. ז׳ מזומן | C51: סכום הוצאה: שווי שירות שנצרך | G51: הרלוונטי
A53: תרגיל 0 - הכנסות, הוצאות, פעולות התאמה (פקודות התאמה) ויתרות חתך | H53: בוצע עם קבוצת 12:15
A54: חברת ״אייפון של טחונים״ בע״מ התקשרה בהסכם למתן שירותים חברת ביאן בע״מ. | H54: קבוצת 9:15 - השתמשו בתרגיל זה לתרגול נוסף!
A55: להלן הנתונים לגבי שווי השירות שסיפקה חברת אייפון בכל שנה, וכן סכום המזומן שקיבלה מהלקוחה בכל שנה:
C57: שנה | D57: סכום המזומן שהתקבל - אלפי ש״ח | E57: שווי השירות שסופק - אלפי ש״ח
...

Sheet 5 - הרצאה
A1: מבוא לחשבונאות פיננסית - שיעור מס׳ 5 | H1: 45987
A2: תזכורת וחיבור למפגש הקודם - חתך והכרה בהכנסות ובהוצאות:
A4: הנהלת חשבונות: | C4: רישום הכנסה על בסיס מזומן (אסמכתא)
A5: דיווח סופי ברווח והפסד: | C5: לפי שווי השירות שסופק.
A6: פקודת התאמה/פקודת חתך: | C6: פקודה לתיקון / התאמת פקודת הנהלת החשבונות לדיווח הסופי ברווח והפסד.
A7: הכנסות מראש: | C7: חשבון המייצג התחייבות, הפרש מצטבר חיובי בין סך התקבולים לבין סך השירות שסיפקה החברה
A8: הכנסות לקבל: | C8: חשבון המייצג נכס, הפרש מצטבר חיובי בין סך השירות שסופק לסך התקבולים מהלקוח
A10: אז מה בתפריט היום?
A12: א. השלמת הסיטואציה של תהליך הרישום - הנה״ח, דיווח, יתרת חתך, פקודת חתך ---- מצד צריכת השירותים, ובפרט:
A13: הוצאות מראש: | C13: חשבון המייצג נכס, הפרש מצטבר חיובי בין סך התשלומים לבין סך שווי השירות שנצרך
A14: הוצאות לשלם: | C14: חשבון המייצג התחייבות, הפרש מצטבר חיובי בין סך השירות שנצרך לבין סך התשלומים
A16: ב. פתרון במגוון טכניקות של שאלות חתך מורכבות יותר בכל ההקשרים הרלוונטיים.
A18: שאלה 1
A19: חברת ״בולגיטו״ צרכה שירותי ייעוץ בתחום הנקניק. להלן נתונים בדבר שווי השירות שנצרך, לצד התשלומים שבוצעו בכל
A20: אחת מהשנים בהתאם לסיכום עם הספק:
B22: שנת | C22: מזומן ששולם | D22: שירות שנצרך
B23: הפעילות | C23: ע״י בולגיטו | D23: ע״י בולגיטו
B24: הכספית | C24: אלפי ש״ח | D24: אלפי ש״ח
B25: 2016 | C25: 320 | D25: 150
B26: 2017 | C26: 110 | D26: 180
B27: 2018 | C27: 70 | D27: 170
B28: 2019 | C28: 80 | D28: 220
B29: 2020 | C29: 460 | D29: 320
B30: סה״כ | C30: =SUM(C25:C29) -> 1040 | D30: =SUM(D25:D29) -> 1040
A32: נדרש - השלימו את הטבלה הבאה (א) מהן פקודות היומן שנרשמו בהנהלת חשבונות (ב) מהי ההוצאה ברווח והפסד (ג) מהי פקודת החתך
A33: וכן (ד) מהי יתרת החתך לתום כל אחת מהשנים 2016 - 2020.
B35: פקודה להוצאה | C35: הוצאה | D35: יתרת התחשבנות (מצטברת) | F35: פקודת התאמה = פקודת חתך
B36: שנרשמה | C36: בדוח | D36: מצטברת | F36: אם יוצרים/מגדילים נכס (הוצ׳ מראש) - ח׳
B37: בהנהלת | C37: רווח והפסד | D37: שבהקשר להוצאות | F37: אם יוצרים/מגדילים התחייבות (הוצ׳ לשלם) - ז׳
B38: חשבונות | C38: לפי שווי | D38: תהיה הוצאות מראש | F38: אם מכירים בהוצ׳ נוספת - ח׳
A39: שנה | B39: על בסיס מזומן | C39: הפעילות | D39: או לשלם | F39: אם מקטינים הוצ׳ - ז׳
A40: 2016 | B40: ח׳ הוצאות 320 ז׳ מזומן 320 | C40: 150 | D40: הוצאות מראש (נכס) 170 | F40: ח׳ הוצאות מראש 170 ז׳ הוצאות 170
A41: 2017 | B41: ח׳ הוצאות 110 ז׳ מזומן 110 | C41: 180 | D41: הוצאות מראש (נכס) 100 | F41: ז׳ הוצאות מראש 70 ח׳ הוצאות 70
A42: 2018 | B42: ח׳ הוצאות 70 ז׳ מזומן 70 | C42: 170 | D42: 0 | F42: ז׳ הוצאות מראש 100 ח׳ הוצאות 100
A43: 2019 | B43: ח׳ הוצאות 80 ז׳ מזומן 80 | C43: 220 | D43: הוצאות לשלם (התחייבות) 140 = 580 - 720 | F43: ח׳ הוצאות 140 ז׳ הוצאות לשלם 140
A44: 2020 | B44: ח׳ הוצאות 460 ז׳ מזומן 460 | C44: 320 | D44: 0 | F44: ח׳ הוצאות לשלם 140 ז׳ הוצאות 140
A46: הסברים נוספים:
A47: בשאלה זו דנים בהוצאות (למה הוצאות ולא הכנסות? כי החברה משלמת / צורכת שירות).
A48: פקודת היומן בהנה״ח (הנהלת חשבונות) לפי מזומן תמיד תהיה: ח׳ הוצאות , ז׳ מזומן
A49: ההוצאה בדוח רווח והפסד = שווי הפעילות (ללא פקודה, הסכום עצמו).
...

Sheet 5 - תרגול 1
A1: הרחבה זו רלוונטית לתרגיל ״נתחשבן בהמשך״ מחוברת הקורס שנפתרה בתרגול עם חן / גל - פתרון חלק מהאירועים בגישה שהצגנו
A3: טיפ: לפני שניגשים לתרגיל זה יש לפתור את שאלה 3 מהרצאה 5 במלואה שבנויה בצורה דומה מאד מבחינת
A4: ניסוח הסעיפים. להלן יוצג לבקשתכם פתרון מפורט לחלק מהסעיפים בצורת ההצגה הכיתתית.
A6: אירוע 1: תחילה נתרגם אותו לטבלה המקובלת:
B8: שירות | C8: מזומן
A9: 2010 | B9: =15000*9/12 -> 11250 | C9: 45000 | D9: שימו לב, השירות החל ב-1.4.2010. לכן, למרות שהעלות השנתית
A10: 2011 | B10: 15000 | C10: 0 | D10: היא 15,000 לפי 45,000/3, הרי שיש לכפול ערך זה ב-9/12
A11: 2012 | B11: 15000 | C11: 0 | D11: כדי להגיע לעלות הצריכה הספציפית ב-2010: 11,250 = 9/12 * 15,000
A12: 2013 | B12: =15000-B9 -> 3750 | C12: 0
B14: פקודה להוצאה | C14: הוצאה | F14: יתרת
B15: שנרשמה | C15: בדוח | F15: התחשבנות
B16: בהנהלת | C16: רווח והפסד | F16: מצטברת
B17: חשבונות | C17: לפי שווי | D17: פקודת התאמה | F17: בין הצדדים
B18: על בסיס מזומן | C18: הפעילות | D18: או ״פקודת חתך״ | F18: ״יתרת חתך״
A19: 2010 | B19: ח׳ הוצאות 45 ז׳ מזומן 45 | C19: 11.25 | D19: ח׳ הוצאות מראש 37.5 ז׳ הוצאות 33.75 | F19: הוצאות מראש (נכס) 33.75
A21: אירוע 2: תחילה נתרגם לטבלה המקובלת
B23: שירות | C23: מזומן
A24: 2010 | B24: 5000 | C24: 10000
A25: 2011 | B25: 5000 | C25: 0
B27: פקודה להוצאה | C27: הוצאה | F27: יתרת
B28: שנרשמה | C28: בדוח | F28: התחשבנות
B29: בהנהלת | C29: רווח והפסד | F29: מצטברת
B30: חשבונות | C30: לפי שווי | D30: פקודת התאמה | F30: בין הצדדים
B31: על בסיס מזומן | C31: הפעילות | D31: או ״פקודת חתך״ | F31: ״יתרת חתך״
A32: 2010 | B32: ח׳ הוצאות 10 ז׳ מזומן 10 | C32: 5 | D32: ח׳ הוצאות מראש 5 ז׳ הוצאות 5 | F32: הוצאות מראש (נכס) 5
A34: הסבר: העלות במזומן 10,000, מחצית על 2010 זה אומר ששווי השירות ב-2010 הוא 5,000.
A35: לכן ההוצאה ברווח והפסד ב-2010 היא 5,000.
A36: כמובן שהואיל ושילמנו מראש, יווצר נכס הוצאות מראש בסך 5,000 לתום שנה.
A52: שאלה נוספת: | J52: פתרון השאלה הנוספת:
J54: אירוע 1
J56: פקודה להכנסה | L56: הכנסה | O56: יתרת
J57: שנרשמה | L57: בדוח | O57: התחשבנות
J58: בהנהלת | L58: רווח והפסד | O58: מצטברת
J59: חשבונות | L59: לפי שווי | M59: פקודת התאמה | O59: בין הצדדים
J60: על בסיס מזומן | L60: הפעילות | M60: או ״פקודת חתך״ | O60: ״יתרת חתך״
I61: 2012 | J61: ח׳ מזומן 100,000 | L61: =600*100 -> 60000 | M61: ח׳ הכנסה 40,000 | O61: הכנסות מראש (התחייבות) 40,000
J62: ז׳ הכנסה 100,000 | M62: ז׳ הכנסות מראש 40,000
I63: 2013 | J63: ח׳ מזומן 24,000 | L63: =400*100+2000*2 -> 44000 | M63: ח׳ הכנסות מראש 20,000 | O63: הכנסות מראש (התחייבות) 20,000
J64: ז׳ הכנסה 24,000 | M64: ז׳ הכנסה 20,000
J66: הסבר:
...

Sheet 6 - הרצאה
A1: מפגש 6 - לקוחות והלח״מ 3.12.2025
A3: נושא חדש - מיקוד ספציפי -לקוחות והלח״מ
A5: רקע, מטרות וקישור לחומר הנלמד:
A7: עד כה עסקנו ב:
A8: א. מטרת הדוחות הכספיים (מצב כספי - נכסים, התחייבויות והון, ותוצאות פעילות - רווח והפסד).
A9: ב. הצגנו את תהליך הרישום החשבונאי הבסיסי ופקודות היומן וריכוזיהן.
A10: ג. התמקדנו בדיון בהכרה בהכנסות ובהוצאות על בסיס הנשען על פעילויות ולא על עיתוי המזומן, כולל התאמות
A11: הנובעות מכך בתהליך הרישום השוטף (פקודות ויתרות חתך).
A13: כעת:
A14: מטרתנו בשיעורים הקרובים היא להעמיק ברכיבים ספציפיים של הדיווח, ובפרט - באופן מדידתם של נכסים שונים.
A15: הנכס הראשון שנעסוק במדידתו הוא נכס הלקוחות.
A17: לקוחות - הגדרה:
... A29: לא ייגבו, הלקוחות נטו יוצגו בדוח על המצב הכספי כדלקמן:
C31: ש״ח
A32: לקוחות, ברוטו | C32: 100000 | D32: סך החוב הכולל / המשפטי של לקוחות החברה כלפיה
A33: הלח״מ | C33: -20000 | D33: הפרשה לחובות מסופקים = הלח״מ, חוב שגבייתו מוטלת בספק (בסיכון)
A34: לקוחות, נטו - לנכסים במאזן | C34: =C32+C33 -> 80000 | D34: סעיף הלקוחות שיוצג בדוח הסופי - במאזן.
A36: ואם כך, הדיון מבחינתנו בלקוחות יכלול:
A37: הבנה של האירועים שמשפיעים על הלקוחות ברוטו או על החוב ברוטו (מכירות באשראי + ; גבייה מלקוחות (-))
A38: לחשב ולהבהיר את המשמעות של החלק הבעייתי בחוב - ההלח״מ.
A39: להציג את הלקוחות נטו כנכס במאזן: לקוחות ברוטו פחות ההלח״מ.
A40: לבטא את ההוצאה השנתית הנובעת מעלייה בהיקף החובות הבעייתיים = הוצאות הלח״מ.
A42: אפשר תרגיל שלם? ברמת בחינה?
A43: כן.
A45: תרגיל 1 - שלם - ברמת בחינה - שדרכו נחדד גם את ההגדרות הנוספות (שי פותר)
A46: חברת ״נקניקי החורף״ הוקמה ב-1.1.2020. החברה עוסקת במגוון רחב של פעילויות עסקיות, ובעיקר ממכר נקניק חם.
A47: להלן נתונים ועסקאות שהתרחשו בחברה במועדים שונים:
A49: א. במהלך 2020 ביצעה החברה מכירות בהיקף של 1,000,000 ש״ח. מתוך סכום מכירות כולל זה, מכירות בסך | I49: רק המכירות באשראי יגדילו את
A50: של 800,000 ש״ח בוצעו במזומן, והיתר באשראי. | I50: הלקוחות (בחובה)
A52: ב. במהלך 2020 ביצעה החברה גבייה מלקוחות אשר להם מכרה באשראי, בסכום של 70,000 ש״ח. | I52: גבייה מלקוחות מקטינה את חובם
I53: כלפיי (הלקוחות קטנים - בזכות)
A55: ג. נכון ליום 31.12.2020 שיעור ההלח״מ בחברה הוא 10%. | I55: עלינו לחשב את יתרת (ערך מצטבר)
I56: הלקוחות ברוטו - ו 10% ממנה זה החוב
I57: הבעייתי = הלח״מ.
A59: ד. במהלך 2021 ביצעה החברה מכירות באשראי בהיקף של 500,000 ש״ח. | I59: מכירות באשראי יגדילו את הלקוחות (בחובה)
A61: ה. במהלך 2021 גבתה החברה מלקוחות סכום של 320,000 ש״ח. | I61: גבייה מלקוח: חוב הלקוח ברוטו קטן (זכות)
A63: ו. במהלך 2021 התגלו ונרשמו חובות אבודים בסך 4,000 ש״ח. | I63: מקטין את ההלח״מ (בחובה)
I64: מקטין את הלקוחות ברוטו (בזכות)
A66: ז. נכון ליום 31.12.2021 שיעור ההלח״מ בחברה נותר על 10%.
A68: נדרש: חשבו את יתרת הלקוחות נטו ואת הוצאות ההלח״מ. בתשובתכם, התייחסו למילוי הכרטיסים הבאים:
...

Sheet 6 תרגול נוסף
A1: פתרון מלא - שאלה 26 - חברת ״מרגין״ - לקוחות והלח״מ | H1: לקוחות, ברוטו | J1: הלח״מ | L1: הוצאות הלח״מ
G2: פרטים | H2: חובה | I2: זכות | J2: חובה | K2: זכות | L2: חובה | M2: זכות
F3: 3 | G3: יתרת פתיחה | K3: 120000
F4: 1 | G4: מכירות 2012 | H4: 3500000
F5: 2 | G5: חוב אבוד | I5: 100000 | J5: =I5 -> 100000
F6: PN | G6: הוצ׳ הלח״מ | K6: 85000 | L6: =K6 -> 85000
F7: (*)5 | G7: 41274 | H7: =I17 -> 2100000 | I7: 0.05 | K7: =H7*I7 -> 105000
F9: (*) | G9: יתרת הלקוחות (ברוטו) ליום 31/12/2012 שגויה.
G10: נתון ששתי עסקאות שמשפיעות על הלקוחות לא נרשמו:
G11: חוב אבוד (נתון 2) בסך 100,000 שלא קיבל ביטוי >>> קיטון בלקוחות ברוטו וגם בהלח״מ.
G12: מכירה באשראי בסיף 200,000 שלא קיבלה ביטוי >>> גידול בלקוחות ברוטו.
G14: לקוחות ברוטו לפני תיקונים: | I14: 2000000
G15: הפחת: חוב אבוד | I15: =-100000 -> -100000
G16: הוסף: מכירה באשראי | I16: 200000
G17: לקוחות ברוטו מעודכן 31/12 | I17: =SUM(I14:I16) -> 2100000 | L17: 2,000,000 - 100,000 + 200,000 =
G19: סיכום:
G20: כאשר אני מקבל שאלה, שבה כבר נתנו לי (כנתון) את יתרת הלקוחות ברוטו לתום השנה,
G21: אני לא מחשב אותה בעצמי (כמו בתרגילים מהכיתה) אלא לוקח אותה ״כמו שהיא״ ורק
G22: מוסיף או מחסיר ממנה תיקונים בגין עסקאות שלא נרשמו.
G23: לאחר שיתרת הסגירה המתוקנת בידי, אשבץ את החוב האבוד בתנועות ואמשיך כרגיל:
G24: חישוב יתרת סגירה הלח״מ וחילוץ הוצאות הלח״מ.
G25: בהחלט אפשרי גם לבצע חילוץ לאחור של התנועות; אלא שחילוץ זה עשוי לעורר מורכבות
G26: מסוימת בתהליך החישובי. ולכן, כל עוד ההתמקדות היא בלקוחות נטו ובהוצאות ההלח״מ,
G27: אפשר בהחלט להימנע מהחילוץ המלא, ורק לתקן את הלקוחות, להתייחס לאבוד, ולחלץ.
F29: נדרש 1: | G29: כשרוצים לדעת מהי יתרת ״כרטיס הלקוחות״ מתכוונים ללקוחות ברוטו.
G30: לכן, תשובתנו לנדרש 1 היא 2,100,000 ש״ח.
F32: נדרש 2: | G32: ההוצאה לחובות מסופקים (הוצאות הלח״מ): 85,000.
F34: נדרש 3: | G34: יתרת סגירה הלח״מ: 105,000.
F36: נדרש 4: | G36: תמיד כשדורשים את סעיף הלקוחות בדיווח הכספי, הכוונה היא ללקוחות ״נטו״ כלומר
G37: ליתרה ברוטו בניכוי יתרת ההלח״מ:
G39: לקוחות ברוטו | I39: 2100000
G40: בניכוי יתרת הלח״מ | I40: -105000
G41: לקוחות, נטו = לדיווח | I41: =I39+I40 -> 1995000 | J41: תשובה סופית לנדרש 4
A42: שאלה 23 - הכסף האבוד (קלה יותר)
H44: לקוחות, ברוטו | J44: הלח״מ | L44: הוצאות הלח״מ
G45: פרטים | H45: חובה | I45: זכות | J45: חובה | K45: זכות | L45: חובה | M45: זכות
F46: 4 | G46: יתרת פתיחה | K46: 80000
F47: 1 | G47: מכירות | H47: 5000000
F48: 2 | G48: חוב אבוד | I48: 50000 | J48: =I48 -> 50000
F49: 3 | G49: מכירה | H49: 20000 | I49: לא קריטי לרשום
...

Sheet 5,6 תרגול נוסף
A1: תרגולים לתכני הרצאות 5-6 - מבוא לחשבונאות פיננסית - תרגולים נוספים בנושאי חתך והלח״מ / לקוחות
A3: מטרת על:
A4: לתרגל ולהראות מגוון ניסוחים רלוונטיים לשאלות בשני נושאים משמעותיים אלו (חתך והלח״מ).
A6: תרגיל 1:
A7: ב-1 בינואר 2014 חתמה חברה על הסכם שבמסגרתו תספק שירותים לחברה אחרת בשווי כולל של 600,000 ש״ח.
A8: השירות אמור להינתן במהלך שלוש שנים.
A9: בהנחה שתמורת העסקה התקבלה בשלמותה מיד במועד החתימה על ההסדר, נדרש:
A10: א. מהי פקודת היומן שתירשם בהנהלת החשבונות של החברה (על בסיס מזומן) - בכל שנה.
A11: ב. מהו סכום ההכנסה שתוכר בספרי החברה בכל אחת מהשנים.
A12: ג. מהי פקודת ההתאמה / החתך בכל אחת מהשנים.
A13: ד. מהי יתרת החתך לתום כל אחת מהשנים.
A15: שנה | B15: פקודת יומן - הנה״ח | D15: סכום הכנסה (פעילות) | F15: פ. התאמה | H15: יתרת חתך
A16: 2014 | B16: ח׳ מזומן 600,000 | D16: 1/3 * 600,000 = 200,000 | F16: ח׳ הכנסות 400,000 | H16: הכנסות מראש | I16: 400000
B17: ז׳ הכנסה 600,000 | F17: ז׳ הכנסות מראש 400,000 | H17: התחייבות
A19: 2015 | B19: אין תשלום / אין רישום | D19: 1/3 * 600,000 = 200,000 | F19: ח׳ הכנסות מראש 200,000 | H19: הכנסות מראש | I19: 200000
F20: ז׳ הכנסות 200,000 | H20: התחייבות
A22: 2016 | B22: אין תשלום / אין רישום | D22: 1/3 * 600,000 = 200,000 | F22: ח׳ הכנסות מראש 200,000 | H22: אין יתרת חתך | I22: 0
F23: ז׳ הכנסות 200,000
A24: תרגיל 2:
A25: בדיון סוער שנערך בחשבות החברה שבה אתם עובדים, נאמר על ידי החשב:
B26: ״ | C26: ברצוני להסב את לבכם, הנהלה יקרה, לכך שחל עיוות בהוצאות השכר והמשכורות המדווחות
C27: בדוח רווח והפסד.
C28: לפי נתוני הוצאות השכר שהגיעו לידיי, הן מסתכמות ב-44,000 ש״ח; אך נתון זה לא מביא בחשבון
C29: את שכר דצמבר השנה | E29: ״
A31: לעומתו, טען סמנכ״ל משאבי האנוש:
B32: ״ | C32: אתה זה שטועה, חשב יקר. אנחנו נמצאים ב-31.12. המשמעות היא שמשכורות דצמבר טרם שולמו,
C33: ולכן, אין שום היגיון להכיר בהוצאות שכר נוספות בגין דצמבר (הן תשולמנה ב-10.1 של השנה הבאה) ״
A35: נדרש:
A36: בהנחה שהוצאות השכר מתפלגות באופן אחיד על פני השנה:
A37: א. מי מהם צודק.
A38: ב. מהי פקודת היומן שנרשמה בהנהלת החשבונות בגין השכר המופיע במערכת.
A39: ג. האם נדרשת פקודת התאמה? במידה ולא, הסבירו מדוע. במידה וכן, רשמו אותה.
A41: פתרון תרגיל 2:
A42: א. מאד חשוב לזכור: הגורם שיקבע את גובה ההוצאה הוא שווי השירות שנצרך - ולא התשלום שבוצע.
A43: ספציפית לגבי שכר - כל עוד מדובר בשירות עבודה שניתן השנה, לא משנה בגין איזה חודש, ולא משנה מתי ישולם - ערכו הוא חלק
A44: מההוצאות השנה.
A46: ספציפית כאן: שכר דצמבר השנה חייב להירשם כחלק מהוצאות השנה בדוחות, גם אם טרם שולם.
A47: לכן החשב צודק.
A49: ב. בהנהלת החשבונות - רושמים פקודת יומן למתן ביטוי להוצאות השכר לפי הסכום ששולם בפועל.
A50: הואיל ונתון ששולמו בפועל במזומן 44,000 ש״ח, מנהל החשבונות ירשום את הפקודה:
...

Sheet 7 - הרצאה חדשה
A1: הרצאה 7 - רכוש קבוע: 10/12/2025
A4: רקע - נכסים שוטפים:
A5: במפגשים הקודמים, דיברנו על נכסים שוטפים.
A6: למה הכוונה ב״נכסים שוטפים״?
A7: אלו הם נכסים שפרק הזמן הצפוי עד למימושם (עד לקבלת ההטבה הגלומה בהם) שנה או פחות.
A8: והענקנו לנכסים אלו דוגמא בולטת -
A9: א. לקוחות - זהו נכס שוטף, הואיל ובדרך כלל, צופים לקבל את ההטבה הכלכלית (לגבות מהלקוח) בתוך שנה או פחות.
A11: במפגש הנוכחי - הדוגמא הנפוצה ביותר לנכסים לא שוטפים:
A12: נכסים לא שוטפים, באופן כללי, הם נכסים שפרק הזמן הצפוי עד מימושם ארוך משנה אחת.
A13: הדוגמא הבולטת שבה נעסוק במפגש זה ובמפגש הבא היא רכוש קבוע.
A15: רכוש קבוע - הגדרה:
A16: זהו נכס שמקיים שני תנאים מצטברים:
... A27: שלי כאשר קניתי ובתקופות מאוחרות יותר (באיזה סכום = מדידה).
B31: שווי | G31: כושר השימוש של נכס
B32: בסיס מדידה 1 | F32: בסיס מדידה 2 (המחייב בקורס)
A33: לקורס שלנו: | B33: לא מחייב: ״הערכה מחדש״ | F33: עלות - - כך נעבוד!!!
B34: מציגות את הפריט | F34: לפי העלות המקורית (ההיסטורית) שלהם
B35: בסכום הקרוב לשוויו העדכני | F35: בניכוי הפחת שנצבר (״שחיקה״)
A38: בקורס הנוכחי נציג את המודל הבסיסי ביותר למדידת פריטי רכוש קבוע, שנקרא ״מודל העלות״.
A39: על פי מודל זה, פריט רכוש קבוע יוצג בכל תאריך דיווח לפי ההפרש:
C41: עלותו | E41: +
C42: פחת נצבר (*) | E42: (-)
A43: עלות מופחתת = | C43: ערך ספרים (נטו) - יוצג במאזן | E43: =
A45: (*) | B45: הפחת הנצבר הוא ערך המשקף בקירוב את החלק היחסי מעלות הפריט אשר נצרך, במצטבר, עד
B46: למועד הדיווח.
A48: תת נושא ראשון - הוצאות פחת ופחת נצבר בשיטת הקו הישר
A50: אנו יודעים שפריט רכוש קבוע נמדד (אצלנו) לפי עלות פחות הפחת הנצבר. לכן צריך להציג שיטות מקובלות לחישוב
A51: הפחת השנתי והפחת המצטבר. השיטה הנוחה ביותר (והנפוצה ביותר) היא שיטת הקו הישר, שיטה שמניחה שהנכס
A52: נשחק בקצב קבוע (בסכום קבוע) על פני זמן. נדגים את אופן החישוב והמשמעויות להלן:
A54: תרגיל 1 - הדגמה לחישובי רכוש קבוע: פחת נצבר וערך ספרים - שיטת הקו הישר
A55: חברת ״מורן״ בע״מ (להלן: ״החברה״) רכשה מכונה לחימום נקניקיות לעובדי המשרד. עלות המכונה 100,000 ש״ח,
A56: ואורך החיים השימושיים שלה 10 שנים. הניחו כי שווי המכונה בתום 10 השנים צפוי להיות 0. בהנחה שהמכונה נרכשה
A57: בתאריך 1.1.2012, מהו הסכום נטו שבו תוצג המכונה במאזן לימים 31.12.2012, 31.12.2013, 31.12.2014, בהינתן
A58: ששיטת הפחת היא ״הקו הישר״.
A60: פתרון: | F60: מכונת יוקרה לחימום נקניק: 100,000 ש״ח
A61: הבסיס למדידה - הוא העלות הראשונית. כלומר, אם היינו מפיקים דוחות
A62: כספיים מיד במועד הרכישה - היינו מציגים את המכונה לחימום נקניק
A63: בסכום של 100,000 ש״ח.
A65: אלא שלאור העובדה שאורך החיים של המכונה מוגבל, יש לדאוג לייצר
A66: התייחסות כספית ל״שחיקה״ או ל״בלאי״ השיטתיים במכונה לאורך השנים.
...

Sheet 8 - רכוש קבוע פיניטו
A1: הרצאה 8 - המשך רכוש קבוע - והנחיות למידה | H1: 46008
A3: מטרתנו:
A4: לסגור קומפלט את נושא הרכוש הקבוע.
A6: לידיעה:
A7: רכוש קבוע יופיע בבחינה גם כשאלה נפרדת, וגם כחלק משאלה גדולה לגבי עריכת דיווחים.
A8: בשלב זה, איננו עוסקים בשילוב רכוש קבוע בדיווחים מלאים, נגיע לשם במפגשים האחרונים.
A9: לפני זה צריך לשלוט באופן מוחלט ברכוש קבוע, גם במדידה, גם בשיטות השונות, גם בטיפול במכירה (וגם -
A10: נושא שנדגיש יותר היום - פקודות יומן קשורות).
A12: תרגול:
A13: מעבר לתרגילים הניתנים מטעם המתרגלים, במערך שיעור 7 (הקודם - מ-10.12) תמצאו בתחתיתו שאלות רבות
A14: ומגוונות בנושא רכוש קבוע בשיטות שונות עם פתרונות מפורטים וכולל התייחסות לפקודות יומן.
A15: שאלות אלו אינן להגשה, אבל רשמו לעצמכן להתמודד עמן ולפתור אותן - כמה שאפשר כעת (עדיף), ואם לא -
A16: לפחות לפני המבחן.
... A23: בחברת ״נקניקי העמקים״ בע״מ ידועים שקיימים פריטי הרכוש הקבוע הבאים:
B25: פריט | C25: תאריך רכישה | D25: עלות | E25: גרט | F25: שיטת הפחתה | G25: שנות פחת
B26: מכונת נקניק | C26: 43831 | D26: 400000 | E26: 50000 | F26: קו ישר | G26: 10
B27: Macbook | C27: 44835 | D27: 30000 | E27: 10000 | F27: קו ישר | G27: 7
B28: iPhone | C28: 45231 | D28: 10000 | E28: 1000 | F28: סכום ספרות | G28: 5
A30: נתונים נוספים:
A31: כל פריטי הרכוש הקבוע זמינים לשימוש ממועד רכישתם.
A33: נדרש:
A34: א. חשבו את הוצאות הפחת בגין הפריטים לשנת 2024 (בגין כל פריט בנפרד, וסך הכל הוצאות פחת ברווח והפסד).
A35: ב. חשבו את הסכום שבו יוצגו הפריטים כרכוש קבוע בדוח על המצב הכספי ליום 31.12.2024.
A36: ג. הניחו כעת האייפון נמכר ב-1.5.2025 בתמורה שהובילה לרישום רווח הון בסכום של 1,500 ש״ח.
A37: רשמו פקודות יומן עבור שנת 2025 בגין כל הפריטים, והציגו את הוצאות הפחת ואת ערכי הרכוש הקבוע
A38: בדוח על המצב הכספי ליום 31.12.2025.
A40: א. חשבו את הוצאות הפחת בגין הפריטים לשנת 2024 (בגין כל פריט בנפרד, וסך הכל הוצאות פחת ברווח והפסד).
A42: העתקת נתונים לשם נוחות:
B43: פריט | C43: תאריך רכישה | D43: עלות | E43: גרט | F43: שיטת הפחתה | G43: שנות פחת
B44: מכונת נקניק | C44: 43831 | D44: 400000 | E44: 50000 | F44: קו ישר | G44: 10
B45: Macbook | C45: 44835 | D45: 30000 | E45: 10000 | F45: קו ישר | G45: 7
B46: iPhone | C46: 45231 | D46: 10000 | E46: 1000 | F46: סכום ספרות | G46: 5
B48: הוצאות פחת - מכונת נקניק, 2024: | E48: =(D44-E44)/G44 -> 35000 | H48: (400,000 - 50,000)/10 =
B49: הוצאות פחת - Macbook, שנת 2024: | E49: =20000/7 -> 2857.1429 | H49: (30,000 - 10,000)/7 =
B50: הוצאות פחת - iPhone, שנת 2024: | E50: =9000*(10/12*5+2/12*4)/15 -> 2900 | H50: (10,000 - 1,000)*(10/12 * 5 + 2/12 * 4)/15 =
A51: סיכום - | B51: הוצאות פחת - רווח והפסד - 2024: | E51: =SUM(E48:E50) -> 40757.143 | F51: ביקשו גם את סך כל הוצאות הפחת לשנה זו
B53: לגבי אייפון:
B54: סכום הספרות: | D54: 5 * 6 / 2 = 15 | E54: n * (n + 1)/2 = | F54: כאשר n הוא שנות הפחת
B55: בנוסף צריך לזהות מהי הספרה / הספרות הרלוונטיות לשנת 2024.
B56: הספרה הראשונה היא 5 (אורך החיים): | F56: 1.11.2023 - 1.11.2024
...

Sheet 9 - חדש - אינטגרציה א
A1: מפגשים 9 - אינטגרציה ועריכת דוחות כספיים חלק א
A3: ייתכנו שינויים קלים במבנה הבחינה: יחד עם זאת, המתואר להלן מייצג בהחלט.
A5: הבחינה מורכבת משני חלקים. חלקה הראשון עוסק בעריכת דוחות כספיים מלאים (עם תיקונים ואירועים), וחלקה השני - כולל שאלות
A6: קטנות במגוון נושאים כדוגמת אלו שהצגנו במהלך השיעורים.
A8: שאלות לגבי דוחות כספיים יתאפשרו משני סוגים:
A9: א. שאלה לגבי עריכת מאזן ודוח רווח והפסד, כולל השפעות אירועים נוספים ופקודות יומן נוספות על הערכים בדיווח (בעיקר במפגש הבא).
A10: ב. שאלה לגבי הדוח המפרט רק בדבר השינויים בהון (מזה נתחיל היום).
A12: מעבר לזה - תהיינה גם שאלות קטנות בנושאים השונים - פקודות יומן, פקודות הכרה בהכנסות ובהוצאות כולל התאמות, לקוחות, רכוש קבוע...
A14: הדוח על השינויים בהון העצמי
A15: אנחנו כבר יודעים שההון העצמי הוא כנראה אחד הרכיבים הכי מורכבים בדוחות.
A16: הכוונה היא שנכסים קל לנו להגדיר.
A17: התחייבויות - קל לנו לזהות.
... A48: במידה והחברה הוקמה ״השנה״ - אין ״יתרות פתיחה״. כלומר מתחילים את הטבלה מהאירועים של השנה.
A50: אירוע | B50: הון מניות 3 ש״ח ערך נקוב | C50: הון מניות 1 ש״ח ערך נקוב | D50: פרמיה | E50: עודפים יתרת רווח | F50: סך הכל
A51: הנפקת מניות 3 ש״ח ערך נקוב | B51: =50000*3 -> 150000 | D51: =F51-B51 -> 220000 | F51: 370000
A52: הנפקת מניות 1 ש״ח ערך נקוב | C52: =70000*1 -> 70000 | D52: =F52-C52 -> 25000 | F52: =98000-3000 -> 95000
A53: פיצול מניות | B53: =-B51 -> -150000 | C53: =-B53 -> 150000 | F53: 0
A54: הנפקת מניות הטבה | C54: =10%*(150000+70000) -> 22000 | D54: =F54-C54 -> -22000 | F54: 0
A55: רווח נקי | E55: 320000 | F55: =E55 -> 320000
A56: דיבידנד שהוכרז | E56: -38000 | F56: =E56 -> -38000
A57: יתרות לדיווח - 31.12.2020 | B57: =SUM(B51:B56) -> 0 | C57: =SUM(C51:C56) -> 242000 | D57: =SUM(D51:D56) -> 223000 | E57: =SUM(E51:E56) -> 282000 | F57: =SUM(F51:F56) -> 747000
A59: הסברים נוספים:
A60: הנפקת מניות 3 ש״ח ערך נקוב = החברה מעניקה למשקיעים מניות (בעלות) על החברה ובתמורה מקבלת כסף (תמורת הנפקה).
A61: בעקבות ההנפקה, עלינו לתעד עלייה כוללת בהון העצמי בהתאם לתמורת ההנפקה נטו = התמורה בניכוי עלויות ההנפקה: 370,000 = 30,000 - 400,000
A62: הון המניות בגין ההנפקה = מכפלה של מספר המניות בערך הנקוב של המניות שהונפקו. הוא מייצג את מספר זכויות הבעלות בחברה.
A63: אם חברה הנפיקה מניות בערך נקוב כולל של 150,000 זה אומר שאם ברצוני להיות בעלים של 10% מהחברה - עליי לקנות מניות בערך נקוב 15,000 = 150,000 * 10%
B65: בקצרה: הון מניות = ערך נקוב = זכויות בעלות
B66: סך ההון העצמי = תמורת ההנפקה = כמה המשקיעים חושבים שהחברה שווה
B67: את ההפרש בין תמורת ההנפקה לבין הון המניות רושמים בסעיף שנקרא פרמיה.
A69: הנפקת מניות 1 ש״ח ערך נקוב - נייצר עמודה נפרדת (כי הערך הנקוב למניה שונה) .
B70: הון מניות = מס׳ מניות 70,000 כפול ערך נקוב למניה 1 ש״ח = 70,000
B71: סה״כ = תמורת הנפקה = 98,000 (תמורה ברוטו) בניכוי 3,000 (עלויות הנפקה נתונות) = 95,000
B72: ההפרש בין תמורת ההנפקה לערך הנקוב (הון המניות) = פרמיה: 25,000 = 70,000 - 95,000
A74: פיצול מניות:
A75: פיצול מניות משמעו - כל המחזיק במניה גדולה (כאן - 3 ש״ח ערך נקוב) מקבל במקומה 3 מניות בנות 1 ש״ח ערך נקוב.
A76: מן הסתם הערך הנקוב לא משתנה. הוא רק ״עובר צד״: | H76: מניה 1 ש״ח
A77: את הערך בעמודת המניות הגדולות (3 ש״ח ערך נקוב) יש לאפס. | F77: מניה בת 3 ש״ח | G77: פיצול | H77: מניה 1 ש״ח
A78: את הערך בעמודת המניות הקטנות (1 ש״ח ערך נקוב) יש להגדיל באותו סכום. | F78: ערך נקוב | H78: מניה 1 ש״ח
A79: סך ההון העצמי לא משתנה בעקבות הפיצול (אין כניסה של כסף חדש).
A81: הנפקת מניות הטבה:
...

Sheet 10 חדש הנסיכה התימנית
A1: מפגש 10 - פתרון שאלת מסה שלמה
A3: פתרון שאלת מסה מהאתר - ״הנסיכה התימנית״
A5: נייר עבודה בסיסי לפני סיווגים:
A7: חשבון | B7: ערך כספי | C7: נכסים | D7: התחייבויות | E7: הון | F7: הכנסות | G7: הוצאות
A8: מזומן בקופה | B8: 320
A9: הוצאות תקשורת | B9: 80
A10: לקוחות | B10: 500
A11: עו״ש בנק | B11: 300
A12: מכירות | B12: 700
A13: ספקים | B13: 20
A14: הוצאות תקשורת מראש ליום 1.1.2021 | B14: 30
A15: הלוואות לזמן קצר | B15: 50
A16: הון מניות | B16: 90
A17: קניות | B17: 300
A18: מלאי פתיחה - 1.1.2021 | B18: 50
A19: עודפים 1.1.2021 | B19: ?
A20: מחשבים - עלות | B20: 600
A21: מחשבים - פחת נצבר 1.1.2021 | B21: ?
A22: הנחות מזומן מספקים | B22: 20
A23: טלפונים סלולריים | B23: 100
A24: פקדון בנקאי ל-5 שנים | B24: 50
A25: הלוואות לזמן ארוך | B25: 100
A26: הוצאות ריבית | B26: 20
A27: הכנסות ריבית | B27: 80
A28: עמלה לסוכני מכירות | B28: 20
A29: הוצאות שכר - הנהלה | B29: 10
A30: הוצאות שכר - משווקים | B30: 30
A31: הוצאות חשמל | B31: 15
A32: הוצאות תפעוליות כלליות | B32: 22
A33: מלאי סגירה - מאזן | B33: ?
A34: מלאי סגירה - רווח והפסד | B34: ?
A36: סיווגים והשלמת נתונים חסרים לפני תיקונים ועדכונים:
A38: חשבון | B38: ערך כספי | C38: נכסים | D38: התחייבויות | E38: הון | F38: הכנסות | G38: הוצאות
A39: מזומן בקופה | B39: 320 | C39: =B39 -> 320
A40: הוצאות תקשורת | B40: 80 | G40: =B40 -> 80
A41: לקוחות | B41: 500 | C41: =B41 -> 500
A42: עו״ש בנק | B42: 300 | C42: =B42 -> 300
A43: מכירות | B43: 700 | F43: =B43 -> 700
A44: ספקים | B44: 20 | D44: =B44 -> 20
A45: הוצאות תקשורת מראש ליום 1.1.2021 | B45: 30 | C45: =B45 -> 30 | H45: הוצאות מראש והכנסות לקבל = נכסים
...

Sheet 11 שאלת בחינה
A1: מפגש 11 - שאלה מבחינה אמיתית - 2025א - שאלת מסה | H1: 46029
A3: חשבון | C3: ערך כספי | D3: נכסים | E3: התחייבויות | F3: הון עצמי | G3: הכנסות | H3: הוצאות
A4: הון מניות | C4: 100 | F4: =C4 -> 100
A5: הוצאות אחזקה | C5: 29 | H5: =C5 -> 29
A6: הוצאות חשמל | C6: 12 | H6: =C6 -> 12
A7: הוצאות טלפון | C7: 13 | H7: =C7 -> 13
A8: הוצאות לשלם ל-31.12.2024 | C8: 24 | E8: =C8 -> 24
A9: הוצאות ריבית | C9: 17 | H9: =C9 -> 17
A10: הוצאות שכר דירה | C10: 22 | H10: =C10 -> 22
A11: הוצאות שכר ומשכורות | C11: 72 | H11: =C11 -> 72
A12: הוצאות תפעול | C12: 15 | H12: =C12 -> 15
A13: החזרות לספקים | C13: 15 | H13: =-C13 -> -15
A14: החזרות מלקוחות | C14: 10 | G14: =-C14 -> -10
A15: הכנסות מראש 1.1 | E15: =F75 -> 200
A16: הכנסות ריבית | C16: 11 | G16: =C16 -> 11
A17: הלוואות לזמן ארוך | C17: 80 | E17: =C17 -> 80
A18: הלוואות לזמן קצר | C18: 140 | E18: =C18 -> 140
A19: הלח״מ 1.1 | D19: =-E93 -> -12.5
A20: הנחות מזומן ללקוחות | C20: 12 | H20: =C20 -> 12
A21: הנחות מזומן מספקים | C21: 31 | G21: =C21 -> 31
A22: הנחות מסחריות ללקוחות | C22: 15 | G22: =-C22 -> -15
A23: הנחות מסחריות מספקים | C23: 22 | H23: =-C23 -> -22
A24: לקוחות | C24: 400 | D24: =C24 -> 400
A25: מזומן | C25: 300 | D25: =C25 -> 300
A26: מחשבים - עלות | D26: 70
A27: מחשבים - פחת נצבר 1.1 | D27: =-D121 -> -5
A28: מכונות - עלות 1.1 | D28: 1000
A29: מכונות - פחת נצבר 1.1 | D29: -200
A30: מכירות | C30: 400 | G30: =C30 -> 400
A31: מלאי 1.1 | H31: 65
A32: ספקים | C32: 70 | E32: =C32 -> 70
A33: עודפים 1.1 | F33: X = 1453.5
A34: עמלות בנק | C34: 8 | H34: =C34 -> 8
A35: עמלות סוכני מכירות | C35: 4 | H35: =C35 -> 4
A36: פטנטים | C36: 500 | D36: =C36 -> 500
A37: קניות | C37: 200 | H37: =C37 -> 200
J40: נדרש:
J41: חלצו את כל הערכים החסרים (סימן שאלה) לפני עדכונים.
J42: הציגו את הדוחות הכספיים - הדוח על המצב הכספי (מאזן) ודוח רווח והפסד לשנת 2024.
J43: הקפידו לבצע רישומי פקודות יומן בגין עדכונים רלוונטיים מתבקשים.
...

Sheet 12 המשך בחינה
A1: מפגש 12 - חזרה לבחינה - פתרון שאלות קטנות | H1: 46036
A3: בשני המפגשים הקודמים עסקנו בפתרון שאלות מסה. שאלות אלו מהוות את חלק א של הבחינה, שמשקלו 50 נק׳.
A4: היום, נעסוק בפתרון שאלות טריות מבחינה עדכנית בהקשר לחלק ב - שאלות קצרות.
A6: שאלות הבחינה ה״קצרות״ שנפתור הן ממועד בחינה 2025א, מועד א.
A21: נדרש: רשמו פקודות יומן למתן ביטוי לעסקאות.
D22: ח | E22: ז
A23: א | B23: מזומן | D23: 100000
B24: הון מניות | E24: 100000
A26: ב | B26: מזומן | D26: 200000
B27: הלוואה | E27: =D26 -> 200000
A29: ג | B29: הכנסות לקבל | D29: 400000 | F29: הערה: אם סיפקתי שירות וטרם הנפקתי חשבונית,
B30: הכנסות משירותי נקניק | E30: 400000 | F30: ההכנסה תוכר כנגד הכנסות לקבל.
F31: אם הנפקתי חשבונית ההכנסה תוכר כנגד לקוחות.
A32: ד | B32: מכונת נקניק | D32: 30000
B33: מזומן | E33: 10000
B34: שיקים לפירעון | E34: 2000
B35: ספקים | E35: 18000
A37: ה | B37: הלוואה | D37: 200000 | F37: ההלוואה תקטן בגובה הקרן במועד הפרעון
B38: הוצאות ריבית | D38: 25000
B39: מזומן | E39: 225000 | F39: הסכום הכולל ששולם: קרן 200,000 + ריבית 25,000
A65: פיתה - רון:
A66: למרות קיומם של סעיפים רבים בשאלה זו, הואיל והיא עוסקת בהכרה בהכנסות / הוצאות / חתך, אזי יצירת גיליון
A67: העבודה שלנו יטפל בכל השלבים יחד - וזה בסדר גמור.
B69: נדרש א (פקודה-לפי המזומן) | D69: נדרש ב (לפי שווי השירות) | F69: נדרש ג | H69: נדרש ד (מזומן מצטבר מול שירות מצטבר)
A70: שנה | B70: פקודה שתירשם בהנה״ח | D70: סכום הכנסה ברוו״ה | F70: פקודת התאמה | H70: יתרת חתך
A71: 2022 | B71: ח׳ מזומן 100,000 | D71: 20000 | F71: ח׳ הכנסות 80,000 | H71: הכנסות מראש 80,000 = 20,000 - 100,000
B72: ז׳ הכנסות 100,000 | F72: ז׳ הכנסות מראש 80,000
A74: 2023 | B74: ח׳ מזומן 30,000 | D74: 150000 | F74: ז׳ הכנסות 120,000 | H74: הכנסות לקבל 40,000 = 130,000 - 170,000
B75: ז׳ הכנסות 30,000 | F75: ח׳ הכנסות מראש 80,000
F76: ח׳ הכנסות לקבל 40,000
A78: 2024 | B78: ח׳ מזומן 70,000 | D78: 30000 | F78: ח׳ הכנסות 40,000 | H78: אין (סך המזומן המצטבר = סך השירות המצטבר)
B79: ז׳ הכנסות 70,000 | F79: ז׳ הכנסות לקבל 40,000
I83: 31.12.2023 | J83: 900000
I89: יתרת הלח״מ למועד זה:
I90: 31.12.2023 | J90: =400000*7%+500000*8% -> 68000
A97: פיתה-רון:
A98: השאלה עוסקת בלקוחות והלח״מ, גם בהקשר זה יש לנו נייר עבודה רלוונטי.
A99: טיפ - למדו באופן מאסיבי את שיעור 6 להתמודדות עם הנושא.
A100: בנוסף, נרחיב מעט את השאלה - כדי שתכלול מענה לכל מה שאנחנו יכולים לשאול, ולא רק לנדרש הספציפי.
C102: לקוחות (ברוטו) | E102: הלח״מ (נכס במינוס) | G102: הוצאות הלח״מ
...

Sheet Sheet1
A1: מפגש 13 ואחרון - מבוא לחשבונאות פיננסית - שאלות בנושאים שונים והידוק למידה לבחינה | I1: 46043
A3: כללי - קצת על הבחינה:
A4: המבנה והכיוון של שאלת המסה דומה למבנה ולכיוון של שאלות המסה שפתרנו.
A5: חשוב לדעת לרשום את כל פקודות היומן המעדכנות.
A6: חשוב להכיר ולדעת את כל סוגי חשבונות החתך ועדכונם.
A7: רכוש קבוע כנושא יהיה מורכב יחסית (נעשה תרגולים היום). לצורך פתרונו, חשוב להכיר לא רק פתרון ״בטבלה״ | G7: זו השאלה היחידה שהיא מורכבת בחלק ב. חישוב
A8: אלא גם את המשוואות / ההגדרות המתמטיות של כל רכיב (פחת נצבר, עלות מופחתת - בכל השיטות) - ואת זה
A9: נדגים גם היום.
A11: שאלה בנושא רכוש קבוע - שימו לב - תהיה מורכבת (ראו השראה גם בשאלה ממבחן שהצגנו בשיעור קודם חלק ב) וגם שתי
A12: השאלות המורכבות שמוצגות במערך שיעור זה. הראשונה - נפתרה עם קב׳ 9:15, השניה - נפתרה עם קבוצת סונסינו 12:15.
A13: לשתי השאלות הללו פתרונות מאד מפורטים עם הקלטות.
A14: משקל שאלת הרכוש הקבוע במבחן: 16%
A15: זו השאלה היחידה שהיא מורכבת בחלק ב.
A18: שאלת רכוש קבוע מורכבת - הדגמה
A19: חברת דרורים בע״מ מחזיקה בפריטי הרכוש הקבוע הבאים ולהלן נתוניהם ב-31.12.2024:
B21: פריט | C21: תאריך רכישה | D21: עלות | E21: פחת נצבר | F21: ערך ספרים עלות מופחתת | G21: שיטת פחת | I21: גרט
B22: מכונת חימום נקניק | C22: 43831 | D22: ? | E22: ? | F22: 350000 | G22: קו ישר | I22: 10000
B23: ציוד לליקוט פופיקים | C23: 44317 | D23: 40000 | E23: ? | F23: ? | G23: סכום ספרות | I23: 0
A25: נתונים נוספים:
A26: א. מכונת חימום הנקניק הפכה לזמינה לשימוש 3 חודשים לאחר מועד רכישתה, אך הופעלה 4 חודשים לאחר מועד
A27: רכישתה. המכונה מופחתת על פני 10 שנים.
A28: ב-30.6.2025 נמכרה מכונה זו, ונרכשה מכונה אחרת שעלותה כפולה, שזמינה לשימוש החל ממועד רכישתה.
A29: המכונה החדשה מופחתת על פני 8 שנים ללא שייר / גרט.
A30: תמורת המכירה של המכונה הישנה גבוהה ב-20% מערך הספרים שלה למועד מכירתה.
A31: ב. הציוד לליקוט פופיקים הפך לזמין לשימוש 4 חודשים לאחר מועד רכישתו ומופחת על פני 9 שנים, אך החל לשמש את החברה בפועל רק בתאריך
A32: ה-1.12.2021. החברה מכרה ב-1.9.2025 40% מהציוד המקורי, ורכשה בתמורת המכירה ציוד חדש שמופחת לפי אותם
A33: הפרמטרים בדיוק. המכירה לוותה בהפסד הון בסך 4,000 ש״ח.
A35: נדרש:
A36: א. מהן הוצאות הפחת בחברה לשנת 2025?
A37: ב. מהו רווח / הפסד ההון שיירשם בגין מכירת הפריטים השונים (יש לדון בגין כל מכירה בנפרד).
... A45: נתחיל מדיון מפורט בדבר המכונה לחימום נקניק
A46: תאריך רכישה: | C46: 43831
A47: זמינות לשימוש: | C47: 43922 | D47: שלושה חודשים לאחר הרכישה כנתון - זה המידע העיקרי החשוב - הפחתה מתחילה תמיד מהזמינות לשימוש.
A48: תקופת הפחתה בשנים: | C48: 10
A49: שיטת. פחת: | C49: קו ישר
A50: עלות | C50: X
A51: גרט בש״ח: | C51: 10000
A52: עלות מופחתת 31/12/2024: | C52: 350000
A53: ב-30.6.2025 נמכרה מכונה זו, ונרכשה מכונה אחרת שעלותה כפולה, שזמינה לשימוש החל ממועד רכישתה.
A54: המכונה החדשה מופחתת על פני 8 שנים ללא שייר / גרט.
...

Sheet שרה
A1: פתרון שאלת מסה - חברת ״שרה״ | G1: 44949
A3: חשבון | B3: ערך כספי | C3: נכסים | D3: התחייבויות | E3: הון | F3: הכנסות | G3: הוצאות
A4: מזומן בקופה | B4: 500 | C4: 564.125
A5: הוצאות תקשורת | B5: 40 | G5: 25
A6: לקוחות | B6: 600 | C6: =B6 -> 600
A7: עו״ש בנק | B7: 150 | C7: =B7 -> 150
A8: מכירות | B8: 950 | F8: =B8 -> 950
A9: פקדון בנקאי לשנה | B9: 100 | C9: =B9 -> 100
A10: ספקים | B10: 70 | D10: =B10 -> 70
A11: הוצאות תקשורת לשלם ליום 1.1.2021 | B11: 15 | D11: 0
A12: הלוואות לזמן קצר | B12: 180 | D12: =B12 -> 180
A13: הון מניות | B13: 100 | E13: =B13 -> 100
A14: קניות | B14: 300 | G14: =B14 -> 300
A15: מלאי פתיחה - 1.1.2021 | B15: 60 | G15: =B15 -> 60
A16: עודפים 1.1.2021 | B16: ? | E16: 1146.5
A17: מחשבים - עלות | B17: 400 | C17: 300
A18: מחשבים - פחת נצבר 31.12.2021 | B18: ? | C18: -56.25
A19: הנחות מזומן מספקים | B19: 15 | F19: =B19 -> 15
A20: טלפונים סלולריים | B20: 80 | C20: =B20 -> 80
A21: פקדון בנקאי ל-5 שנים | B21: 95 | C21: =B21 -> 95
A22: הלוואות לזמן ארוך | B22: 100 | D22: =B22 -> 100
A23: הוצאות ריבית | B23: 75 | G23: =B23+8 -> 83
A24: הכנסות ריבית | B24: 20 | F24: =B24 -> 20
A25: עמלה לסוכני מכירות | B25: 45 | G25: =B25 -> 45
A26: הוצאות שכר - הנהלה | B26: 62 | G26: =B26 -> 62
A27: הוצאות שכר - משווקים | B27: 93 | G27: =B27 -> 93
A28: הוצאות חשמל | B28: 14 | G28: =B28 -> 14
A29: הוצאות תפעוליות כלליות | B29: 20 | G29: =B29 -> 20
A30: מלאי סגירה - מאזן | B30: ? | C30: =D80 -> 120
A31: מלאי סגירה - רווח והפסד | B31: ? | G31: =-C30 -> -120
A32: סה״כ | C32: =SUM(C4:C31) -> 1952.875 | D32: =SUM(D4:D31) -> 350 | E32: =SUM(E4:E31) -> 1246.5 | F32: =SUM(F4:F31) -> 985 | G32: =SUM(G4:G31) -> 582
C33: נכסים | D33: התחייבויות | E33: הון | F33: הכנסות | G33: הוצאות
A34: חדש!!! הוצאות פחת!!! | G34: =40.625-C36 -> 50.833333
A35: חדש!! הפסד הון!!! | G35: 14
A36: חדש!!! פחת נצבר טלפונים סלולריים | C36: =-B189 -> -10.208333
A37: חדש!!! הוצאות ריבית לשלם | D37: 8
A40: בשלב לפני העדכונים הסיכומים היו שונים מהמופיע לעיל, ועל בסיסם חילצנו יתרת פתיחה עודפים:
C41: נכסים + הוצאות = התחייבויות + הון + הכנסות
C42: 2007.5 + 589 = 365 + 100 + X + 985
C43: י״פ עודפים 1.1 | D43: 1146.5 | E43: X =
...

Sheet מבנה הבחינה
A1: הבחינה מורכבת מ-2 חלקים של שעתיים כל אחד.
A2: בין החלקים הפסקה של 45 דקות.
A4: חלק א | B4: שאלת מסה | C4: 50 נק׳
A5: רשימה של נתונים כספיים בטבלה, ולאחריה - רשימת אירועים נוספים.
A6: עליכם לדעת כיצד לשחזר את הנתונים ההתחלתיים לפני תיקון.
A7: כיצד לבטא פקודות יומן לתיקון הערכים.
A8: כיצד לתקן את הערכים ובעיקר - להפיק דוחות כספיים מלאים עדכניים בתום התהליך.
A9: אחד האתגרים המשמעותיים בשאלה הזו - לחץ / עומס מידע.
A10: מאד חשוב - להתחיל בצורה מסודרת במיון ופתרון החלקים ״הפשוטים״.
A11: הבדיקה של שאלת המסה מצד אחד מאד מדויקת - ועל כל שלב בתהליך יש ניקוד,
A12: מצד שני - כן מתחשבים בטעויות נגררות - ניתן להניח הנחת פתרון באופן מפורש, ולהמשיך איתה.
A13: לא להגיע למצב שסעיף קשה / מורכב מקלקל לנו יותר ממשקלו.
A14: תכנון זמן - קריטי.
A16: חלק ב | B16: שאלות קטנות
A17: שאלה 1 | B17: פקודות יומן | C17: 10 נק׳ | D17: פקודות רגילות
A18: שאלה 2 | B18: חתך | C18: 10 נק׳ | D18: ברמה של טבלה / אירועים
A19: שאלה 3 | B19: לקוחות | C19: 15 נק׳ | D19: ברמת כל התנועות שנלמדו - כולל אבודים, חילוץ הוצאות..
A20: שאלה 4 | B20: רכוש קבוע | C20: 15 נק׳ | D20: כל שיטות הפחת, כולל רווח הון, כולל שילוב פריטים
A22: המלצה ללמידה:
A23: אין מה להתחיל עם ״השאלות הקטנות״ עד שאני סגור פרפקט על שאלת המסה (זו דעתי האישית -
A24: שייקה). כלומר, אני רוצה להיות סגור פרפקט על כל השלבים: להבין מה זה המיון ואיך מתנהגים איתו,
A25: להבין מה ההבדל בין ״שיחזור יתרות״ (שעליו לא רושמים פקודות יומן) לבין ״עדכון יתרות״
A26: שבגינו רושמים פקודות יומן ומעדכנים את הטבלה.
A27: מצאו את הדרך הנוחה לכם: האם לעבוד על טבלה אחת עם מחיקות לטובת עדכון, או שתי טבלאות?
A28: קחו סטופר ובדקו כמה זמן לוקח לכם לפתור שאלה.
A29: טכניקות הפתרון וההצגה - מי שעובד עם טכניקת המחברת ותבניות העבודה שהוגדרו - סגור.
A30: במהלך הלמידה - שימו לב טוב לתאריכים, ותמיד תשאלו את עצמכם - ״מה היה קורה אם״.
A31: אני פותר שאלה שבה הפריט נרכש ב-1.1.2021, תשאלו את עצמכם: ״מה הייתי עושה אם הפריט
A32: נרכש ב-1.9״.

Sheet מסה נוספת לחזרה
A1: שאלת מסה נוספת עם פתרון מלא
A3: מטרות:
A4: א. תרגול אינטנסיבי מלא של שאלת מסה מ-א׳ עד ת׳ (בעיקר הצד החישובי, אם לא נספיק את הצד של העריכה כי לא נרצה לרוץ עמכם,
A5: נציג לכם דוחות כספיים מלאים לאחר מכן).
A7: ב. פרידה מרגשת עד העונג הבא.
A9: לגבי המבחן:
A10: כולנו ממתינים בכליון עיניים להנחיות הסופיות שתקבענה לגבי אופן ההבחנות. ככלל, המבנה העקרוני איננו שונה - שאלת מסה גדולה
A11: ושאלות קטנות בכל נושאי הקורס (בחלקים א ו-ב של הבחינה בהתאמה) ללא תלות באופן ביצוע הבחינה. אלא שאופן ביצוע הבחינה
A12: בפועל ישפיע על הכלי בו נבחנים (האם אפשר / אי אפשר קובץ אקסל, למשל) וכיו״ב. לכן, למרות הלחץ, נצטרך להמתין עד להחלטה
A13: סופית שמיד אחריה נפרסם הודעה מסודרת בנושא.
A15: להלן נתונים בדבר היתרות הכספיות בספרי חברת ״מבודדים כל היום״ העוסקת בייצור ובשיווק של משחקים לתקופות
A16: בידוד העוברות על כולנו בשנים האחרונות. כל היתרות מעודכנות ליום 31.12.2021 אלא אם נאמר מפורשות אחרת.
A17: הערכים באלפי ש״ח.
A19: חשבון | B19: ערך כספי | C19: נכסים | D19: התחייבויות | E19: הון עצמי | F19: הכנסות | G19: הוצאות
A20: מזומן בקופה | B20: 200 | C20: =B20 -> 200
A21: הוצאות ארנונה | B21: 72 | G21: =B21 -> 72
A22: לקוחות | B22: 400 | C22: =B22 -> 400
A23: עו״ש בנק | B23: 150 | C23: =B23 -> 150
A24: מכירות | B24: 500 | F24: =B24 -> 500
A25: השקעות לזמן קצר | B25: 100 | C25: =B25 -> 100
A26: ספקים | B26: 50 | D26: =B26 -> 50
A27: הוצאות ארנונה לשלם 1.1.2021 | B27: ? | D27: =5*2 -> 10
A28: הלוואות לזמן קצר | B28: 70 | D28: =B28 -> 70
A29: הון מניות | B29: 80 | E29: =B29 -> 80
A30: קניות | B30: 150 | G30: =B30 -> 150
A31: מלאי פתיחה - 1.1.2021 | B31: 90 | G31: =B31 -> 90
A32: עודפים 1.1.2021 | B32: ? | E32: =C51-D51-(F51-G51)-E29 -> 2048.3333
A33: מחשבים - עלות | B33: 400 | C33: =B33 -> 400
A34: מחשבים - פחת נצבר 1.1.2021 | B34: ? | C34: =-F111 -> -26.666667
A35: החזרות לספקים | B35: 20 | G35: =-B35 -> -20
A36: הנחות מזומן מספקים | B36: 12 | F36: =B36 -> 12
A37: טלפונים סלולריים | B37: 700 | C37: =B37 -> 700
A38: השקעות לזמן ארוך | B38: 40 | C38: =B38 -> 40
A39: זכיונות | B39: 200 | C39: =B39 -> 200
A40: הוצאות ריבית | B40: 80 | G40: =B40 -> 80
A41: הכנסות ריבית | B41: 30 | F41: =B41 -> 30
A42: הוצאות שיווק | B42: 22 | G42: =B42 -> 22
A43: הוצאות שכר - הנהלה | B43: 40 | G43: =B43 -> 40
A44: הוצאות שכר - משווקים | B44: 50 | G44: =B44 -> 50
A45: הוצאות חשמל | B45: 70 | G45: =B45 -> 70
...

Sheet תרגילים נוספים קצרים לחזרה
A1: הרצאה 13 - שאלות קצרות במגוון נושאים (זום בלבד + הקלטה) | H1: 44954
A3: מטרה: תרגול מוקלט ומפורט בכתב של שאלות ממגוון נושאים שונים.
A5: שאלה 1 | G5: בחומר כמובן
A6: חברת ״האחיינית״ בע״מ (להלן: ״החברה״) עוסקת במתן שירות בתחומים שונים. להלן נתונים הקשורים לעסקת
A7: התקשרות עם לקוח של החברה בדבר פרויקט לאספקת שירות מתמשך שייפרס על פני מספר שנים, כדלקמן:
A8: ההסכם נחתם ב-1.6.2020. עד ליום 31.12.2020 כולל לא סופק שירות כלל ולא שולם סכום כלשהו במזומן עבור
