Workbook

Sheet אינדקס
A1: שם המרצה: | B1: ד״ר שי צבאן
A2: דוא״ל: | C2: shay.tsaban@gmail.com | D2: לציין תמיד: ״מבוא לחשבונאות פיננסית - עמק יזרעאל״.
A3: טלפון: | C3: 050-6551519 | D3: לפניות דחופות / מילואים וכו׳
A5: כל חומרי ההרצאות, התרגילים והפתרונות - יופיעו בקובץ זה, בחלוקה לגיליונות.
A7: הקלטות השיעורים יועלו לחומרי למידה באתר.
A9: תכנית שיעורים מפורטת
A11: מס׳ שיעור | B11: תאריך | C11: נושא | F11: חומרים נוספים
A12: 1
A15: 2
A18: 3
A20: =A18+1 -> 4
A23: =A20+1 -> 5
A25: =A23+1 -> 6
A26: =A25+1 -> 7
A27: =A26+1 -> 8
A28: =A27+1 -> 9
A29: =A28+1 -> 10
A30: =A29+1 -> 11
A31: =A30+1 -> 12
A32: =A31+1 -> 13
A33: 14

Sheet 1 - הרצאה
A1: מבוא לחשבונאות פיננסית - שיעור מס׳ 1 | H1: 45594
A3: מטרה והגדרות | J3: חברה >>> סוג של עסק
A4: מטרת החשבונאות הפיננסית [סוג של מערכת לייצור מידע] היא לספק מידע כספי [פיננסי] שימושי לצרכים של קבלת החלטות | J4: מה עסק רוצה >>> לפעול ולהתפתח
A5: כלכליות, בעיקר בהקשר להקצאת משאבים לישות [החברה] המדווחת. | J5: מה הוא צריך לשם כך >>> כסף
J6: מאיפה מגיע הכסף >>> משקיעים
A7: בשפה פשוטה - המידע שמספקת החשבונאות הפיננסית יעזור להשיב על השאלה - האם כדאי להשקיע בחברה? | J7: איך משקיעים ידעו אם להשקיע >>> מידע
A8: או האם בתור בנק, ״הגיוני״ להעניק לחברה הלוואה? | J8: איזה מידע >>> דוחות חשבונאיים
A9: לשם מענה לשאלות אלו, אנו זקוקים למידע לגביה. | J9: לכן זה חשוב!!!
A10: מידע שיעזור להסיק האם ועד כמה החברה צפויה להניב ערך (רווחים / עליית ערך) למשקיעים;
A11: ועד כמה קיים סיכוי גבוה להחזר הקרן והריבית (במקרה של הלוואות).
A12: מידע שמספקת מערכת החוקים והכללים הנקראת ״חשבונאות פיננסית״. | J12: מה ההכנסות? מה ההוצאות? מה הרווח
A14: אז אוקיי, צריך מידע חשבונאי - כדי להצדיק השקעות ולאפשר לעסקים להתפתח - איזה מידע זה? | J14: המצב הכספי כרגע: נכסים <> התחייבויות
A16: א. ביצועים = תוצאות הפעילות = הביצועים של החברה: חיוביים. - יוצרי ערך (הכנסות - למשל מכירות או מתן שירות) | J16: האם כשכסף נכנס מתעדים הכנסה?
A17: נתחיל בהתמקדות בדוח רווח והפסד | E17: ,- צורכים ערך (הוצאות - צריכת שירותים ומשאבים)
C19: דוח = מסמך (מידע). הוא מראה הכנסות, הוצאות ואת ההפרש ביניהן (רווח או הפסד)
C20: בחלוקה לתחומי פעילות - לפי קטגוריות (למשל - הכנסות ממכירות / הכנסות מריבית).
C21: הדוח תמיד מראה ערכים לתקופה (שנה).
A24: כך שלמעשה, בדוח רווח והפסד, הכנסות יתועדו ויירשמו כאשר חברה מבצעת פעילויות כגון מכירה או מתן שירות, גם אם הכסף
A25: טרם הגיע (או שולם בתקופה אחרת). הכנסות, אם כך, משקפות פעילות ולא מזומן.
A27: הוצאות יתועדו ויירשמו כאשר חברה מבצעת פעילויות שצורכות ערך (צריכת שירותים או משאבים) גם אם הכסף משולם
A28: במועד אחר.
A30: המחשה לגבי סוג הערכים בדוח רווח והפסד וחשיבותם: | J30: כאשר מוכרים / מעניקים שירות!
A48: תרגול נוסף - פרקטי יותר לגבי הכנסות והוצאות וההבדל בינן לבין מזומן
I68: חשבונאות פיננסית >>> מידע פיננסי (כספי) >>> לגבי חברות
A69: תרגיל כיתה 1 - תרגול ההכרה בהכנסות והוצאות לפי הגדרתן | I69: מיועד למשקיעים (בעלים ומלווים) - כדי להבין ״אם להשקיע״ או לא
A70: לפניכם נתונים לגבי שווי השירות שחברה סיפקה בתחום חימום הנקניק בכל אחת מהשנים 2020-2024, וכן סכום המזומן
A71: שגבתה בשנים אלו מלקוחותיה: | K71: ואיזה מידע צריך לשם כך?
C73: שנה | D73: שווי שירות שסופק | E73: סכום המזומן שגבתה
C74: 2020 | D74: 100000 | E74: 100000 | I74: שווי פעילויות השנה | M74: המצב הכספי לנקודת זמן (31.12)
C75: 2021 | D75: 150000 | E75: 90000 | I75: השווי הכספי של פעילויות ״מה קרה השנה״ | M75: המצב הכספי
C76: 2022 | D76: 80000 | E76: 120000 | I76: הכנסות והוצאות | M76: נכסים והתחייבויות (והון עצמי)
C77: 2023 | D77: 70000 | E77: 50000 | I77: הכנסות = לפי שווי מכר / שווי שירות שניתן | M77: נכסים = רכוש וחוב כלפי החברה
I78: בלי קשר למועד קבלת המזומן | M78: התחייבויות = כגון הלוואה
A79: נדרש - השלימו את הטבלה הבאה: | I79: הוצאות = במועד צריכת שירותים / משאבים | M79: הון עצמי =
M80: נכסים פחות התחייבויות
C81: שנה | D81: סכום ההכנסה שתוכר ברווח והפסד לשנה זו | M81: כרגע:
C82: 2020 | D82: =D74 -> 100000 | I82: הכנסות בניכוי הוצאות = רווח (או הפסד) | M82: השקעת בעלים
C83: 2021 | D83: =D75 -> 150000 | I83: הדוח הכספי = דוח רווח והפסד | M83: רווח מצטבר (עודפים)
C84: 2022 | D84: =D76 -> 80000
C85: 2023 | D85: =D77 -> 70000
A87: הסבר: הגדרנו כי יש לרשום הכנסות בהתאם למועד שבו מבצעים פעילות שיוצרת ערך לחברה: כלומר, בהתאם לשווי השירות
A88: שחברה סיפקה במהלך השנה (או בהתאם לשווי המכירה). העמודה הרלוונטית בטבלת הנתונים - לשם מדידת ההכנסה -
A89: היא רק העמודה של ״שווי השירות שסופק״.
A91: תרגיל כיתה 2 - תרגול נוסף של המושג ״הכנסה״
A92: חברה סיפקה בשנת 2022 שירות ללקוח רון יהב בשווי 70,000 ש״ח. עד לתום השנה, גבתה ממנו 39,000 ש״ח.
A93: כמו כן, סיפקה החברה בשנת 2022 שירות ללקוחה אניה סגס בשווי 30,000 ש״ח. עד לתום השנה גבתה ממנה 24,000 ש״ח.
A95: נדרש: בהנחה שהחברה לא ביצעה מכירות ולא העניקה שירותים נוספים ב-2022, מהו סך ההכנסה עליה היא תדווח
A96: בדוח רווח והפסד לשנת 2022?
A98: הכנסות = שווי פעילות חיובית שבוצעה = סך שווי המכירות והשירות שהחברה סיפקה.
A99: כאן, החברה סיפקה שירות לשני לקוחות השנה, בשווי כולל של 100,000 = 70,000 + 30,000.
A100: העובדה שרק חלק מהסכום התקבל במזומן - לא משנה את מדידת ההכנסה לפי קריטריון זה.
A102: תרגיל כיתה יובל (3) - תרגול נוסף מורכב יותר של המושג ״הוצאה״ (נחזור אליו בהמשך)
A103: יובל בע״מ (להלן: ״החברה״) היא חברת הייטק מבית שאן. | G103: <<<
A104: בתאריך 1.1.2022 חתמה החברה על הסכם לצריכת שירותים בתחום חימום הנקניק. | G104: מדובר ב-108,000 שווי ל-3 שנים
A105: ההסדר בתוקף עד ה-31.12.2024, ושוויו הכולל (התמורה הכוללת): 108,000 ש״ח. | G105: אם לא נאמר אחרת: בכל שנה
G106: צרכו 1/3 מזה.
A107: נדרש: | H107: 108,000 / 3 = 36,000
A108: א. בהנחה שהסכום שולם במלואו מיד במועד חתימת ההסכם, מה יהיה סכום ההוצאה בכל שנה?
A109: ב. בהנחה שהסכום ישולם במלואו רק במועד סיום ההסכם, מה יהיה סכום ההוצאה בכל שנה?
A110: ג. הניחו שהסכום שולם במלואו במועד חתימת ההסכם, וידוע שהחברה צריכה 60% מהשירות בשנת 2022, ואת היתרה
A111: בשני חלקים שווים בשנתיים הבאות. מה יהיה סכום ההוצאה בכל שנה.
A113: פתרון:
A115: א. | C115: שירות שנצרך | D115: שולם במזומן | F115: איך גילינו מה שווי השירות שנצרך בכל שנה?
B116: 2022 | C116: =D116/3 -> 36000 | D116: 108000 | F116: ההסדר הוא ל-3 שנים: 2022, 2023, 2024.
B117: 2023 | C117: =C116 -> 36000 | D117: 0 | F117: אם שוויו הכולל 108,000 ברירת מחדל היא לחשב שווי
B118: 2024 | C118: =C117 -> 36000 | D118: 0 | F118: לשנה ע״י חלוקה ב-3: | I118: 108,000 / 3 = 36,000
B120: סכום ההוצאה שתוכר בכל שנה - לפי ההגדרה: לפי שווי השירות שנצרך.
B121: ההוצאה בכל אחת מהשנים תהיה 36,000 ש״ח.
A123: ב. השינוי היחידי בהשוואה לסעיף א הוא מועד התשלום ולא שווי השירות שנצרך בכל שנה. לכן, סכום ההוצאה בכל שנה זהה לסעיף א.
C125: שירות שנצרך | D125: שולם במזומן
B126: 2022 | C126: =C116 -> 36000 | D126: 0
B127: 2023 | C127: =C126 -> 36000 | D127: 0
B128: 2024 | C128: =C127 -> 36000 | D128: =D116 -> 108000
A130: ג. הניחו שהסכום שולם במלואו במועד חתימת ההסכם, וידוע שהחברה צרכה 60% מהשירות בשנת 2022, ואת היתרה
A131: בשני חלקים שווים בשנתיים הבאות. מה יהיה סכום ההוצאה בכל שנה.
C133: שירות שנצרך | D133: שולם במזומן | F133: בשאלה זו קיים נתון מפורש לגבי שווי השירות שנצרך בכל שנה
B134: 2022 | C134: =F136 -> 64800 | D134: 108000 | F134: לכן לא נוכל לחלק ב-3.
B135: 2023 | C135: =F137 -> 21600 | D135: 0 | F135: נחשב כך:
B136: 2024 | C136: =C135 -> 21600 | D136: =D124 -> 0 | F136: =108000*60% -> 64800 | H136: 108,000 * 60% = | I136: 2022
F137: =108000*20% -> 21600 | H137: 108,000 * 20% = | I137: 2023
F138: =F137 -> 21600 | H138: 108,000 * 20% = | I138: 2024
B140: שווי ההוצאה שתוכר בכל אחת מהשנים:
B141: ב-2022: 64,800 ש״ח, ב-2023: 21,600 ש״ח, ב-2024: 21,600 ש״ח.
A144: תרגיל מסובך - אל תדאגו, סוגי תרגילים כאלו נחזק מאד בהמשך
A145: בתאריך 1.7.2022 שילמה חברה (במזומן) 10,000 ש״ח עבור פוליסת ביטוח לשנה, תקופת הפוליסה: 1.7.2022 - 1.7.2023.
A146: נדרש: בהנחה שלא חודש הביטוח, מהו סכום הוצאות הביטוח שיוכרו בדוחות הכספיים של השנים 2022 ו-2023 בהתאמה?
A148: תשובה: ברווח והפסד, חייבים לדווח על כל שנה קלנדרית בנפרד.
A149: כלומר: הביטוח הוא עבור 1.7.2022 - 1.7.2023, | F149: שווי הביטוח שנצרך: 10,000
A150: אך עליי לדווח על: 2022 (בנפרד); 2023 (בנפרד).
A152: ההוצאה בכל אחת משנים אלו = | E152: 45108 | G152: 44926 | I152: 44743
A153: שווי שירותי הביטוח של אותה שנה.
I154: שולם
F155: שווי | H155: שווי | I155: במזומן
F156: שירות | H156: שירות | I156: 10000
F157: לחצי | H157: לחצי
E158: סיום הביטוח | F158: השנה | H158: שנה | I158: תחילת הביטוח
F159: ב-2023 | H159: הוא:
F160: הוא: | H160: 5000
F161: 5000 | H161: מחצית
H162: מ-10,000
...

Sheet 1 - מושגים
A1: מלאי
A2: פריט בחברה שמוחזק לצורך מכירה שוטפת. למשל - באופיס דיפו ציוד משרדי הוא מלאי.
A3: למשל - באייבורי - מחשבים הם מלאי.
A4: מדוע מלאי הוא נכס? משום שצפויה מכירתו, ובעקבותיה תיווצר הטבה כלכלית (נגבה כסף).
A6: לקוחות:
A7: לקוחות משקפים את סך החוב הכולל של לקוחות החברה כלפיה.
A8: כלומר: ״כמה הלקוחות חייבים לי״.
A9: זהו נכס. מדוע? משום שמדובר בסכום כספי שהחברה אמורה לקבל בעתיד מהלקוח.
A10: כאשר צפויה קבלה של סכום כספי מלקוח = = כניסת הטבה כלכלית בעתיד = = נכס.
A12: חייבים:
A13: חוב כלפי החברה שאיננו של לקוח - כלומר לא נובע מקשרי מסחר רגילים (ממכירה / מתן שירות).
A14: לדוגמא: חוב של רשות המסים כלפיי (החזר מס צפוי)
... A61: התחייבות, ולכן, זהו מקור מימון הוני.

Sheet 1 - תרגול
A1: תרגול עצמי (לא להגשה) לאחר מפגש 1 - מבוא לחשבונאות פיננסית
A3: ביום 31 בדצמבר 2022 מסר לעיונכם מנהל החשבונות של חברת ״מקבוקים״ בע״מ את רשימת יתרות כרטיסי החשבון-
A4: הערכים הכספיים, בחברה זו. זוהי חברה מסחרית העוסקת בשיווק מוצרים שונים, אך איננה מחזיקה מלאי.
A6: נדרש - השלימו את הטבלה: סווגו כל אחד מהערכים לנכסים / התחייבויות / הון / הכנסות / הוצאות.
A7: נסו לבד! הפתרון המלא בהמשך.
A9: חשבון | B9: יתרה כספית בש״ח | C9: נכסים | D9: התחייבויות | E9: הון עצמי | F9: הכנסות | G9: הוצאות
A10: קופת מזומן | B10: 19255
A11: עו״ש בנק | B11: 15401
A12: מכונות | B12: 8208
A13: פיקדון לזמן קצר | B13: 6681
A14: ספקים | B14: 16465
A15: מבנים | B15: 12680
A16: זכאים | B16: 6660
A17: הוצאות טלפון | B17: 14439
A18: לקוחות | B18: 19591
A19: שכר טרחת רואה חשבון | B19: 3612
A20: הון מניות | B20: 6237
A21: חייבים | B21: 2015
... A42: הכנסות ריבית | B42: 12000
A44: פתרון:
A46: חשבון | B46: יתרה כספית בש״ח | C46: נכסים | D46: התחייבויות | E46: הון עצמי | F46: הכנסות | G46: הוצאות
A47: קופת מזומן | B47: 19255 | C47: =B47 -> 19255
A48: עו״ש בנק | B48: 15401 | C48: =B48 -> 15401
A49: מכונות | B49: 8208 | C49: =B49 -> 8208
A50: פיקדון לזמן קצר | B50: 6681 | C50: =B50 -> 6681
A51: ספקים | B51: 16465 | D51: =B51 -> 16465
A52: מבנים | B52: 12680 | C52: =B52 -> 12680
A53: זכאים | B53: 6660 | D53: =B53 -> 6660
A54: הוצאות טלפון | B54: 14439 | G54: =B54 -> 14439
A55: לקוחות | B55: 19591 | C55: =B55 -> 19591
A56: שכר טרחת רואה חשבון | B56: 3612 | G56: =B56 -> 3612
A57: הון מניות | B57: 6237 | E57: =B57 -> 6237
A58: חייבים | B58: 2015 | C58: =B58 -> 2015
A59: פיקדון לזמן ארוך | B59: 3012 | C59: =B59 -> 3012
A60: הלוואה לזמן קצר | B60: 1541 | D60: =B60 -> 1541
A61: הלוואה לזמן ארוך | B61: 1518 | D61: =B61 -> 1518
A62: משיכת יתר (מינוס בבנק) | B62: 11049 | D62: =B62 -> 11049
A63: כלי רכב | B63: 6827 | C63: =B63 -> 6827
A64: עודפים | B64: 10447 | E64: =B64 -> 10447
A65: פטנטים | B65: 17354 | C65: =B65 -> 17354
A66: מותגים | B66: 19444 | C66: =B66 -> 19444
A67: שמות מסחריים | B67: 2953 | C67: =B67 -> 2953
A68: עלות המכירות | B68: 5401 | G68: =B68 -> 5401
A69: הוצאות רכב | B69: 6710 | G69: =B69 -> 6710
A70: עמלות בנק | B70: 13204 | G70: =B70 -> 13204
A71: דמי ניהול | B71: 13393 | G71: =B71 -> 13393
A72: הוצאות שיווק | B72: 6000 | G72: =B72 -> 6000
A73: הוצאות פרסום | B73: 3000 | G73: =B73 -> 3000
A74: עמלות הפצה | B74: 8000 | G74: =B74 -> 8000
A75: הכנסות ממכירות | B75: 440000 | F75: =B75 -> 440000
A76: הכנסות ממתן שירות | B76: 24000 | F76: =B76 -> 24000
A77: שכר דירה | B77: 70000 | G77: =B77 -> 70000
A78: הוצאות ארנונה | B78: 8000 | G78: =B78 -> 8000
A79: הכנסות ריבית | B79: 12000 | F79: =B79 -> 12000

Sheet 2 - הרצאה
A1: מבוא לחשבונאות פיננסית - שיעור מס׳ 2 - התעמקות בעלות המכר | H1: 45966
A2: ועריכת הדוחות הכספיים בכללותם
A4: ראשית, התייחסות לבקשות הקהל:
A5: הבנתי שהיה אתגר מסויים בתרגול ותחושת פער כזו או אחרת, לכן נטפל בה תחילה. אחרי שנסגור את הסוגיה,
A6: נמשיך הלאה לרענון, דיון ומשמעויות בהיבט הדוחות הכספיים של סוגי חשבונות שונים.
A8: רענון:
A9: המפגש הקודם עסק בעיקרו בהגדרות: נכסים (משאבים, צפי להטבה כלכלית) אל מול מקורות המימון ששימשו
A10: בהשגתם (התחייבויות והון עצמי).
A12: ומה מטרת המפגש הנוכחי, אם כך?
A13: השלב הבא הוא לקחת את הסיווג הבסיסי הזה צעד אחד קדימה, ולערוך דוחות כספיים מלאים על בסיס היתרות
A14: הללו. כלומר, נסווג את היתרות בהתאם לנלמד, ולאחר מכן נעסוק במתכונת עריכה מלאה, כולל כזו שמבהירה
A15: את הזהות בין הנכסים לבין ההתחייבויות וההון, וכולל, כמובן, בנייה מלאה של כלל הדיווח.
A17: בקצרה: מסיווג ערכים לדוחות מלאים - בהדגש דוח רווח והפסד - זו המטרה של המפגש שלנו!
... A22: המבנה הכללי של דוח רווח והפסד בחברות שעליהן נדבר הסמסטר - חברות שמוכרות מוצרים:
A24: חלק מההכנסות - נזקפות ל: | C24: מכירות | D24: +
A25: חלק מההוצאות - נזקפות ל: | C25: עלות המכירות | D25: (-)
C26: רווח גולמי | D26: =
C28: ולאחר מכן: סוגים נוספים של הכנסות והוצאות,
C29: שמופיעים בשורות נפרדות / סעיפים נפרדים.
C30: נציג בהמשך.
A35: נושא ראשון - הבנת המשמעות והרכיבים של הוצאה שנקראת ״עלות המכר״ / ״עלות המכירות״
A37: באופן כללי - אנחנו מכירים הרבה ״הוצאות״ = הוצאות חשמל, טלפון, קניות, כיבודים ועוד.
A38: כדי להסדיר דיווח כספי הגיוני - מחלקים את ההוצאות (וגם את ההכנסות) לקטגוריות [סוגים].
A39: ספציפית - אם נביט על שני הסוגים העיקריים של הכנסות והוצאות בחברה, הם כוללים:
B41: מכירות: | C41: הכנסות נטו ממכירות של מוצרים. | F41: קיימים סוגים נוספים של הכנסות והוצאות
B42: עלות המכר: | C42: עלות המוצרים שנמכרו. | F42: אך נתמקד בשני אלו בתור התחלה
A45: הכנסות -
A46: מכירות: | B46: סעיף ״הכנסות ממכירות״ או ״מכירות״ בדוח רווח והפסד משקף את סך שווי המכירות שביצעה
B47: החברה, ואשר מתייחסות למוצרים העיקריים שהיא מוכרת בשוטף.
B49: הסעיף מורכב מ-3 חלקים (ערכים ספציפיים / חשבונות):
B50: מכירות ״ברוטו״ | D50: + | E50: סך המכירות שבוצעו (קרוב לסך החשבוניות)
B51: החזרות מלקוחות | D51: (-)
B52: הנחות מסחריות ללקוחות | D52: (-)
B53: מכירות ״נטו״ = מכירות | D53: =
A55: עלות המכירות: עלות המכירות משקפת את ההוצאה שהיא עלות המוצרים שנמכרו במהלך התקופה.
B56: את עלות המכירות אפשר לחשב בשתי שיטות:
B57: השיטה התמידית - לא תחייב בקורס הזה - כל פריט שנמכר - ארשום את עלותו ב״עלות המכירות״.
B58: השיטה התקופתית - היחידה המחייבת בקורס:
C59: במקום לרשום בכל רגע נתון עלות של כל מוצר שנמכר -
C60: רושמים את כל הקניות (קניות המלאי שהחברה מבצעת), | I60: קניות השנה: 200
C61: ובאמצעות שימוש בנתון זה ונתון ספירת המלאי בתום השנה -
C62: מחלצים את עלות המכירות.
C64: מלאי הפתיחה - מלאי לתחילת שנה (לסוף שנה קודמת) | H64: +
C65: קניות נטו (קניות והובלתן למחסן בניכוי החזרות לספקים בניכוי הנחות מסחריות מספקים) | H65: + | I65: מלאי שיצא: 300-50=250
C66: מלאי הסגירה - מלאי לתום שנה (לסוף השנה הנוכחית) | H66: (-)
C67: עלות המכירות | H67: =
A69: תרגילון קטנטון שמתמקד בחלק של המכירות ועלות המכירות - שהוא חלק מרכזי בדוחות שנציג בהמשך
A71: לפניכן נתונים בדבר יתרות של חשבונות שונים בחברת חוסני בע״מ העוסקת במכירת נקניק:
B73: חשבון | E73: ערך כספי
B74: מכירות (ברוטו) | E74: 800000 | J74: מכירות (נטו):
B75: רווח הון ממכירת מבנה ההנהלה | E75: 400000 | F75: לא רלוונטי למכירות / עלות המכירות = לא פעילות עיקרית | J75: מכירות ברוטו בניכוי החזרות מלקוחות והנחות מסחריות ללקוחות
B76: החזרות לספקים | E76: 14000
B77: הנחות מסחריות ללקוחות | E77: 28000 | J77: עלות המכירות:
B78: החזרות מלקוחות | E78: 32000 | J78: מלאי פתיחה | K78: +
B79: הוצאות הובלת סחורה ללקוחות | E79: 92000 | F79: חלק מהוצאות השיווק וההפצה (קטגוריה נפרדת) | J79: קניות נטו | K79: +
B80: קניות (ברוטו) | E80: 320000 | J80: מלאי סגירה | K80: (-)
B81: הנחות מזומן ללקוחות | E81: 52000 | F81: חלק מהוצאות המימון והריבית (קטגוריה נפרדת)
B82: הנחות מזומן מספקים | E82: 11000 | F82: חלק מהכנסות המימון והריבית (קטגוריה נפרדת) | J82: הגדרת קניות נטו:
B83: הנחות מסחריות מספקים | E83: 33000 | J83: (קניות ברוטו, בתוספת הובלה למחסן, בניכוי הנחות מסחריות מספקים והחזרות לספקים)
B84: מלאי לתחילת השנה | E84: 44000
B85: מלאי לתום השנה | E85: 62000
B86: הוצאות הובלה קניות למחסן | E86: 31000
A88: נדרש: חשבו את המכירות ואת עלות המכירות, ואת ההפרש ביניהם (רווח גולמי) על בסיס נתוני השאלה.
A89: הדרכה: ייתכן בהחלט שישנם נתונים מיותרים ברשימה.
B91: מכירות (מכירות נטו) | F91: עלות המכירות | J91: קניות נטו:
B92: מכירות (ברוטו) | D92: =E74 -> 800000 | F92: מלאי פתיחה (לתחילת שנה) | H92: =E84 -> 44000 | J92: קניות (ברוטו) | L92: =E80 -> 320000
B93: החזרות מלקוחות | D93: =-E78 -> -32000 | F93: קניות, נטו | H93: =L96 -> 304000 | J93: הובלת קניות למחסן | L93: =E86 -> 31000
B94: הנחות מסחריות ללקוחות | D94: =-E77 -> -28000 | F94: מלאי סגירה (לתום השנה) | H94: =-E85 -> -62000 | J94: החזרות לספקים | L94: =-E76 -> -14000
B95: מכירות, נטו (סיכום) | D95: =SUM(D92:D94) -> 740000 | F95: עלות המכירות (סיכום) | H95: =SUM(H92:H94) -> 286000 | J95: הנחות מסחריות מספקים | L95: =-E83 -> -33000
J96: קניות, נטו (סיכום) | L96: =SUM(L92:L95) -> 304000
A98: כעת, לאחר שחישבנו את המכירות ואת עלות המכירות, הרווח הגולמי (ההפרש בין המכירות לעלות המוצרים שנמכרו) הוא:
B100: מכירות (נטו) | D100: =D95 -> 740000
B101: עלות המכירות | D101: =-H95 -> -286000
B102: רווח גולמי | D102: =SUM(D100:D101) -> 454000
A105: אז מה בעצם היה לנו? אנחנו רוצים לערוך דוחות כספיים;
A106: הדוחות כוללים את דוח רווח והפסד, שהמכירות ועלות המכירות הם אחד הסעיפים המורכבים הכלולים בו.
A107: לכן, תקפנו והגדרנו תחילה סעיפים אלו, ועכשיו, כשאנחנו קצת יותר רגועים עליהם, נבנה את הדוחות בכללותם.
A110: נתחיל בהצגה בסיסית של מבנה הדוחות הכספיים:
A111: דוח רווח והפסד מפרט בדבר הכנסות החברה והוצאותיה, בחלוקה לתחומי פעילות.
A112: הסעיפים (סוגי הפירוטים) הנכללים בדוח, לפיכך, צריכים להיות מתואמים עם פעילות החברה. כך למשל,
A113: אין זה הגיוני לטעון שיש להציג סעיף ״מכירות״ בדוח רווח והפסד של חברה שמעניקה שירותים ואיננה מבצעת
A114: מכירות כלל.
A116: בקצרה: דווח רווח והפסד מציג פעילויות; סעיפיו הם סוגי הפעילויות שהחברה מבצעת.
A118: דוח כספי מס׳ 1 - רווח והפסד
A119: המבנה הבסיסי של דוח רווח והפסד בחברה מסחרית (שבה עוסקים בקורס), המשווקת ומוכרת מוצרים, הוא כדלקמן:
A121: מכירות (הכנסות ממכירות) | C121: + | D121: מכירות המוצרים העיקריים שבמכירתם החברה עוסקת בשוטף | I121: באופיס דיפו: מכירות ציוד משרדי; בכלמוביל: מכירות כלי רכב
A122: עלות המכירות (עלות המכר) | C122: (-) | D122: עלות המוצרים שנמכרו (ללא עלויות נלוות שיופיעו בסעיפים הבאים) | I122: באופיס דיפו: כמה עלו המוצרים שנמכרו (הציוד המשרדי, כלי רכב)
A123: רווח גולמי | C123: = | D123: ההפרש בין המכירות לבין עלות המכירות
A124: הוצאות מכירה ושיווק | C124: (-) | D124: הוצאות פרסום, שיווק וגם עלויות הכרוכות בהפצת המוצר וניהול סניפים
A125: הוצאות הנהלה וכלליות | C125: (-) | D125: כל ההוצאות שאין להן שיוך ספציפי: חשמל, טלפון, אחזקה ועוד
A126: הוצאות / הכנסות אחרות | C126: ,+ או (-) | D126: פעילות מיוחדת / שאיננה מלב העסקים, כגון חברה שמוכרת נקניקיות - הניבה רוווח חד פעמי ממכירת מכונית המנכ״ל
A127: רווח תפעולי | C127: = | D127: ההפרש בין הרווח הגולמי להוצ׳ מכירה ושיווק, הנהלה וכלליות ואחרות
A128: הוצאות מימון | C128: (-) | D128: עלויות ריבית, עמלות בנק ועלויות פיננסיות דומות
A129: הכנסות מימון | C129: + | D129: הכנסות ריבית, רווחים פיננסיים כגון מניירות ערך
A130: רווח לפני מסים על ההכנסה | C130: = | D130: רווח תפעולי בניכוי הוצאות מימון בתוספת הכנסות מימון
A131: מסים על ההכנסה | C131: (-) | D131: אין צורך להסביר. כולנו מכירים לצערנו
A132: רווח נקי | C132: = | D132: רווח לפני מסים על ההכנסה בניכוי מסים על ההכנסה
A134: כמובן, הסבר מלא ומפורט יותר נעניק על בסיס תרגולים בנושא. לעת עתה, נסתפק בכך.
A136: דוח כספי מס׳ 2 - המאזן (הדוח על המצב הכספי)
A137: המבנה הבסיסי של הדוח על המצב הכספי הוא כדלקמן (ייתכנו ערכים נוספים יש לשפוט על פי מהות):
...

Sheet 2 - ביאורים
A1: ביאורים = פירוטים בדבר ההרכב ו/או המשמעות של סעיפים שונים בדוחות.
A3: מכירות (כולל התייחסות להנחה מסחרית)
A4: משקף את סך ההכנסות ממכירות המוצרים העיקריים בחברה.
A5: ההרכב:
B6: מכירות ״ברוטו״ | E6: +
B7: בניכוי הנחות מסחריות ללקוחות | E7: (-)
B8: בניכוי החזרות מלקוחות | E8: (-)
B9: מכירות ״נטו״ לצורך הצגה ברווח והפסד | E9: =
A11: במקרה שלנו: אין נתונים על מכירות ברוטו / הנחות וכו׳, אלא סכום המכירות נטו נתון.
A13: למשל, אם היה נתון:
B15: מכירות, ברוטו | D15: 500000
B16: החזרות מלקוחות | D16: 70000
B17: הנחות מסחריות ללקוחות | D17: 20000
A19: אז היינו מחשבים את המכירות נטו כך:
B21: מכירות ״ברוטו״ | E21: =D15 -> 500000
B22: בניכוי הנחות מסחריות ללקוחות | E22: =-D17 -> -20000
B23: בניכוי החזרות מלקוחות | E23: =-D16 -> -70000
B24: מכירות ״נטו״ לצורך הצגה ברווח והפסד | E24: =SUM(E21:E23) -> 410000
A26: הוצאות מכירה ושיווק
A27: כל העלויות שקשורות לפרסום המוצר, הפצתו ושיווקו.
A29: הוצאות פרסום - שילוט חוצות | D29: ='2 - הרצאה'!I332 -> 14000
A30: הוצאות פרסום - שיווק ישיר | D30: ='2 - הרצאה'!I333 -> 11000
A31: עמלת סוכני מכירות | D31: ='2 - הרצאה'!I344 -> 13000
A32: הוצאות שכר ומשכורות - שיווק | D32: ='2 - הרצאה'!I345 -> 23000
A33: סה״כ | D33: =SUM(D29:D32) -> 61000
A35: הוצאות הנהלה וכלליות
A36: זוהי ברירת המחדל לכל ההוצאות שאינן כלולות בעלות המכר / מימון.
A38: הוצאות טלפון | D38: 12000
A39: הוצאות אחזקה | D39: 3000
A40: הוצאות חשמל | D40: 34000
A41: הוצאות רכב | D41: 28000
A42: הוצאות ארנונה | D42: 10000
A43: הוצאות שכר ומשכורות - הנהלה | D43: 52000
A44: סה״כ | D44: =SUM(D38:D43) -> 139000
A46: הכנסות אחרות
A47: מדובר בפריטי הכנסה חריגים, כאלו שמתרחשים לעתים רחוקות יחסית, ואינם חלק מליבת העיסוק
A48: של החברה. כאן, מדובר ברווח הון ממכירת רכוש קבוע (כגון מכירת רכב מנכ״ל).
A49: דוגמאות נוספות תכלולנה: רווח ממכירת מבנים / נדל״ן להשקעה, רווח מדמי שכירות, הכנסה חד פעמית
A50: מייעוץ בחברה מסחרית.
A52: רווח הון ממכירת רכוש קבוע | D52: 14000
A54: הוצאות מימון (כולל התייחסות להנחת מזומן ולהבדל בינה לבין הנחה מסחרית ללקוח)
A55: באופן כללי, כוללות הוצאות מימון הוצאות פיננסיות כגון: הוצאות ריבית, הפסד מניירות ערך, עמלות בנק וכיוצא בזה.
A56: בנוסף, כוללות הוצאות המימון הנחות מזומן ללקוחות. מדוע? משום שכאשר חברה מעניקה הנחת מזומן, היא למעשה
A57: משלמת ללקוח בעד ״הקדמת התשלום״. לכן, הנחת מזומן ללקוח מאד דומה לריבית בגין הלוואה.
A58: זאת בשונה מהנחה ״מסחרית ללקוח״ שהיא הנחה ״כללית יותר״ ולכן מקוזז (מקטינה) את המכירות.
A60: הוצאות ריבית | D60: 11000
A61: עמלות בנק | D61: 1000
D62: =SUM(D60:D61) -> 12000
A64: הכנסות מימון: | J64: סוגי הנחות וסיווגן:
A65: הכנסות מימון כוללות הכנסות ריבית, רווח מהשקעה פיננסית (כגון השקעה במניות הנסחרות בבורסה). | K65: שנתתי | L65: שהתקבלה
A66: בנוסף, כוללות הכנסות המימון הנחות מזומן שהתקבלו מספקים. מדוע? משום שכאשר ספק מעניק לנו הנחת מזומן, | K66: ללקוח | L66: מספק
A67: הוא למעשה משלם לנו בעד זה ״שהקדמנו את התשלום לספק״. כלומר - הענקנו אשראי לספק. | J67: הנחה מסחרית | K67: הקטנת | L67: הקטנת
A68: לכן, ההטבה הנובעת מכך היא כעין הכנסת ריבית. | K68: ההכנסה | L68: הקניות
K69: ממכירות | L69: מספקים
A70: הכנסות ריבית | D70: 22000 | J70: הנחת מזומן | K70: הוצאות | L70: הכנסות
K71: מימון | L71: מימון
A73: לקוחות (נכס)
A74: לקוחות הם הנכס המייצג את חוב לקוחות החברה כלפיה. זהו נכס, משום שצפויה גבייה שלהם (שתכניס משאבים
A75: לחברה).
A76: סעיף הלקוחות בדוחות הכספיים יכול לכלול את הרכיבים הבאים:
B78: לקוחות (״ברוטו״) | E78: +
B79: שיקים (המחאות) לקבל | E79: +
B80: בניכוי הפרשה לחובות מסופקים (הלח״מ) | E80: (-)
B81: לקוחות (״נטו״) = סעיף הלקוחות שיוצג | E81: = | F81: במאזן
A83: גם שיקים לקבל הם חלק מהלקוחות, משום שמדובר בחוב לקוחות כלפינו, כל עוד השיק הדחוי שקיבלנו טרם נפרע.
A85: מהי המשמעות של ״הפרשה לחובות מסופקים״?
A86: נערוך דיון נרחב בנושא ממש בקרוב בפרק שלם של הקורס. אבל על קצה המזלג: נניח שלקוחות חייבים לחברה 100 מיליון ש״ח.
A87: אבל בשל קשיים בפירעון החוב (הלקוחות בקשיים פיננסיים) מעריכה הבאה שחלק של 5 מיליון ש״ח ככל הנראה לא ייגבה.
A88: החוב הבעייתי הזה נקרא ״הלח״מ״ - ראשי תיבות של ״הפרשה לחובות מסופקים״ = חובות שגבייתם מוטלת בספק.
A90: במקרה כזה, הלקוחות יוצגו במאזן בסכום של 95 מיליון.
B92: לקוחות (״ברוטו״) | E92: 100
B93: שיקים (המחאות) לקבל | E93: 0
B94: בניכוי הפרשה לחובות מסופקים (הלח״מ) | E94: -5
B95: לקוחות (״נטו״) = סעיף הלקוחות שיוצג | E95: =E92+E93+E94 -> 95 | F95: במאזן
A98: רכוש קבוע:
A99: מדובר בסעיף הכלול בנכסים הלא שוטפים, והוא מהווה את הסיכום של כלל הנכסים המוחשיים ארוכי הטווח בחברה.
A100: כגון: מכונות, ציוד, כלי רכב, מבנים, ריהוט, מחשבים וכיו״ב.
A101: במקרה שלנו:
A103: מחשבים | D103: 100000
A104: ציוד | D104: 1400000
A105: ריהוט - משרד המנכ״ל | D105: 150000
D106: =SUM(D103:D105) -> 1650000
A108: מעבר לערכים אלו, במידה וקיים נתון בגין פחת נצבר (לעתים מסומן בתור פחנ״צ), מדובר בנתון שיש לנכות מערך הפריטים
A109: כדי להגיע לאופן הצגתם כנכס רכוש קבוע בנכסי המאזן.
A111: נניח למשל שבנתוני השאלה היו מופיעים גם נתונים לגבי:
A112: פחת נצבר מחשבים: | C112: 10000
A113: פחת נצבר ריהוט - מנכ״ל: | C113: 20000
E114: פחנ״צ
D115: עלות | E115: פחת נצבר | F115: ערך נטו
A116: מחשבים | D116: =D103 -> 100000 | E116: =-C112 -> -10000 | F116: =D116+E116 -> 90000
A117: ציוד | D117: =D104 -> 1400000 | E117: 0 | F117: =D117+E117 -> 1400000
A118: ריהוט | D118: =D105 -> 150000 | E118: =-C113 -> -20000 | F118: =D118+E118 -> 130000
A119: סה״כ | D119: =SUM(D116:D118) -> 1650000 | E119: =SUM(E116:E118) -> -30000 | F119: =SUM(F116:F118) -> 1620000
F120: להצגה
F121: במאזן
A123: שימו לב להבדל בין פחת נצבר שמקטין נכסים (נכסים במינוס) במאזן, לבין הוצאות פחת שהן הוצאה ברווח והפסד (הוצאות הנהלה וכלליות,
A124: אלא אם יש סיבה טובה להניח אחרת).
A126: נכסים בלתי מוחשיים:
A127: נכסים לא שוטפים שאינם פיזיים. דוגמאות נפוצות: פטנטים (ידע), זיכיון (זכות שימוש במותג), שמות מסחריים וכיוצא
A128: בזה. בשאלה הנדונה, מדובר בפטנטים בלבד:
...

Sheet 2 - יונית
A2: הסברים והגדרות נוספות לשאלה 4 מחוברת התרגילים - יונית
A4: פחת נצבר כלי רכב:
A5: באופן כללי, ״כלי רכב״ מהווים נכס.
A6: אבל אין ספק גם שכאשר משתמשים בכלי הרכב (או באופן כללי, בפריט רכוש קבוע) תקופה ממושכת,
A7: הוא נשחק, מתבלה, וערכו קטן.
A9: הדרך שבה נתייחס לקיטון בערך / סכום השחיקה (בלאי) = פחת נצבר.
A11: למשל: למאי יש מכונית שעלתה לה 50,000 ש״ח.
A12: נכון ליום 31.12.2020 הפחת הנצבר בגין המכונית: 20,000 ש״ח.
A14: כיצד תוצג המכונית?
A16: בטבלת הסיווגים:
B17: יתרות | C17: נכסים | D17: התחייבויות | E17: הון | F17: הכנסות | G17: הוצאות
A18: מכונית | B18: 50000 | C18: =B18 -> 50000
A19: פחת נצבר | B19: 20000 | C19: =-B19 -> -20000
A21: בדוח על המצב הכספי - רכוש קבוע לפי עלות בניכוי פחת נצבר:
B23: רכוש קבוע | C23: =C18+C19 -> 30000 | E23: 50,000 - 20,000 =
A25: עלות המכירות - הגדרה מלאה על בסיס רכיבים
A26: בתרגיל שפתרנו בכיתה - עלות המכר היתה נתונה.
A27: בתרגיל יונית היא לא נתונה, ויש לחשבה על בסיס רכיביה המפורטים, כדלקמן:
A29: + | B29: מלאי פתיחה 1.1 | E29: 20000 | F29: בשאלת יונית
A30: + | B30: קניות | E30: 220000 | F30: בשאלת יונית
A31: + | B31: הובלה למחסן | E31: 0 | F31: בשאלת יונית ספציפית אין עלות כזו
A32: (-) | B32: החזרות לספקים | E32: 0 | F32: בשאלת יונית ספציפית אין עלות כזו
A33: (-) | B33: הנחות מסחריות מספקים/שהתקבלו | E33: -12000 | F33: בשאלת יונית
A34: (-) | B34: מלאי סגירה 31.12 | E34: -30000 | F34: בהתאם לנתון 2 בשאלת יונית
E35: =SUM(E29:E34) -> 198000
A37: הוצאות פחת
A38: הוצאות בגין שחיקה של פריט רכוש קבוע, ספציפית, השנה.
A39: אלא אם נאמר אחרת - נשייך להנהלה וכלליות.
A41: סוגיית ההנחות - פירוט מלא של אופן ההתייחסות
B44: הנחות מסחריות מספקים / שהתקבלו | E44: קיטון בהוצאות
B45: הנחות מזומן מספקים / שהתקבלו | E45: הכנסות מימון
B46: הנחות מסחריות ללקוחות / שניתנו | E46: קיטון בהכנסות
B47: הנחות מזומן ללקוחות / שניתנו | E47: הוצאות מימון

Sheet 2 - תרגול נוסף
A1: תרגול נוסף לתרגול עצמי (לא להגשה) - מבוא לחשבונאות פיננסית - לאחר הרצאה 2
A4: ביום 31 בדצמבר 2022 מסר לעיונכם מנהל החשבונות של חברת ״פנטומימים״ בע״מ את רשימת יתרות כרטיסי החשבון-
A5: הערכים הכספיים, בחברה זו. זוהי חברה מסחרית העוסקת בשיווק מוצרים שונים.
A7: נדרש - השלימו את הטבלה: סווגו כל אחד מהערכים לנכסים / התחייבויות / הון / הכנסות / הוצאות.
A8: נסו לבד! הפתרון המלא בהמשך.
A10: חשבון | B10: יתרה כספית בש״ח | C10: נכסים | D10: התחייבויות | E10: הון עצמי | F10: הכנסות | G10: הוצאות
A11: קופת מזומן | B11: 406971
A12: עו״ש בנק | B12: 107865
A13: הנחות מסחריות מספקים (שהתקבלו) | B13: 17000
A14: מכונות | B14: 206764
A15: פיקדון לזמן קצר | B15: 68294
A16: ספקים | B16: 60701
A17: שכר טרחת עורך דין | B17: 12000
A18: מבנים | B18: 5000000
A19: זכאים | B19: 233207
A20: הוצאות טלפון | B20: 11000
A21: לקוחות | B21: 271469
A22: שכר טרחת רואה חשבון | B22: 14000
... A31: פחת נצבר כלי רכב | B31: 26223
A32: עודפים ל- 1.1 | B32: ?
A33: פטנטים | B33: 378948
A34: מותגים | B34: 385795
A35: שמות מסחריים | B35: 345777
A36: הנחות מסחריות ללקוחות | B36: 21000
A37: קניות | B37: 200000
A38: הוצאות רכב | B38: 70000
A39: עמלות בנק | B39: 12000
A40: דמי ניהול | B40: 13000
A41: הוצאות שיווק | B41: 19000
A42: הנחות מזומן ללקוחות / שניתנו | B42: 6000
A43: הוצאות פרסום | B43: 4000
A44: עמלות הפצה | B44: 13000
... A51: הכנסות ריבית | B51: 11000
A53: טיפים:
A54: חלק גדול מהמושגים לעיל מוגדרים בשאלת יונית. לאחר התרגול יהיה לכם קל יותר להתמודד עמם.
A55: בינתיים, הוספתי לכם לגיליון 2 - יונית, התייחסות למושגים עיקריים אלו.
A56: כמובן, בשלב זה אין להעמיק בנושאים אלו, אלא רק לדעת עקרונית את הגדרתם. ההעמקה בהם תבוצע במסגרת הדיון בנושאים הבאים.
A57: מאותה הסיבה, אין כל חובה לערוך דוח מלא מורכב על בסיס כל היתרות הללו. את השילובים נבצע בהמשך, כרגע רק להכיר את ההגדרות זה מספיק,
A58: לצד, כמובן תרגילי התרגול ותרגיל הכיתה שהם מעט יותר פשוטים.
A60: חשבון | B60: יתרה כספית בש״ח | C60: נכסים | D60: התחייבויות | E60: הון עצמי | F60: הכנסות | G60: הוצאות
A61: קופת מזומן | B61: 406971 | C61: =B61 -> 406971
A62: עו״ש בנק | B62: 107865 | C62: =B62 -> 107865
A63: הנחות מסחריות מספקים (שהתקבלו) | B63: 17000 | G63: =-B63 -> -17000 | H63: הנחת מסחרית מספק למעשה מקטינה את סכום הקניה / ההוצאה, לכן מסווגת בעמודת ההוצאות בסימן שלילי (מקטינה את סעיף ההוצאות ״עלות המכר״).
A64: מכונות | B64: 206764 | C64: =B64 -> 206764
A65: פיקדון לזמן קצר | B65: 68294 | C65: =B65 -> 68294
A66: ספקים | B66: 60701 | D66: =B66 -> 60701
A67: שכר טרחת עורך דין | B67: 12000 | G67: =B67 -> 12000 | H67: הנהלה וכלליות
A68: מבנים | B68: 5000000 | C68: =B68 -> 5000000
A69: זכאים | B69: 233207 | D69: =B69 -> 233207
A70: הוצאות טלפון | B70: 11000 | G70: =B70 -> 11000 | H70: הנהלה וכלליות
A71: לקוחות | B71: 271469 | C71: =B71 -> 271469
A72: שכר טרחת רואה חשבון | B72: 14000 | G72: =B72 -> 14000 | H72: הנהלה וכלליות
A73: הנחות מזומן מספקים / שהתקבלו | B73: 80000 | F73: =B73 -> 80000 | H73: הנחת מזומן שהתקבלה היא כעין ריבית על הקדמת תשלום, לכן סוג של הכנסת מימון
A74: הון מניות | B74: 384935 | E74: =B74 -> 384935
A75: חייבים | B75: 177214 | C75: =B75 -> 177214
A76: פיקדון לזמן ארוך | B76: 494068 | C76: =B76 -> 494068
A77: הלוואה לזמן קצר | B77: 96879 | D77: =B77 -> 96879
A78: הלוואה לזמן ארוך | B78: 385915 | D78: =B78 -> 385915
A79: משיכת יתר (מינוס בבנק) | B79: 356675 | D79: =B79 -> 356675
A80: כלי רכב | B80: 900000 | C80: =B80 -> 900000
A81: פחת נצבר כלי רכב | B81: 26223 | C81: =-B81 -> -26223 | H81: פחת נצבר משקף שחיקה / קיטון מצטבר בערכו של נכס. כלומר, שווי הנכס לצורך הצגה במאזן ייקבע לפי העלות (״כלי רכב״) בניכוי הפחת הנצבר (״פחת נצבר כלי רכב״)
A82: עודפים ל- 1.1 | B82: ? | E82: =B82 -> ?
A83: פטנטים | B83: 378948 | C83: =B83 -> 378948
A84: מותגים | B84: 385795 | C84: =B84 -> 385795
A85: שמות מסחריים | B85: 345777 | C85: =B85 -> 345777
A86: הנחות מסחריות ללקוחות | B86: 21000 | F86: =-B86 -> -21000 | H86: הנחה מסחרית ללקוח למעשה מקטינה את סכום המכירה. לכן מסווגת לעמודת ההכנסות (בדומה למכירות) אך ךבסימן שלילי
A87: קניות | B87: 200000 | G87: =B87 -> 200000 | H87: חלק מעלות המכירות
A88: הוצאות רכב | B88: 70000 | G88: =B88 -> 70000 | H88: הנהלה וכלליות
A89: עמלות בנק | B89: 12000 | G89: =B89 -> 12000 | H89: הוצאות מימון
A90: דמי ניהול | B90: 13000 | G90: =B90 -> 13000 | H90: הנהלה וכלליות
A91: הוצאות שיווק | B91: 19000 | G91: =B91 -> 19000 | H91: מכירה ושיווק
A92: הנחות מזומן ללקוחות / שניתנו | B92: 6000 | G92: =B92 -> 6000 | H92: מדובר במעין ריבית על הקדמת עיתוי קבלת הכסף מלקוח, לכן כעין הוצאות מימון
A93: הוצאות פרסום | B93: 4000 | G93: =B93 -> 4000 | H93: מכירה ושיווק
A94: עמלות הפצה | B94: 13000 | G94: =B94 -> 13000 | H94: מכירה ושיווק
A95: הכנסות ממכירות | B95: 800000 | F95: =B95 -> 800000
A96: מלאי פתיחה ליום 1.1 | B96: 30000 | G96: =B96 -> 30000 | H96: חלק מעלות המכירות
A97: הכנסות חריגות משירות | B97: 20000 | F97: =B97 -> 20000 | H97: הכנסות אחרות
A98: שכר דירה | B98: 22000 | G98: =B98 -> 22000 | H98: הנהלה וכלליות
A99: מלאי סגירה ליום 31.12 | B99: 20000 | C99: =B99 -> 20000 | G99: =-C99 -> -20000 | H99: בדוח על המצב הכספי (המאזן) מלאי הוא נכס כמובן, אך במקביל הוא מקטין את עלות המכירות לפי ההגדרה. זהו הסעיף היחיד שנזקף לשני מקומות
A100: הוצאות ארנונה | B100: 32000 | G100: =B100 -> 32000 | H100: הנהלה וכלליות
A101: הכנסות ריבית | B101: 11000 | F101: =B101 -> 11000 | H101: הכנסות מימון
A104: (*) | B104: הערה מצויינת שניתנה על ידי שילת שתיקנה טעות שלי בסיווג:
B105: שכר דירה = אם לא נאמר, זו הוצאה.
B106: זו תהיה הכנסה, רק בליווי כגון ״הכנסות שכר דירה״.

Sheet 3 - הרצאה
A1: מפגש מס׳ 3 - רישום חשבונאי בסיסי - פקודות יומן | I1: 45973
A3: מטרת המפגש:
A4: עד כה רק הצגנו הגדרות: אמרנו שלקוחות הם חוב כלפי החברה, ולא ציינו כיצד נוצרו;
A5: הסברנו שנכסים הם משאבים; ולא הגדרנו את תהליך יצירתם.
A6: ולכן - כדי להשלים את הידע - נעסוק היום באופן הרישום והתיעוד המלא של עסקאות ואירועים כלכליים.
A7: לא רק הגדרה - אלא מהן מכלול ההשפעות של עסקה - על נכסים / התחייבויות / הון עצמי / הכנסות / הוצאות.
A9: הדרך שבה מקובל לתאר את מכלול ההשפעות של עסקה - פקודות יומן.
A11: כשעוסקים בפקודות יומן - תיעוד מלא של השפעות עסקה - מקבלים תיאור מילולי מפורט שלה ולא טבלה גולמית.
A13: חיזוק נוסף בנושא עלות מכר ורווח גולמי (בסמסטר 2025א למדנו את זה במפגש 2, לכן לא נעבור לע זה רק תתרגלו בבית)
A15: דוח רווח והפסד נפתח בחברה מסחרית (חברה שקונה ומוכרת מוצרים כעיסוק עיקרי) בשורות הבאות:
A17: (*) | B17: מכירות (מכירות המוצרים העיקריים בחברה) - הכנסות | F17: +
A18: (**) | B18: עלות המכירות (עלות המוצרים שנמכרו) - הוצאה | F18: (-)
B19: רווח גולמי - ההפרש בין המכירות לעלות המכר | F19: ,=
A21: רווח גולמי הוא הרווח הבסיסי ביותר - המייצג את ההפרש בין ההכנסות העיקריות בחברה (ממכירות)
A22: לבין העלות הבסיסית ביותר - עלות המוצרים שנמכרו.
A24: נפעל כעת להגדרת וחישוב כל אחדת מהסעיפים הבונים את הרווח הגולמי:
A26: מכירות (*) = מכירות נטו: | F26: עלות המכירות (**):
A27: מכירות ברוטו | D27: + | F27: מלאי פתיחה | G27: + | H27: מלאי לתחילת השנה
A28: בניכוי החזרות מלקוחות | D28: (-) | F28: קניות, נטו | G28: + | H28: קניות בניכוי הנחות והחזרות
A29: בניכוי הנחות מסחריות ללקוחות / שנתתי | D29: (-) | F29: מלאי סגירה | G29: (-) | H29: מלאי לתום השנה
A30: סך הכל מכירות נטו | D30: = | F30: סך עלות המכר | G30: =
A32: הנחה מסחרית: כל הנחה שאיננה הנחת מזומן.
A33: הנחות מזומן הן הוצאות מימון / הכנסות מימון, | F33: נניח: לתחילת שנה 1.1.2020
A34: ואינן נכללות במכירות / בעלות המכירות. | F34: מלאי פתיחה בעלות 100 ש״ח
I35: מלאי פתיחה + קניות
I36: 400
F37: במהלך השנה 2020:
F38: קניות בהיקף 300 ש״ח
A41: איך ניתן לחלץ את X - עלות המלאי שיצא - עלות המכר? | F41: במהלך השנה 2020:
D42: X = 100 + 300 - 120 = 280 | F42: הוצאתי מלאי בהיקף X | I42: 400-120=280
A43: או:
B44: מלאי פתיחה | C44: 100
B45: קניות, נטו | C45: 300 | F45: בתום השנה 31.12.2020:
B46: מלאי סגירה | C46: -120 | F46: מלאי סגירה בעלות 120 ש״ח
B47: עלות המכר | C47: =SUM(C44:C46) -> 280
A50: כדי להשלים את הדיון - ההגדרה האחרונה שנחדד היא קניות נטו:
B52: קניות נטו:
B53: קניות ברוטו | D53: + | E53: ״קניות״
B54: הובלה למחסן | D54: +
B55: החזרות לספקים | D55: (-)
B56: הנחות מסחריות מספקים | D56: (-) | E56: שהתקבלו | F56: כל הנחה שאיננה הנחת מזומן. זכרו: הנחות מזומן הן בהוצאות / הכנסות מימון,
B57: סך הכל קניות נטו | D57: = | F57: ואינן חלק מעלות המכירות / רווח גולמי.
A59: תרגולון - חשבו את הרווח הגולמי על בסיס הערכים הבאים:
A61: חשבון | C61: ערך כספי | E61: מכירות, נטו:
A62: קניות ברוטו | C62: 50000 | E62: מכירות ברוטו
A63: ספקים | C63: 4000 | E63: בניכוי הנחות מסחריות ללקוחות
A64: החזרות לספקים | C64: 7000 | E64: בניכוי החזרות מלקוחות
A65: מכירות | C65: 200000
A66: הוצאות הובלה ללקוחות | C66: 3000
A67: הנחות מזומן ללקוחות | C67: 2000 | E67: עלות המכירות:
A68: הנחות מזומן מספקים | C68: 6000 | E68: מלאי פתיחה
A69: הנחות מסחריות מספקים | C69: 1000 | E69: בתוספת קניות נטו (קניות ברוטו + הובלה למחסן, בניכוי הנחות מסחריות מספק והחזרות)
A70: הוצאות הובלה למחסן | C70: 8000 | E70: מלאי סגירה
A71: מלאי פתיחה | C71: 10000
A72: מלאי סגירה | C72: 12000
A74: מכירות, נטו: | E74: עלות המכירות:
A75: מכירות | C75: 200000 | E75: מלאי פתיחה | G75: =C71 -> 10000
A76: הנחות מסחריות ללקוחות | C76: 0 | E76: קניות, נטו | G76: =H85 -> 50000 | K76: 50,000 + 8,000 - 1,000 - 7,000 =
A77: החזרות מלקוחות | C77: 0 | E77: בניכוי מלאי סגירה | G77: =-C72 -> -12000
A78: מכירות נטו סה״כ | C78: =C75 -> 200000 | E78: סך עלות המכירות | G78: =SUM(G75:G77) -> 48000
A80: רווח גולמי: | E80: קניות נטו:
A81: מכירות, נטו | C81: =C78 -> 200000 | E81: קניות ״ברוטו״ | H81: =C62 -> 50000
A82: בניכוי עלות המכירות | C82: =-G78 -> -48000 | E82: הובלה למחסן | H82: =C70 -> 8000
A83: רווח גולמי | C83: =C81+C82 -> 152000 | E83: בניכוי החזרות לספקים | H83: =-C64 -> -7000
E84: בניכוי הנחות מסחריות מספקים | H84: =-C69 -> -1000
E85: קניות, נטו | H85: =H81+H82+H83+H84 -> 50000
A87: נעבור לנושא העיקרי (השיעור הכיתתי בפועל החל מכאן) - תיעוד חשבונאי בסיסי (פקודות יומן)
A89: עד כה - עסקנו בעריכת דיווחים כספיים - כאשר היתרות הכספיות (הערכים הכספיים מכל סוג) היו נתונות.
A90: כלומר, קיבלנו רשימה, וכל מה שהיינו צריכים לעשות זה לסווג (לשייך) את רכיבי הרשימה לדוחות השונים.
A92: כמובן שחלק מההבנה המלאה של המידע החשבונאי עוסקת לא רק בסיווג ושיוך - אלא גם בתיעוד עסקאות ספציפיות,
A93: על כלל ההיבטים שלהן.
A95: כל אירוע כלכלי בחברה, שעה שעה, יום יום, צריך לקבל ביטוי באופן מפורש וספציפי כדי לבטא את מכלול ההשפעות
A96: שנוצרו כתוצאה ממנו.
A98: הדרך לתת ביטוי לעסקאות אלו חייבת לשמור על הזהות: נכסים = התחייבויות + הון עצמי.
A100: הרישום איננו ״מתמטי״ טהור אלא מתבסס על טכניקה רישומית שנקראת ״פקודות יומן״ - Journal Entries.
A102: הרישום יבוצע מנקודת ראות החברה, ולחלק מכם ירגיש ״הפוך מההיגיון״. נדבר על זה, נדגים.
A104: שלבי למידה בנושא פקודות יומן: | H104: נכסים | I104: = | J104: התחייבויות | K104: הון עצמי
A105: שלב 1: הצגה מתמטית של כל עסקה לפי המשוואה: נכסים = התחייבויות + הון עצמי | K105: הון מניות | L105: הכנסות + | M105: הוצאות (-)
A106: שלב 2: המרה של הרישום המתמטי / טבלאי לפקודות יומן לפי ההגדרות המתאימות
A108: נסח השאלה - לפניכם נתונים בדבר עסקאות שהתרחשו בחברה שהוקמה ב-1.1.2020, בשנת 2020:
A109: א. חברה הנפיקה 30,000 מניות בנות 2 ש״ח ערך נקוב כל אחת תמורת 60,000 ש״ח.
A110: ב. החברה לוותה 50,000 ש״ח כהלוואה ל-5 שנים שתסולק בתשלום אחד (קרן וריבית) בתום 5 השנים.
A111: ג. הריבית שנצברה (אך טרם שולמה) בגין אירוע ב עד לתום שנת הדיווח היא 3,000 ש״ח.
A112: ד. החברה העניקה שירותים בהיקף 40,000 ש״ח. סכום של 30,000 ש״ח התקבל במזומן, היתרה תתקבל בשנה הבאה.
A113: ה. החברה שילמה בעד הוצאות חשמל 5,000 ש״ח.
A114: ו. החברה שילמה בעד הוצאות תפעוליות 20,000 ש״ח.
A115: ז. החברה הפקידה בפיקדון בנקאי לזמן קצר 15,000 ש״ח.
A116: ח. הפקדון הבנקאי מסעיף (ז) לזמן קצר נפרע בסכום כולל של 16,000 ש״ח (קרן וריבית יחד).
A117: ט. החברה הכריזה דיבידנד בסכום של 5,000 ש״ח. הדיבידנד ישולם בשנה הבאה.
C120: נכסים | F120: התחייבויות | I120: הון עצמי
C121: מזומן | D121: לקוחות | E121: פקדון לזמן קצר | F121: הלוואה ל-5 שנים | G121: ריבית לשלם | H121: דיבידנד לשלם | I121: הון מניות | J121: הוצאות (-) | K121: הכנסות + | L121: עודפים (רווח מצטבר)
A122: א. הנפקת מניות - קבלת מזומן | C122: 60000 | I122: =C122 -> 60000
A123: ב. נטילת הלוואה | C123: 50000 | F123: =C123 -> 50000
A124: ג. צבירת ריבית בגין הלוואה | G124: =-J124 -> 3000 | J124: -3000
A125: ד. אספקת שירותים | C125: 30000 | D125: 10000 | K125: 40000
A126: ה. הוצאות חשמל | C126: -5000 | J126: -5000
A127: ו. הוצאות תפעוליות | C127: -20000 | J127: =C127 -> -20000
A128: ז. הפקדה בפיקדון לזמן קצר | C128: -15000 | E128: =-C128 -> 15000
A129: ח. פירעון פיקדון | C129: 16000 | E129: =-E128 -> -15000 | K129: 1000
A130: ט. הכרזת דיבידנד | H130: =-L130 -> 5000 | L130: =-5000 -> -5000
...

Sheet 3 - תרגול נוסף
A1: מפגש מס׳ 3 - תרגול נוסף של פקודות יומן ותוספת קטנטנה - ריכוז הפקודות ליתרות | I1: 44879
A3: המטרה שלנו במפגש זה היא להמשיך ולתרגל את נושא פקודות היומן, ולאחר התרגול, להציג את טכניקת הרישום המקובלת
A4: לתיעוד ערכים לשם צבירת יתרות במסגרת ״כרטיסי חשבון״ ו״מאזן בוחן תלת טורי״.
A6: למי שעדיין מתקשה בפקודות יומן ופספס - סרטון עזר מאד חובבני אך שקיבל פידבקים טובים מאד מסטודנטים, נמצא כאן:
H7: https://youtu.be/yBkNCQvDNCw
A9: התרגיל
A10: חברת ״מקינטה הקטנה״ בע״מ (להלן: ״החברה״) היא חברה מסחרית העוסקת במגוון רחב של פעילויות עסקיות. להלן נתונים
A11: בדבר עסקאות ואירועים שהתרחשו בחברה בשנת הקמתה (החברה הוקמה ב-1.1.2018):
A12: א. החברה הנפיקה 200,000 מניות בנות 1 ש״ח ערך נקוב כל אחת בתמורה ל-200,000 ש״ח.
A13: ב. החברה נטלה הלוואות לזמן ארוך בסכום של 70,000 ש״ח.
A14: ג. החברה שילמה הוצאות ריבית בגין הלוואות לזמן ארוך בסך של 7,000 ש״ח.
A15: ד. החברה ביצעה קניות מספקים בעלות של 40,000 ש״ח. מתוך סכום זה, 10,000 ש״ח שולמו במזומן והיתרה טרם שולמה.
A16: ה. החברה ביצעה מכירות שכל כל הקניות - ללקוחות בהיקף של 100,000 ש״ח, מתוכן 44,000 ש״ח במזומן והיתרה באשראי לקוחות.
A17: ו. החברה שילמה הוצאות חשמל בסך 15,000 ש״ח.
A18: ז. החברה שילמה הוצאות פרסום בסך 4,000 ש״ח.
A19: ח. החברה רכשה מקבוקים לעובדי המשרד בסך 8,000 ש״ח.
A20: ט. החברה נטלה הלוואה לזמן קצר בסך 10,000 ש״ח.
... A29: תזכורת - כללי יסוד:
C30: נכסים | D30: = | E30: התחייבויות + | F30: הון עצמי
F31: הון מניות | G31: הכנסות (+) | H31: הוצאות (-)
A32: טבלת פקודות יומן בהתאם לכלל היסוד:
C33: גידול - בחובה | E33: גידול - בזכות
C34: קיטון - בזכות | E34: קיטון - בחובה
A39: א. החברה הנפיקה 200,000 מניות בנות 1 ש״ח ערך נקוב כל אחת בתמורה ל-200,000 ש״ח.
C40: נכסים | D40: = | E40: התחייבויות + | F40: הון עצמי
F41: הון מניות | G41: הכנסות (+) | H41: הוצאות (-)
C42: מזומן
C43: 200000 | F43: 200000
A45: חובה מזומן | B45: =C43 -> 200000
A46: זכות הון מניות | B46: =B45 -> 200000
A51: ב. החברה נטלה הלוואות לזמן ארוך בסכום של 70,000 ש״ח.
C52: נכסים גידול-חובה קיטון-זכות | D52: = | E52: התחייבויות והון עצמי גידול-בזכות קיטון-חובה
E53: התחייבות: הלוואה | F53: הון מניות | G53: הכנסות (+) | H53: הוצאות (-)
C54: מזומן
C55: 70000 | E55: 70000
A57: חובה מזומן | C57: =C55 -> 70000
A58: זכות הלוואה לזמן ארוך | C58: =C57 -> 70000
A61: ג. החברה שילמה הוצאות ריבית בגין הלוואות לזמן ארוך בסך של 7,000 ש״ח.
C62: נכסים גידול-חובה קיטון-זכות | D62: = | E62: התחייבויות והון עצמי גידול-בזכות קיטון-חובה
E63: התחייבות: הלוואה | F63: הון מניות | G63: הכנסות (+) | H63: הוצאות (-)
C64: מזומן
C65: -7000 | H65: =C65 -> -7000
A67: (*) | B67: ערך בסוגריים = שלילי בחשבונאות.
A69: זכות מזומן | C69: 7000
A70: חובה הוצאות ריבית | C70: =C69 -> 7000
A72: הסבר מפורט:
B73: נכס המזומן קטן - זכות מזומן.
B74: לגבי הוצאות הריבית - זה נכון לומר שההוצאות גדלות; יחד עם זאת, יש לזכור - הוצאות מקטינות
B75: את הרווח ולכן גם את ההון העצמי.
B76: משום כך, תמיד הוצאות מקטינות בעקיפין את ההון העצמי, ותמיד תרשמנה בחובה.
A79: ד. החברה ביצעה קניות מספקים בעלות של 40,000 ש״ח. מתוך סכום זה, 10,000 ש״ח שולמו במזומן והיתרה טרם שולמה.
C81: נכסים גידול-חובה קיטון-זכות | D81: = | E81: התחייבויות והון עצמי גידול-בזכות קיטון-חובה
E82: התחייבות: | F82: הון מניות | G82: הכנסות (+) | H82: הוצאות (-)
C83: מזומן | E83: ספקים
C84: -10000 | E84: 30000 | H84: -40000
A86: כאשר אנו נתקלים במונח ״קניות״, ללא תיאורים נוספים, מדובר בקניה ״שוטפת״ [לא של נכס ארוך טווח]
A87: ולכן יש לתעד הוצאה - בצד ההון העצמי בסימן שלילי (סוגריים = שלילי בחשבונאות).
A88: ההוצאה תירשם לפי סכום הקניה הכולל, ללא תלות במועד התשלום בפועל.
A90: המזומן קטן ב-10,000.
A92: בנוסף נוצרה התחייבות לשלם את ההפרש בין סכום הקניה (40,000) לבין תשלום המזומן (10,000) = 30,000.
A93: להתחייבות שנוצרת כנגד ספקי מוצר או שירות, נקרא ״ספקים״. לכן יש להגדיל התחייבות הנקראת ״ספקים״ בסכום זה.
A95: זכות מזומן | B95: 10000
A96: זכות ספקים | B96: 30000
A97: חובה קניות | B97: =40000 -> 40000
A102: ה. החברה ביצעה מכירות שכל כל הקניות - ללקוחות בהיקף של 100,000 ש״ח, מתוכן 44,000 ש״ח במזומן והיתרה באשראי לקוחות.
B104: נכסים גידול-חובה קיטון-זכות | D104: = | E104: התחייבויות והון עצמי גידול-בזכות קיטון-חובה
E105: התחייבות: | F105: הון מניות | G105: הכנסות (+) | H105: הוצאות (-)
B106: מזומן | C106: לקוחות
B107: 44000 | C107: 56000 | G107: 100000
A109: כשם שבנתון לגבי קניות - נרשום את כל סכום הקניה כהוצאה (אירוע ד),
A110: כך בנתון לגבי מכירות - נרשום את כל סכום המכירה כהכנסה - וזאת: ללא תלות במועד שבו מתקבל המזומן בעד המכירה.
A112: הואיל וקיים פער בין סכום ההכנסה (המכירה): | E112: 100000
A113: לסכום המזומן שהתקבל | E113: 44000
A114: נוצר הפרש, המשקף חוב כלפי החברה = נכס לקוחות: | E114: =E112-E113 -> 56000 | G114: 100,000 - 44,000 =
A116: פקודת יומן:
A117: חובה מזומן | B117: 44000
A118: חובה לקוחות | B118: 56000
A119: זכות מכירות | B119: =G107 -> 100000
A121: ו. החברה שילמה הוצאות חשמל בסך 15,000 ש״ח.
B123: נכסים גידול-חובה קיטון-זכות | D123: = | E123: התחייבויות והון עצמי גידול-בזכות קיטון-חובה
E124: התחייבות: | F124: הון מניות | G124: הכנסות (+) | H124: הוצאות (-)
B125: מזומן
B126: -15000 | H126: =B126 -> -15000
A128: פקודת יומן:
A129: זכות מזומן | C129: 15000
A130: חובה הוצאות חשמל | C130: =C129 -> 15000
A133: ז. החברה שילמה הוצאות פרסום בסך 4,000 ש״ח.
A135: פקודת יומן: | E135: ההסבר / הטבלה: בדיוק כמו בסעיף קודם.
A136: זכות מזומן | C136: 4000
A137: חובה הוצאות פרסום | C137: =C136 -> 4000
A139: ח. החברה רכשה מקבוקים לעובדי המשרד בסך 8,000 ש״ח מתוכם שילמה במזומן 5,000 והיתרה באשראי ספקים.
B141: נכסים גידול-חובה קיטון-זכות | D141: = | E141: התחייבויות והון עצמי גידול-בזכות קיטון-חובה
E142: התחייבות: | F142: הון מניות | G142: הכנסות (+) | H142: הוצאות (-)
B143: מזומן | C143: מחשבים | E143: ספקים
B144: -5000 | C144: 8000 | E144: 3000
A146: (*) | B146: זכרו: סוגריים = מינוס בחשבונאות.
A148: ראשית: המזומן ששולם מקטין את נכס המזומן: | E148: -5000
A149: שנית: הואיל ומדובר ברכישה של פריט ״בר קיימא״ (שישרת את החברה תקופה ממושכת) - מלוא עלותו היא נכס מחשב: 8,000
A150: שלישית: הואיל ועלות המחשב שנרכש גבוהה מהסכום ששולם, ההפרש מהווה התחייבות לספק המחשבים: | I150: 8,000 - 5,000 = 3,000
A152: פקודת יומן:
...

Sheet 4 - הרצאה
A1: מבוא לחשבונאות פיננסית - שיעור מס׳ 4 | H1: 45980
A2: סרטון לתרגול נוסף | E2: https://youtu.be/WBmwt2wrMco
A3: נושא על: הכרה בהכנסות ובהוצאות - כולל רישומי התאמה / חשבונות חתך
A4: מטרה:
A5: לחדד ולהדגיש את הפער העקרוני בין עיתוי כניסה ויציאת מזומנים, לבין עיתוי הפעילות שבגינה נרשמות הכנסות
A6: או הוצאות.
A7: לחדד את אופן רישום פקודות היומן הקשורות, והמעגל החשבונאי השלם של התהליך בעסקאות לשירות מתמשך
A8: בכללותן.
A10: תהליך חשבונאי - תכל׳ס מה עושים:
A11: א. רישום בסיסי של ההכנסה / ההוצאה ברמת הנהלת החשבונות - לפי עיתוי האסמכתא (להנחתנו, עיתוי זרימת המזומן). | I11: רישום לפי תשלום
A12: ב. אמידת סכום ההכנסה / ההוצאה בפועל, בהתאם לשווי השירות שנצרך / סופק. | I12: לדיווח הכנסה/הוצ׳: לפי שווי השירות
A13: ג. אמידת הערך ההפרשי המצטבר בין סכומי ההכנסות / ההוצאות לבין סכומי המזומן המצטברים ששולמו / התקבלו. | I13: חישוב הפרש מצטבר בין הערכים
A14: ד. רישום פקודת יומן מתאימה לעדכון ההפרש (פקודת התאמה / פקודת חתך). | I14: תיעוד ההפרש / השינוי
A16: לא מספיק ברור? הבה נדגים.
A18: אז בעצם - מה מטרת המפגש - ״הכרה בהכנסות ובהוצאות - תהליך הרישום ופקודות התאמה / חתך״
A28: מנהלת החשבונות בחברה - מקבלת לתיעוד | F28: רגע! מה זה השטויות האלה? | J28: אני החשבונאי אדאג
A29: את ״החשבוניות והקבלות״ | F29: למה כל הסכומים שהתקבלו | J29: לבצע למענכם פקודת
A30: עליה לתעד כל יום את כל העסקאות | F30: במזומן דווחו כהכנסה? | J30: התאמה:
A31: בהתאם לחשבוניות וקבלות שהיא מקבלת | F31: הרי הכנסה צריכה לשקף בדיווחים | J31: לתקן ולעדכן את הרישום
F32: למשקיע רק את שווי השירות | J32: השוטף לערכים שבאמת
A33: שאלה: נניח שמנהלת החשבונות מקבלת | F33: שסיפקנו, את הביצועים - לא | J33: משקפים את שווי
A34: חשבונית שכתוב עליה ״העברה בנקאית | F34: את התקבולים | J34: השירות שסופק
A35: עבור שירות - 100,000 ש״ח״
A36: האם לדעתכם יש למנהלת החשבונות זמן
A37: ללכת ולבדוק עם מנהלי הפרויקט איפה
A38: השירות הזה עומד? איזה חלק ממנו סופק?
A39: מה סטטוס הביצוע של הפרויקט?
A41: התשובה: לא. היא תרשום את העסקה
A42: לפי הסכום בחשבונית. אם כתוב שהתקבל עבור שירות - היא רושמת הכנסה.
A44: תהליך העבודה - מרמת הנהלת החשבונות לרמת ההתאמה והדוח - תיאור יותר טכני
A46: בהנהלת החשבונות: | C46: בבקרה התקופתית שמבצעים, | E46: הגדרה - יתרת חתך: | G46: פקודת התאמה
A47: רושמים בפקודה את העסקאות | C47: עורכים בדיקה - מגלים את הערך / | E47: מי חייב למי וכמה | G47: פקודת החתך
A48: לפי סכום המזומן | C48: את השווי של השירות שסופק/נצרך | G48: פקודה ש״מתקנת״
G49: את הפקודה של הנהלת
A50: ח׳ מזומן. ז׳ הכנסות | C50: סכום הכנסה: שווי שירות שסופק | G50: החשבונות לערך השווי
A51: ח׳ הוצאות. ז׳ מזומן | C51: סכום הוצאה: שווי שירות שנצרך | G51: הרלוונטי
A53: תרגיל 0 - הכנסות, הוצאות, פעולות התאמה (פקודות התאמה) ויתרות חתך | H53: בוצע עם קבוצת 12:15
A54: חברת ״אייפון של טחונים״ בע״מ התקשרה בהסכם למתן שירותים חברת ביאן בע״מ. | H54: קבוצת 9:15 - השתמשו בתרגיל זה לתרגול נוסף!
A55: להלן הנתונים לגבי שווי השירות שסיפקה חברת אייפון בכל שנה, וכן סכום המזומן שקיבלה מהלקוחה בכל שנה:
C57: שנה | D57: סכום המזומן שהתקבל - אלפי ש״ח | E57: שווי השירות שסופק - אלפי ש״ח
C58: 2020 | D58: 100 | E58: 140
C59: 2021 | D59: 150 | E59: 160
C60: 2022 | D60: 350 | E60: 80
C61: 2023 | D61: 300 | E61: 520
A63: נדרש:
A64: א. מהן פקודות היומן שתרשמנה בהנהלת החשבונות של החברה בכל אחת מהשנים?
A65: ב. מהו סכום ההכנסה שיש להציג למשקיע בכל אחת מהשנים?
A66: ג. מהי פקודת ההתאמה / פקודת החתך שתירשם בכל שנה (מטרתה - להתאים את הסכום של הנהלת החשבונות, לסכום שידווח).
A67: ד. מהי יתרת החתך לתום כל אחת מהשנים?
A69: נייר העבודה שבו אשתמש:
D70: פקודת היומן שתירשם בשנה | F70: הכנסה | G70: יתרת החתך - מי חייב למי | I70: פקודת ההתאמה / פקודת החתך
C71: שנה | D71: בהנהלת החשבונות (לפי המזומן) | F71: לפי שווי שירות | G71: וכמה | I71: עדכון ההכנסות
C72: 2020 | D72: ח׳ מזומן 100 ז׳ הכנסות 100 | F72: 140 | G72: הכנסות לקבל (נכס) 40 | I72: חובה הכנסות לקבל 40 זכות הכנסות 40
C73: 2021 | D73: ח׳ מזומן 150 ז׳ הכנסות 150 | F73: 160 | G73: הכנסות לקבל (נכס) 50 | I73: חובה הכנסות לקבל 10 זכות הכנסות 10
C74: 2022 | D74: ח׳ מזומן 350 ז׳ הכנסות 350 | F74: 80 | G74: הכנסות מראש (התחייבות) 220 | I74: זכות הכנסות לקבל 50 זכות הכנסות מראש 220 חובה הכנסות 270
C75: 2023 | D75: ח׳ מזומן 300 ז׳ הכנסות 300 | F75: 520 | G75: 0 | I75: חובה הכנסות מראש 220 זכות הכנסות 220
A77: תרגיל 0.1 - הכנסות, הוצאות, פעולות התאמה (פקודות התאמה) ויתרות חתך | I77: בוצע עם קבוצת 12:15
A78: חברת ״החיייל עם הטונה בכיס״ בע״מ התקשרה בהסכם למתן שירותים. | I78: קבוצת 9:15 - השתמשו בתרגיל זה לתרגול נוסף!
A79: להלן הנתונים לגבי שווי השירות שסיפקה בכל שנה, וכן סכום המזומן שקיבלה מהלקוחה בכל שנה:
C81: שנה | D81: סכום המזומן שהתקבל - אלפי ש״ח | E81: שווי השירות שסופק - אלפי ש״ח
C82: 2020 | D82: 200 | E82: 20
C83: 2021 | D83: 200 | E83: 300
C84: 2022 | D84: 400 | E84: 450
C85: 2023 | D85: 450 | E85: =E86-E84-E83-E82 -> 480
C86: סה״כ | D86: =SUM(D82:D85) -> 1250 | E86: =D86 -> 1250
A87: נדרש:
A88: א. מהן פקודות היומן שתרשמנה בהנהלת החשבונות של החברה בכל אחת מהשנים?
A89: ב. מהו סכום ההכנסה שיש להציג למשקיע בכל אחת מהשנים?
A90: ג. מהי פקודת ההתאמה / פקודת החתך שתירשם בכל שנה (מטרתה - להתאים את הסכום של הנהלת החשבונות, לסכום שידווח).
A91: ד. מהי יתרת החתך לתום כל אחת מהשנים?
D93: פקודת היומן שתירשם בשנה | F93: הכנסה | G93: יתרת החתך - מי חייב למי | I93: פקודת ההתאמה / פקודת החתך
C94: שנה | D94: בהנהלת החשבונות (לפי המזומן) | F94: לפי שווי שירות | G94: וכמה | I94: עדכון ההכנסות
C95: 2020 | D95: ח׳ מזומן ז׳ הכנסות לפי סכום התקבול השנתי | F95: שווי השירות (מספר) | G95: סוכמים את כל המזומן עד כה וגם את כל השירות עד כה מזומן > שירות: ההפרש - הכנסות מראש (התחייבות) מזומן < שירות: ההפרש: הכנסות לקבל (נכס) | I95: חלק ראשון של פקודת ההתאמה: אם צריך להגדיל הכנסות : זכות הכנסות אם צריך להקטין הכנסות חובה הכנסות חלק שני: להגדיל הכנסות לקבל חובה הכנסות לקבל להגדיל הכנסות מראש זכות הכנסות מראש ולהפך
C96: 2021 | D96: ח׳ מזומן ז׳ הכנסות לפי סכום התקבול השנתי | F96: שווי השירות (מספר)
C97: 2022 | D97: ח׳ מזומן ז׳ הכנסות לפי סכום התקבול השנתי | F97: שווי השירות (מספר)
C98: 2023 | D98: ח׳ מזומן ז׳ הכנסות לפי סכום התקבול השנתי | F98: שווי השירות (מספר)
B101: שנה | C101: סכום המזומן שהתקבל - אלפי ש״ח | D101: שווי השירות שסופק - אלפי ש״ח
B102: 2020 | C102: 200 | D102: 20
B103: 2021 | C103: 200 | D103: 300
B104: 2022 | C104: 400 | D104: 450
B105: 2023 | C105: 450 | D105: =D106-D104-D103-D102 -> 480
B106: סה״כ | C106: =SUM(C102:C105) -> 1250 | D106: =C106 -> 1250
D108: פקודת היומן שתירשם בשנה | F108: הכנסה | G108: יתרת החתך - מי חייב למי | I108: פקודת ההתאמה / פקודת החתך
C109: שנה | D109: בהנהלת החשבונות (לפי המזומן) | F109: לפי שווי שירות | G109: וכמה | I109: עדכון ההכנסות
C110: 2020 | D110: ח׳ מזומן 200 ז׳ הכנסות 200 | F110: 20 | G110: הכנסות מראש 180 | I110: חובה הכנסות 180 זכות הכנסות מראש 180
C111: 2021 | D111: ח׳ מזומן 200 ז׳ הכנסות 200 | F111: 300 | G111: הכנסות מראש 80 | I111: חובה הכנסות מראש 100 זכות הכנסות 100
C112: 2022 | D112: ח׳ מזומן 400 ז׳ הכנסות 400 | F112: 450 | G112: הכנסות מראש 30 | I112: חובה הכנסות מראש 50 זכות הכנסות 50
C113: 2023 | D113: ח׳ מזומן 450 ז׳ הכנסות 450 | F113: 480 | G113: 0 | I113: חובה הכנסות מראש 30 זכות הכנסות 30
A177: שאלה 1 | I177: בוצע עם קבוצת 9:15
A178: חברת ״ד״ר צבאנים״ עוסקת בייעוץ להטמעת מערכות מחשב של Apple בעסקים. להלן נתונים בדבר שווי שירותי ייעוץ | I178: קבוצת 12:15 - השתמשו בתרגיל זה לתרגול נוסף!
A179: שסיפקה החברה למשרד הביטחון, לצד סכומי התקבולים שנתקבלו במזומן בכל שנה בהתאם להסדר עם הלקוח:
B181: שנת | C181: מזומן ששולם | D181: שירות שסופק
B182: הפעילות | C182: לחברת שייקונים | D182: ע״י שייקונים
B183: הכספית | C183: אלפי ש״ח | D183: אלפי ש״ח
B184: 2016 | C184: 0 | D184: 100
B185: 2017 | C185: 420 | D185: 200
B186: 2018 | C186: 80 | D186: 150
B187: 2019 | C187: 300 | D187: 300
B188: 2020 | C188: 50 | D188: 100
B189: סה״כ | C189: =SUM(C184:C188) -> 850 | D189: =SUM(D184:D188) -> 850
...

Sheet 5 - הרצאה
A1: מבוא לחשבונאות פיננסית - שיעור מס׳ 5 | H1: 45987
A2: תזכורת וחיבור למפגש הקודם - חתך והכרה בהכנסות ובהוצאות:
A4: הנהלת חשבונות: | C4: רישום הכנסה על בסיס מזומן (אסמכתא)
A5: דיווח סופי ברווח והפסד: | C5: לפי שווי השירות שסופק.
A6: פקודת התאמה/פקודת חתך: | C6: פקודה לתיקון / התאמת פקודת הנהלת החשבונות לדיווח הסופי ברווח והפסד.
A7: הכנסות מראש: | C7: חשבון המייצג התחייבות, הפרש מצטבר חיובי בין סך התקבולים לבין סך השירות שסיפקה החברה
A8: הכנסות לקבל: | C8: חשבון המייצג נכס, הפרש מצטבר חיובי בין סך השירות שסופק לסך התקבולים מהלקוח
A10: אז מה בתפריט היום?
A12: א. השלמת הסיטואציה של תהליך הרישום - הנה״ח, דיווח, יתרת חתך, פקודת חתך ---- מצד צריכת השירותים, ובפרט:
A13: הוצאות מראש: | C13: חשבון המייצג נכס, הפרש מצטבר חיובי בין סך התשלומים לבין סך שווי השירות שנצרך
A14: הוצאות לשלם: | C14: חשבון המייצג התחייבות, הפרש מצטבר חיובי בין סך השירות שנצרך לבין סך התשלומים
A16: ב. פתרון במגוון טכניקות של שאלות חתך מורכבות יותר בכל ההקשרים הרלוונטיים.
A18: שאלה 1
A19: חברת ״בולגיטו״ צרכה שירותי ייעוץ בתחום הנקניק. להלן נתונים בדבר שווי השירות שנצרך, לצד התשלומים שבוצעו בכל
A20: אחת מהשנים בהתאם לסיכום עם הספק:
B22: שנת | C22: מזומן ששולם | D22: שירות שנצרך
B23: הפעילות | C23: ע״י בולגיטו | D23: ע״י בולגיטו
B24: הכספית | C24: אלפי ש״ח | D24: אלפי ש״ח
B25: 2016 | C25: 320 | D25: 150
B26: 2017 | C26: 110 | D26: 180
B27: 2018 | C27: 70 | D27: 170
B28: 2019 | C28: 80 | D28: 220
B29: 2020 | C29: 460 | D29: 320
B30: סה״כ | C30: =SUM(C25:C29) -> 1040 | D30: =SUM(D25:D29) -> 1040
A32: נדרש - השלימו את הטבלה הבאה (א) מהן פקודות היומן שנרשמו בהנהלת חשבונות (ב) מהי ההוצאה ברווח והפסד (ג) מהי פקודת החתך
A33: וכן (ד) מהי יתרת החתך לתום כל אחת מהשנים 2016 - 2020.
B35: פקודה להוצאה | C35: הוצאה | D35: יתרת התחשבנות (מצטברת) | F35: פקודת התאמה = פקודת חתך
B36: שנרשמה | C36: בדוח | D36: מצטברת | F36: אם יוצרים/מגדילים נכס (הוצ׳ מראש) - ח׳
B37: בהנהלת | C37: רווח והפסד | D37: שבהקשר להוצאות | F37: אם יוצרים/מגדילים התחייבות (הוצ׳ לשלם) - ז׳
B38: חשבונות | C38: לפי שווי | D38: תהיה הוצאות מראש | F38: אם מכירים בהוצ׳ נוספת - ח׳
A39: שנה | B39: על בסיס מזומן | C39: הפעילות | D39: או לשלם | F39: אם מקטינים הוצ׳ - ז׳
A40: 2016 | B40: ח׳ הוצאות 320 ז׳ מזומן 320 | C40: 150 | D40: הוצאות מראש (נכס) 170 | F40: ח׳ הוצאות מראש 170 ז׳ הוצאות 170
A41: 2017 | B41: ח׳ הוצאות 110 ז׳ מזומן 110 | C41: 180 | D41: הוצאות מראש (נכס) 100 | F41: ז׳ הוצאות מראש 70 ח׳ הוצאות 70
A42: 2018 | B42: ח׳ הוצאות 70 ז׳ מזומן 70 | C42: 170 | D42: 0 | F42: ז׳ הוצאות מראש 100 ח׳ הוצאות 100
A43: 2019 | B43: ח׳ הוצאות 80 ז׳ מזומן 80 | C43: 220 | D43: הוצאות לשלם (התחייבות) 140 = 580 - 720 | F43: ח׳ הוצאות 140 ז׳ הוצאות לשלם 140
A44: 2020 | B44: ח׳ הוצאות 460 ז׳ מזומן 460 | C44: 320 | D44: 0 | F44: ח׳ הוצאות לשלם 140 ז׳ הוצאות 140
A46: הסברים נוספים:
A47: בשאלה זו דנים בהוצאות (למה הוצאות ולא הכנסות? כי החברה משלמת / צורכת שירות).
A48: פקודת היומן בהנה״ח (הנהלת חשבונות) לפי מזומן תמיד תהיה: ח׳ הוצאות , ז׳ מזומן
A49: ההוצאה בדוח רווח והפסד = שווי הפעילות (ללא פקודה, הסכום עצמו).
A50: יתרת חתך / התחשבנות: ״מי חייב למי״: | H50: x > y | I50: הוצאות מראש (נכס) | K50: x - y
A51: בתום כל שנה: | C51: סוכם את כל המזומן ששולם עד לאותה נקודה | F51: x
C52: סוכם את כל השירות שנצרך (הוצאה) עד לאותה נקודה | F52: y
H53: y > x | I53: הוצאות לשלם (התחייבות) | K53: y - x
A56: שאלה 2
A57: חברת ״חוניטו״ עוסקת בייעוץ להטמעת מערכות חימום נקניק בעסקים. להלן נתונים בדבר שווי שירותי ייעוץ
A58: שצרכה החברה, לצד סכומי התשלומים שבוצעו במזומן לספק בכל אחת מהשנים:
B60: שנת | C60: מזומן ששולם | D60: שירות שנצרך
B61: הפעילות | C61: ע״י חוניטו לספק | D61: ע״י חוניטו
B62: הכספית | C62: אלפי ש״ח | D62: אלפי ש״ח
B63: 2016 | C63: 5 | D63: 10
B64: 2017 | C64: 70 | D64: 20
B65: 2018 | C65: 20 | D65: 30
B66: 2019 | C66: 30 | D66: 40
B67: 2020 | C67: 25 | D67: 50
B68: סה״כ | C68: =SUM(C63:C67) -> 150 | D68: =SUM(D63:D67) -> 150
A70: נדרש - השלימו את הטבלה הבאה:
B73: פקודה להוצאה | C73: הוצאה | D73: יתרת התחשבנות (יתרת חתך) | F73: פקודת התאמה = פקודת חתך
B74: שנרשמה | C74: בדוח | D74: מצטברת | F74: אם יוצרים/מגדילים נכס (הוצ׳ מראש) - ח׳
B75: בהנהלת | C75: רווח והפסד | D75: שבהקשר להוצאות | F75: אם יוצרים/מגדילים התחייבות (הוצ׳ לשלם) - ז׳
B76: חשבונות | C76: לפי שווי | D76: תהיה הוצאות מראש (חייבים לי) | F76: אם מכירים בהוצ׳ נוספת - ח׳
A77: שנה | B77: על בסיס מזומן | C77: הפעילות | D77: או הוצאות לשלם (התחייבות) | F77: אם מקטינים הוצ׳ - ז׳
A78: 2016 | B78: ח׳ הוצאות 5 ז׳ מזומן 5 | C78: 10 | D78: הוצאות לשלם (התחייבות) 5 | F78: ז׳ הוצאות לשלם 5 ח׳ הוצאות 5
A79: 2017 | B79: ח׳ הוצאות 70 ז׳ מזומן 70 | C79: 20 | D79: הוצאות מראש (נכס) 45 | F79: ח׳ הוצאות לשלם 5 ח׳ הוצאות מראש 45 ז׳ הוצאות 50 | H79: כאשר במעבר משנה לשנה סוג יתרת החתך משתנה יש: לאפס יתרה קודמת + ליצור חדשה
A80: 2018 | B80: ח׳ הוצאות 20 ז׳ מזומן 20 | C80: 30 | D80: הוצאות מראש (נכס) 35 | F80: ח׳ הוצאות 10 ז׳ הוצאות מראש 10
A81: 2019 | B81: ח׳ הוצאות 30 ז׳ מזומן 30 | C81: 40 | D81: הוצאות מראש (נכס) 25 | F81: ח׳ הוצאות 10 ז׳ הוצאות מראש 10
A82: 2020 | B82: ח׳ הוצאות 25 ז׳ מזומן 25 | C82: 50 | D82: 0 | F82: ח׳ הוצאות 25 ז׳ הוצאות מראש 25
A84: שאלה 2.1 - עסקאות שירות מתמשך - דיון בסעיפים שונים ותרגום ערכים מילוליים לשווי שירות / מבנה מקובל
A86: אירוע 1:
A87: בתאריך 30.6.2022 חתמה יובלי בע״מ על הסכם במסגרתו היא תצרוך שירות בשווי כולל של 900,000 ש״ח במהלך תקופה של 6 שנים.
A88: מלוא הסכום שולם על ידי יובלי לספק מיד במועד חתימת ההסדר.
A89: נדרש: מהו האופן שבו תירשם העסקה בהנה״ח של יובלי? מהי ההוצאה ברוו״ה? מהי יתרת החתך? רשמו גם פקודת חתך (התאמה).
A90: בצעו כל אלו לשנים 2022 ו-2023.
A92: פתרון:
A93: בתור התחלה, אנו כבר יודעים לעבוד במתכונת מסודרת - אם אני יודע כמה מזומן שולם וכמה שירות נצרך, אני יודע להפעיל את
A94: כל התהליך של הרישומים והתיעוד המתבקש (כמו בתרגילים קודמים).
A95: הבעיה היא שבשאלה זו הנתונים הם ״מילוליים״ - ובמקום לקבל מידע מסודר בטבלה, אני צריך להגיע אליו בעצמי / לסדר אותו.
B97: שנה | C97: מזומן שולם | D97: שירות נצרך (*)
B98: 2022 | C98: 900000 | D98: =900000/6*(6/12) -> 75000
B99: 2023 | C99: 0 | D99: 150000
A101: תהליך פתרון:
B103: שנה | C103: הנה״ח | E103: הוצ׳ (רוו״ה) | F103: יתרת חתך (התחשבנות) | H103: פקודת התאמה / פקודת חתך
B104: 2022 | C104: חובה הוצאות 900,000 זכות מזומן 900,000 | E104: 75000 | F104: הוצאות מראש (נכס): 825,000 | H104: חובה הוצאות מראש 825,000 זכות הוצאות 825,000
B105: 2023 | C105: אין תשלום - אין רישום | E105: 150000 | F105: הוצאות מראש (נכס): 675,000 | H105: זכות הוצאות מראש 150,000 חובה הוצאות 150,000
A110: (*) | B110: אין מידע מדויק על היקף השירות שנצרך (בערכים כספיים). בדרך כלל, נשתמש בהנחות הבאות:
B111: א. אם מדובר בשירות שנצרך על פני זמן - אופן הפריסה שלו לפי שנים.
B112: ב. אם מספקים מידע על אחוז השירות שנצרך בכל שנה - אזי שווי הסדר מוכפל באחוז = שווי השירות.
B114: במקרה שלנו - שווי השירות ל-6 שנים מלאות: הוא 900,000 ש״ח.ֿ
B115: שווי שירות נצרך בשנה שלמה = 12 חודשים: | E115: 900,000 / 6 = 150,000
B117: בשנת 2022, צרכנו שירותים במהלך התקופה:
C118: החל מ | D118: 44742 | E118: מועד החתימה
C119: עד לתום השנה | D119: 44926 | E119: כלומר חצי שנה, 6 חודשים
B121: בסך הכל זה אומר ששווי השירות שנצרך בשנה הקלנדרית 2022: | F121: =150000*6/12 -> 75000 | H121: 150,000 * 6/12 =
B122: בהתאמה לחצי שנה.
B124: בשנת 2023, השירות נצרך שנה שלמה. ולכן - שווי הצריכה בשנה זו: 150,000
A126: אירוע 2:
A127: חברת בוניטו צורכת שירותי חימום נקניק מדי חודש בשווי חודשי של 20,000 ש״ח.
A128: במהלך שנת 2023, צרכה חברת בוניטו שירותים במהלך השנה כולה.
A129: יחד עם זאת, התשלומים לספק שירותי הנקניק בגין נובמבר ודצמבר טרם בוצעו.
A130: נדרש: רשמו פקודה בהנה״ח, סכום הוצאה ברוו״ה, יתרת חתך ופקודת חתך / התאמה בשנת 2023 בגין אירוע זה.
...

Sheet 5 - תרגול 1
A1: הרחבה זו רלוונטית לתרגיל ״נתחשבן בהמשך״ מחוברת הקורס שנפתרה בתרגול עם חן / גל - פתרון חלק מהאירועים בגישה שהצגנו
A3: טיפ: לפני שניגשים לתרגיל זה יש לפתור את שאלה 3 מהרצאה 5 במלואה שבנויה בצורה דומה מאד מבחינת
A4: ניסוח הסעיפים. להלן יוצג לבקשתכם פתרון מפורט לחלק מהסעיפים בצורת ההצגה הכיתתית.
A6: אירוע 1: תחילה נתרגם אותו לטבלה המקובלת:
B8: שירות | C8: מזומן
A9: 2010 | B9: =15000*9/12 -> 11250 | C9: 45000 | D9: שימו לב, השירות החל ב-1.4.2010. לכן, למרות שהעלות השנתית
A10: 2011 | B10: 15000 | C10: 0 | D10: היא 15,000 לפי 45,000/3, הרי שיש לכפול ערך זה ב-9/12
A11: 2012 | B11: 15000 | C11: 0 | D11: כדי להגיע לעלות הצריכה הספציפית ב-2010: 11,250 = 9/12 * 15,000
A12: 2013 | B12: =15000-B9 -> 3750 | C12: 0
B14: פקודה להוצאה | C14: הוצאה | F14: יתרת
B15: שנרשמה | C15: בדוח | F15: התחשבנות
B16: בהנהלת | C16: רווח והפסד | F16: מצטברת
B17: חשבונות | C17: לפי שווי | D17: פקודת התאמה | F17: בין הצדדים
B18: על בסיס מזומן | C18: הפעילות | D18: או ״פקודת חתך״ | F18: ״יתרת חתך״
A19: 2010 | B19: ח׳ הוצאות 45 ז׳ מזומן 45 | C19: 11.25 | D19: ח׳ הוצאות מראש 37.5 ז׳ הוצאות 33.75 | F19: הוצאות מראש (נכס) 33.75
A21: אירוע 2: תחילה נתרגם לטבלה המקובלת
B23: שירות | C23: מזומן
A24: 2010 | B24: 5000 | C24: 10000
A25: 2011 | B25: 5000 | C25: 0
B27: פקודה להוצאה | C27: הוצאה | F27: יתרת
B28: שנרשמה | C28: בדוח | F28: התחשבנות
B29: בהנהלת | C29: רווח והפסד | F29: מצטברת
B30: חשבונות | C30: לפי שווי | D30: פקודת התאמה | F30: בין הצדדים
B31: על בסיס מזומן | C31: הפעילות | D31: או ״פקודת חתך״ | F31: ״יתרת חתך״
A32: 2010 | B32: ח׳ הוצאות 10 ז׳ מזומן 10 | C32: 5 | D32: ח׳ הוצאות מראש 5 ז׳ הוצאות 5 | F32: הוצאות מראש (נכס) 5
A34: הסבר: העלות במזומן 10,000, מחצית על 2010 זה אומר ששווי השירות ב-2010 הוא 5,000.
A35: לכן ההוצאה ברווח והפסד ב-2010 היא 5,000.
A36: כמובן שהואיל ושילמנו מראש, יווצר נכס הוצאות מראש בסך 5,000 לתום שנה.
A52: שאלה נוספת: | J52: פתרון השאלה הנוספת:
J54: אירוע 1
J56: פקודה להכנסה | L56: הכנסה | O56: יתרת
J57: שנרשמה | L57: בדוח | O57: התחשבנות
J58: בהנהלת | L58: רווח והפסד | O58: מצטברת
J59: חשבונות | L59: לפי שווי | M59: פקודת התאמה | O59: בין הצדדים
J60: על בסיס מזומן | L60: הפעילות | M60: או ״פקודת חתך״ | O60: ״יתרת חתך״
I61: 2012 | J61: ח׳ מזומן 100,000 | L61: =600*100 -> 60000 | M61: ח׳ הכנסה 40,000 | O61: הכנסות מראש (התחייבות) 40,000
J62: ז׳ הכנסה 100,000 | M62: ז׳ הכנסות מראש 40,000
I63: 2013 | J63: ח׳ מזומן 24,000 | L63: =400*100+2000*2 -> 44000 | M63: ח׳ הכנסות מראש 20,000 | O63: הכנסות מראש (התחייבות) 20,000
J64: ז׳ הכנסה 24,000 | M64: ז׳ הכנסה 20,000
J66: הסבר:
J67: פקודת הנהלת החשבונות היא מאד פשוטה. ב-2012 מקבלים 100,000 לפי 1,000 שעות כפול 100 ש״ח לשעה,
J68: וב-2013 מקבלים 24,000 ש״ח בסך הכל.
J69: ההכנסה ברווח והפסד קצת יותר מתוחכמת:
J70: ב-2012, ההכנסה לפי שווי השירות מתאימה ל-600 שעות שסופקו כפול שווי של 100 ש״ח לשעה ובסך
J71: הכל 60,000 ש״ח.
J72: ב-2013, ההכנסה היא לפי שווי של 400 שעות שסופקו כפול 100 ש״ח לשעה כלומר 40,000 ש״ח, ולכך יש
J73: להוסיף שווי שירות לחודשים נובמבר ודצמבר בסך 2,000 לחודש עוד 4,000 ש״ח ובסך הכל 44,000 ש״ח.
J74: יתרת ההתחשבנות המצטברת בתום 2012 היא 40,000 לפי ההפרש בין סך המזומן שהתקבל 100,000
J75: לבין סך ההכנסה המצטברת 60,000.
J76: יתרת ההתחשבנות המצטברת בתום 2013 היא 20,000 לפי ההפרש בין סך המזומן שהתקבל 124,000
J77: לבין סך ההכנסה ברווח והפסד במצטבר 104,000 ש״ח ולכן הכנסה מראש 20,000.
... J81: אירוע 2
J83: פקודה להוצאה | L83: הוצאה | O83: יתרת
J84: שנרשמה | L84: בדוח | O84: התחשבנות
J85: בהנהלת | L85: רווח והפסד | O85: מצטברת
J86: חשבונות | L86: לפי שווי | M86: פקודת התאמה | O86: בין הצדדים
J87: על בסיס מזומן | L87: הפעילות | M87: או ״פקודת חתך״ | O87: ״יתרת חתך״
I88: 2012 | J88: ח׳ הוצאה 70,000 | L88: =70000*6/12 -> 35000 | M88: ח׳ הוצאות מראש 35,000 | O88: הוצאות מראש 35,000 (נכס)
J89: ז׳ מזומן 70,000 | M89: ז׳ הוצאה 35,000
I90: 2013 | J90: ח׳ הוצאה 63,000 | L90: =70000*6/12+63000*6/12 -> 66500 | M90: ח׳ הוצאות 3,500 | O90: הוצאות מראש 31,500 (נכס)
J91: ז׳ מזמן 63,000 | M91: ז׳ הוצאות מראש 3,500
J93: הסברים:
J94: פקודת הנהלת החשבונות מאד פשוטה. ב-2012, לפי סכום הוצאה של 70,000 ששולמו במזומן כנתון,
J95: ובשנת 2013, התעריף נמוך ב-10%, לכן שולם 63,000 = (10% - 1) * 70,000.
J96: לגבי ההוצאה, כאן זה טריקי יותר.
J97: בשנת 2012, החישוב פשוט: ניצלנו מחצית מתקופת ההסכם, העלות לשנה 70,000 ש״ח והשווי לחצי
J98: שנה לתקופה 30.6.2012 - 31.12.2012 היא 35,000 ש״ח (חצי שנה מתוך שנה).
J99: בשנת 2013, החישוב מורכב יותר, ומדוע?
J100: משום שעבור התקופה 1.1.2013-30.6.2013, צרכנו את המחצית הנותרת מההסכם הקודם, כלומר 35,000 ש״ח.
J101: עבור התקופה 1.7.2013-31.12.2013, צרכנו מחצית (6 חודשים) מההסכם החדש, כלומר מחצית מ-63,000
J102: שהם 31,500.
J103: כך שבסך הכל, עבור שנת 2013, ההוצאה הכוללת לפי שווי השירות היא 66,500 = 35,000 + 31,500
J104: לדעתי, לאחר ההסבר של ההוצאות, לא צריכה להיות לכם בעיה להשלים את פקודות ההתאמה והחתך.
J105: עבדנו על זה מספיק, אבל אם אני טועה, עדכנו אותי בפנייה למרצה.

Sheet 6 - הרצאה
A1: מפגש 6 - לקוחות והלח״מ 3.12.2025
A3: נושא חדש - מיקוד ספציפי -לקוחות והלח״מ
A5: רקע, מטרות וקישור לחומר הנלמד:
A7: עד כה עסקנו ב:
A8: א. מטרת הדוחות הכספיים (מצב כספי - נכסים, התחייבויות והון, ותוצאות פעילות - רווח והפסד).
A9: ב. הצגנו את תהליך הרישום החשבונאי הבסיסי ופקודות היומן וריכוזיהן.
A10: ג. התמקדנו בדיון בהכרה בהכנסות ובהוצאות על בסיס הנשען על פעילויות ולא על עיתוי המזומן, כולל התאמות
A11: הנובעות מכך בתהליך הרישום השוטף (פקודות ויתרות חתך).
A13: כעת:
A14: מטרתנו בשיעורים הקרובים היא להעמיק ברכיבים ספציפיים של הדיווח, ובפרט - באופן מדידתם של נכסים שונים.
A15: הנכס הראשון שנעסוק במדידתו הוא נכס הלקוחות.
A17: לקוחות - הגדרה:
... A29: לא ייגבו, הלקוחות נטו יוצגו בדוח על המצב הכספי כדלקמן:
C31: ש״ח
A32: לקוחות, ברוטו | C32: 100000 | D32: סך החוב הכולל / המשפטי של לקוחות החברה כלפיה
A33: הלח״מ | C33: -20000 | D33: הפרשה לחובות מסופקים = הלח״מ, חוב שגבייתו מוטלת בספק (בסיכון)
A34: לקוחות, נטו - לנכסים במאזן | C34: =C32+C33 -> 80000 | D34: סעיף הלקוחות שיוצג בדוח הסופי - במאזן.
A36: ואם כך, הדיון מבחינתנו בלקוחות יכלול:
A37: הבנה של האירועים שמשפיעים על הלקוחות ברוטו או על החוב ברוטו (מכירות באשראי + ; גבייה מלקוחות (-))
A38: לחשב ולהבהיר את המשמעות של החלק הבעייתי בחוב - ההלח״מ.
A39: להציג את הלקוחות נטו כנכס במאזן: לקוחות ברוטו פחות ההלח״מ.
A40: לבטא את ההוצאה השנתית הנובעת מעלייה בהיקף החובות הבעייתיים = הוצאות הלח״מ.
A42: אפשר תרגיל שלם? ברמת בחינה?
A43: כן.
A45: תרגיל 1 - שלם - ברמת בחינה - שדרכו נחדד גם את ההגדרות הנוספות (שי פותר)
A46: חברת ״נקניקי החורף״ הוקמה ב-1.1.2020. החברה עוסקת במגוון רחב של פעילויות עסקיות, ובעיקר ממכר נקניק חם.
A47: להלן נתונים ועסקאות שהתרחשו בחברה במועדים שונים:
A49: א. במהלך 2020 ביצעה החברה מכירות בהיקף של 1,000,000 ש״ח. מתוך סכום מכירות כולל זה, מכירות בסך | I49: רק המכירות באשראי יגדילו את
A50: של 800,000 ש״ח בוצעו במזומן, והיתר באשראי. | I50: הלקוחות (בחובה)
A52: ב. במהלך 2020 ביצעה החברה גבייה מלקוחות אשר להם מכרה באשראי, בסכום של 70,000 ש״ח. | I52: גבייה מלקוחות מקטינה את חובם
I53: כלפיי (הלקוחות קטנים - בזכות)
A55: ג. נכון ליום 31.12.2020 שיעור ההלח״מ בחברה הוא 10%. | I55: עלינו לחשב את יתרת (ערך מצטבר)
I56: הלקוחות ברוטו - ו 10% ממנה זה החוב
I57: הבעייתי = הלח״מ.
A59: ד. במהלך 2021 ביצעה החברה מכירות באשראי בהיקף של 500,000 ש״ח. | I59: מכירות באשראי יגדילו את הלקוחות (בחובה)
A61: ה. במהלך 2021 גבתה החברה מלקוחות סכום של 320,000 ש״ח. | I61: גבייה מלקוח: חוב הלקוח ברוטו קטן (זכות)
A63: ו. במהלך 2021 התגלו ונרשמו חובות אבודים בסך 4,000 ש״ח. | I63: מקטין את ההלח״מ (בחובה)
I64: מקטין את הלקוחות ברוטו (בזכות)
A66: ז. נכון ליום 31.12.2021 שיעור ההלח״מ בחברה נותר על 10%.
A68: נדרש: חשבו את יתרת הלקוחות נטו ואת הוצאות ההלח״מ. בתשובתכם, התייחסו למילוי הכרטיסים הבאים:
A70: כאשר אני דן בלקוחות, 3 ״כרטיסי חשבון״ ילוו את רישומיי: | E70: לקוחות, ברוטו; הלח״מ ; הוצאות הלח״מ
B72: לקוחות, ברוטו | D72: הלח״מ | F72: הוצאות הלח״מ
A73: פרטים | B73: חובה | C73: זכות | D73: חובה | E73: זכות | F73: חובה | G73: זכות
A74: א | B74: 200000
A75: ב | C75: 70000
A76: ג | E76: =E77 -> 13000 | F76: =E76 -> 13000
A77: 31.12.2020 | B77: =B74-C75 -> 130000 | E77: =B77*10% -> 13000
A78: ד | B78: 500000
A79: ה | C79: 320000
A80: ו | C80: =D80 -> 4000 | D80: 4000
A81: ז | E81: =30600-9000 -> 21600 | F81: =E81 -> 21600
A82: 31.12.2021 | B82: =B77+B78-C79-C80 -> 306000 | E82: =B82*10% -> 30600
A84: לקוחות, נטו:
D85: 44196 | E85: 44561
A86: יתרת הלקוחות = לקוחות ברוטו | D86: =B77 -> 130000 | E86: =B82 -> 306000
A87: בניכוי יתרת ההלח״מ | D87: =-E77 -> -13000 | E87: =-E82 -> -30600
A88: שווה ל: לקוחות, נטו: | D88: =D86+D87 -> 117000 | E88: =E86+E87 -> 275400
A90: הוצאות הלח״מ (הוצאות הפרשה לחומ״ס) | D90: =F76 -> 13000 | E90: =F81 -> 21600
A92: הסבר - לגבי כרטיסים ב-31.12.2020:
A93: ראשית, לתום כל שנה נחשב את יתרת הלקוחות ברוטו (חובה פחות זכות) - כך הגענו ל-130,000.
A94: שנית, על פי הנתונים, שיעור ההלח״מ הוא 10% (מיתרת הלקוחות ברוטו) כלומר סך ההלח״מ = סך החוב בסיכון
A95: של אי גבייה הוא 13,000 = 10% * 130,000. הסכום הכולל של ההלח״מ תמיד בזכות - מייצג ״פגיעה״ בגבייה
A96: הצפויה (בנכסים).
A97: שלישית, עלינו לשאול עצמנו: איזה חלק מתוך סך ההלח״מ לתום שנה - נובע מחוב בעייתי שנוצר השנה (2020)?
B98: יתרת הלח״מ לתחילת שנה 1.1.2020: | E98: 0 | F98: החברה רק הוקמה בתאריך זה, אין בה ״כלום״
B99: הוצאות הלח״מ = החלק שנוצר השנה | E99: =E100 -> 13000
B100: יתרת ההלח״מ לתום שנה 31.12.2020: | E100: 13000
A102: הסבר - חוב אבוד - סעיף ו:
A103: תמיד ולעולם רישום חוב אבוד מקבל ביטוי כקיטון בסכום החוב האבוד בשני חשבונות:
A104: בחשבון הלקוחות ברוטו (קיטון ב״זכות״): | D104: 4000
A105: בחשבון ההלח״מ (קיטון ב״חובה״): | D105: =D104 -> 4000
A107: הסבר - מדוע בסעיף ז רשמנו הלח״מ והוצ׳ הלח״מ בסך 21,600?
A108: ידוע שלתחילת 2021 (31.12.2020) יתרת ההלח״מ: | F108: =E100 -> 13000 | G108: 9000
A109: בנוסף ידוע שבמהלך 2021 נוצר חוב אבוד שהקטין ההלח״מ ב: | F109: -4000
A110: לכן, בהכרח נוצרו השנה 2021 חובות בעייתיים נוספים - הוצ׳ הלח״מ: | F110: =F111-G108 -> 21600 | H110: 30,600 - 9,000 =
A111: בנוסף ידוע שלתום 2021 - 31.12.2021, יתרת ההלח״מ: | F111: 30600
A115: סיכום - תבנית עבודה וטיפים:
B117: לקוחות (ברוטו) | D117: הלח״מ | F117: הוצ׳ הלח״מ
B118: חובה | C118: זכות | D118: חובה | E118: זכות | F118: חובה | G118: זכות
A119: תחילת שנה
B120: מכירות באשראי | C120: גבייה מלקוחות
C121: חוב אבוד | D121: חוב אבוד
E122: הוצ׳ הלח״מ | F122: הוצ׳ הלח״מ
A123: סוף שנה | B123: יתרת סגירה: חובה פחות זכות | C123: כפול אחוז הלח״מ | E123: סך הלח״מ לסוף שנה
A125: תרגיל כיתה - להתנסות שלכם
A126: בחברת ״הנקניק המהיר״ יתרת הלקוחות ברוטו ל-31.12.2020 היא 30,000 ש״ח (בחובה), וההלח״מ ליום זה הוא 5% מהסכום.
A127: להלן נתונים בדבר עסקאות ואירועים בשנים 2021 ו-2022:
A129: 2021 | E129: 2022
A130: א. בוצעו מכירות במזומן בהיקף 300,000 | E130: ה. בוצעו מכירות בהיקף של 500,000 ש״ח, מתוכן 290,000 ש״ח במזומן, היתר באשראי.
A131: ב. בוצעו מכירות באשראי בהיקף 200,000 | E131: ו. בוצעה גבייה מלקוחות בהיקף של 140,000 ש״ח.
A132: ג. בוצעה גבייה מלקוחות בהיקף 180,000 | E132: ז. התגלה ונרשם חוב אבוד בסך 9,000 ש״ח.
A133: ד. החברה מעריכה את ההלח״מ לפי 5% | E133: ח. לתום השנה, החברה מעריכה את ההלח״מ לפי 7% מיתרת הלקוחות ברוטו
A134: מיתרת הלקוחות ברוטו.
A136: נדרש: חשבו והציגו, במבנה הנלמד את: (1) יתרת הלקוחות ברוטו לתום כל שנה (2) ההלח״מ לתום כל שנה (3) לקוחות נטו לתום כל שנה (4) הוצאות הלח״מ לכל שנה.
B138: לקוחות (ברוטו) | D138: הלח״מ | F138: הוצ׳ הלח״מ | I138: תשובות סופיות:
B139: חובה | C139: זכות | D139: חובה | E139: זכות | F139: חובה | G139: זכות
A140: 31.12.2020 | B140: 30000 | E140: =5%*B140 -> 1500 | I140: 44561
A141: מכר אשראי וגבייה | B141: 200000 | C141: 180000 | I141: לקוחות, ברוטו: | K141: =B144 -> 50000
A142: חוב אבוד | C142: אין | D142: אין | I142: הלח״מ: | K142: =-E144 -> -2500
A143: הוצ׳ הלח״מ | E143: =E144-E140 -> 1000 | F143: =E143 -> 1000 | I143: לקוחות, נטו: | K143: =K141+K142 -> 47500
...

Sheet 6 תרגול נוסף
A1: פתרון מלא - שאלה 26 - חברת ״מרגין״ - לקוחות והלח״מ | H1: לקוחות, ברוטו | J1: הלח״מ | L1: הוצאות הלח״מ
G2: פרטים | H2: חובה | I2: זכות | J2: חובה | K2: זכות | L2: חובה | M2: זכות
F3: 3 | G3: יתרת פתיחה | K3: 120000
F4: 1 | G4: מכירות 2012 | H4: 3500000
F5: 2 | G5: חוב אבוד | I5: 100000 | J5: =I5 -> 100000
F6: PN | G6: הוצ׳ הלח״מ | K6: 85000 | L6: =K6 -> 85000
F7: (*)5 | G7: 41274 | H7: =I17 -> 2100000 | I7: 0.05 | K7: =H7*I7 -> 105000
F9: (*) | G9: יתרת הלקוחות (ברוטו) ליום 31/12/2012 שגויה.
G10: נתון ששתי עסקאות שמשפיעות על הלקוחות לא נרשמו:
G11: חוב אבוד (נתון 2) בסך 100,000 שלא קיבל ביטוי >>> קיטון בלקוחות ברוטו וגם בהלח״מ.
G12: מכירה באשראי בסיף 200,000 שלא קיבלה ביטוי >>> גידול בלקוחות ברוטו.
G14: לקוחות ברוטו לפני תיקונים: | I14: 2000000
G15: הפחת: חוב אבוד | I15: =-100000 -> -100000
G16: הוסף: מכירה באשראי | I16: 200000
G17: לקוחות ברוטו מעודכן 31/12 | I17: =SUM(I14:I16) -> 2100000 | L17: 2,000,000 - 100,000 + 200,000 =
G19: סיכום:
G20: כאשר אני מקבל שאלה, שבה כבר נתנו לי (כנתון) את יתרת הלקוחות ברוטו לתום השנה,
G21: אני לא מחשב אותה בעצמי (כמו בתרגילים מהכיתה) אלא לוקח אותה ״כמו שהיא״ ורק
G22: מוסיף או מחסיר ממנה תיקונים בגין עסקאות שלא נרשמו.
G23: לאחר שיתרת הסגירה המתוקנת בידי, אשבץ את החוב האבוד בתנועות ואמשיך כרגיל:
G24: חישוב יתרת סגירה הלח״מ וחילוץ הוצאות הלח״מ.
G25: בהחלט אפשרי גם לבצע חילוץ לאחור של התנועות; אלא שחילוץ זה עשוי לעורר מורכבות
G26: מסוימת בתהליך החישובי. ולכן, כל עוד ההתמקדות היא בלקוחות נטו ובהוצאות ההלח״מ,
G27: אפשר בהחלט להימנע מהחילוץ המלא, ורק לתקן את הלקוחות, להתייחס לאבוד, ולחלץ.
F29: נדרש 1: | G29: כשרוצים לדעת מהי יתרת ״כרטיס הלקוחות״ מתכוונים ללקוחות ברוטו.
G30: לכן, תשובתנו לנדרש 1 היא 2,100,000 ש״ח.
F32: נדרש 2: | G32: ההוצאה לחובות מסופקים (הוצאות הלח״מ): 85,000.
F34: נדרש 3: | G34: יתרת סגירה הלח״מ: 105,000.
F36: נדרש 4: | G36: תמיד כשדורשים את סעיף הלקוחות בדיווח הכספי, הכוונה היא ללקוחות ״נטו״ כלומר
G37: ליתרה ברוטו בניכוי יתרת ההלח״מ:
G39: לקוחות ברוטו | I39: 2100000
G40: בניכוי יתרת הלח״מ | I40: -105000
G41: לקוחות, נטו = לדיווח | I41: =I39+I40 -> 1995000 | J41: תשובה סופית לנדרש 4
A42: שאלה 23 - הכסף האבוד (קלה יותר)
H44: לקוחות, ברוטו | J44: הלח״מ | L44: הוצאות הלח״מ
G45: פרטים | H45: חובה | I45: זכות | J45: חובה | K45: זכות | L45: חובה | M45: זכות
F46: 4 | G46: יתרת פתיחה | K46: 80000
F47: 1 | G47: מכירות | H47: 5000000
F48: 2 | G48: חוב אבוד | I48: 50000 | J48: =I48 -> 50000
F49: 3 | G49: מכירה | H49: 20000 | I49: לא קריטי לרשום
F50: PN | G50: הוצ׳ הלח״מ | K50: =K51-K46+J48 -> 117000 | L50: =K50 -> 117000
H51: =J60 -> 1470000 | I51: 0.1 | K51: =H51*10% -> 147000
G54: כאשר בשאלה נותנים לי כנתון את יתרת הלקוחות לתום השנה, אני לא מחשב אותה בעצמי,
G55: אלא רק מתקן אותה בגין עסקאות שלא נרשמו.
G57: על פי נתון 5 - יתרת הלקוחות: | J57: 1500000
G58: תיקון נתון 2 - חוב אבוד שיש לרשום: | J58: -50000
G59: תיקון נתון 3 - מכירה נוספת באשראי: | J59: 20000
G60: יתרת לקוחות ברוטו עדכנית סופית: | J60: =SUM(J57:J59) -> 1470000
G62: נדרש 1: | H62: =H51 -> 1470000
G63: נדרש 2: | H63: =K50 -> 117000
G64: נדרש 3: | H64: =K51 -> 147000
G65: נדרש 4:
H66: לקוחות, ברוטו | J66: =H51 -> 1470000
H67: בניכוי יתרת ההלח״מ | J67: =-K51 -> -147000
H68: לקוחות, נטו | J68: =SUM(J66:J67) -> 1323000

Sheet 5,6 תרגול נוסף
A1: תרגולים לתכני הרצאות 5-6 - מבוא לחשבונאות פיננסית - תרגולים נוספים בנושאי חתך והלח״מ / לקוחות
A3: מטרת על:
A4: לתרגל ולהראות מגוון ניסוחים רלוונטיים לשאלות בשני נושאים משמעותיים אלו (חתך והלח״מ).
A6: תרגיל 1:
A7: ב-1 בינואר 2014 חתמה חברה על הסכם שבמסגרתו תספק שירותים לחברה אחרת בשווי כולל של 600,000 ש״ח.
A8: השירות אמור להינתן במהלך שלוש שנים.
A9: בהנחה שתמורת העסקה התקבלה בשלמותה מיד במועד החתימה על ההסדר, נדרש:
A10: א. מהי פקודת היומן שתירשם בהנהלת החשבונות של החברה (על בסיס מזומן) - בכל שנה.
A11: ב. מהו סכום ההכנסה שתוכר בספרי החברה בכל אחת מהשנים.
A12: ג. מהי פקודת ההתאמה / החתך בכל אחת מהשנים.
A13: ד. מהי יתרת החתך לתום כל אחת מהשנים.
A15: שנה | B15: פקודת יומן - הנה״ח | D15: סכום הכנסה (פעילות) | F15: פ. התאמה | H15: יתרת חתך
A16: 2014 | B16: ח׳ מזומן 600,000 | D16: 1/3 * 600,000 = 200,000 | F16: ח׳ הכנסות 400,000 | H16: הכנסות מראש | I16: 400000
B17: ז׳ הכנסה 600,000 | F17: ז׳ הכנסות מראש 400,000 | H17: התחייבות
A19: 2015 | B19: אין תשלום / אין רישום | D19: 1/3 * 600,000 = 200,000 | F19: ח׳ הכנסות מראש 200,000 | H19: הכנסות מראש | I19: 200000
F20: ז׳ הכנסות 200,000 | H20: התחייבות
A22: 2016 | B22: אין תשלום / אין רישום | D22: 1/3 * 600,000 = 200,000 | F22: ח׳ הכנסות מראש 200,000 | H22: אין יתרת חתך | I22: 0
F23: ז׳ הכנסות 200,000
A24: תרגיל 2:
A25: בדיון סוער שנערך בחשבות החברה שבה אתם עובדים, נאמר על ידי החשב:
B26: ״ | C26: ברצוני להסב את לבכם, הנהלה יקרה, לכך שחל עיוות בהוצאות השכר והמשכורות המדווחות
C27: בדוח רווח והפסד.
C28: לפי נתוני הוצאות השכר שהגיעו לידיי, הן מסתכמות ב-44,000 ש״ח; אך נתון זה לא מביא בחשבון
C29: את שכר דצמבר השנה | E29: ״
A31: לעומתו, טען סמנכ״ל משאבי האנוש:
B32: ״ | C32: אתה זה שטועה, חשב יקר. אנחנו נמצאים ב-31.12. המשמעות היא שמשכורות דצמבר טרם שולמו,
C33: ולכן, אין שום היגיון להכיר בהוצאות שכר נוספות בגין דצמבר (הן תשולמנה ב-10.1 של השנה הבאה) ״
A35: נדרש:
A36: בהנחה שהוצאות השכר מתפלגות באופן אחיד על פני השנה:
A37: א. מי מהם צודק.
A38: ב. מהי פקודת היומן שנרשמה בהנהלת החשבונות בגין השכר המופיע במערכת.
A39: ג. האם נדרשת פקודת התאמה? במידה ולא, הסבירו מדוע. במידה וכן, רשמו אותה.
A41: פתרון תרגיל 2:
A42: א. מאד חשוב לזכור: הגורם שיקבע את גובה ההוצאה הוא שווי השירות שנצרך - ולא התשלום שבוצע.
A43: ספציפית לגבי שכר - כל עוד מדובר בשירות עבודה שניתן השנה, לא משנה בגין איזה חודש, ולא משנה מתי ישולם - ערכו הוא חלק
A44: מההוצאות השנה.
A46: ספציפית כאן: שכר דצמבר השנה חייב להירשם כחלק מהוצאות השנה בדוחות, גם אם טרם שולם.
A47: לכן החשב צודק.
A49: ב. בהנהלת החשבונות - רושמים פקודת יומן למתן ביטוי להוצאות השכר לפי הסכום ששולם בפועל.
A50: הואיל ונתון ששולמו בפועל במזומן 44,000 ש״ח, מנהל החשבונות ירשום את הפקודה:
C52: ח׳ הוצאות שכר 44,000
C53: ז׳ מזומן 44,000
A55: ג. פקודת התאמה - מטרתה לדאוג להתאים / לתקן את הוצאות השכר שנרשמו, לסכום הנכון שלהן, שמשקף את השכר
A56: לכל השנה, כולל דצמבר.
B57: על פי נתוני השאלה - הוצאות השכר ללא דצמבר: | F57: 44000
B58: כלומר למספר חודשים (שנה, ללא דצמבר): | F58: 11
B59: לכן שכר לחודש אחד (התפלגות אחידה): | F59: =F57/F58 -> 4000 | G59: 44,000 / 11 =
B61: כעת, כשאנו יודעים מה השכר לחודש אחד (שמתאים גם לשכר דצמבר) נרשום הוצאות שכר נוספות
B62: גם עבור חודש זה - פקודת התאמה:
C64: ח׳ הוצאות שכר 4,000
C65: ז׳ הוצאות לשלם 4,000
A67: תרגיל 3:
A68: חברה חתמה על הסכם לביטוח המבנים שבבעלותה. עלות פוליסת הביטוח לשנה 100,000 ש״ח והיא בתוקף לשנה מה-1.3.2020.
A69: ב-1.3.2021 חודשה הפוליסה לשנה נוספת, בעלות של 80,000 ש״ח.
A71: נדרש:
A72: א. מהי פקודת היומן שתירשם בהנהלת החשבונות בגין הביטוח בשנים 2020 ו-2021. הניחו שעל ביטוח משלמים תמיד במזומן במועד החתימה.
A73: ב. מהן הוצאות הביטוח שתכללנה בדוחות הכספיים בכל שנה.
A74: ג. מהי יתרת החתך לתום כל אחת מהשנים 2020 ו-2021.
A75: ד. מהי פקודת ההתאמה שתרשם בשנים 2020 ו-2021.
A77: שנה | B77: פקודת הנה״ח (לפי מזומן) | D77: הוצאות ביטוח לדיווח | F77: פקודת ההתאמה | H77: יתרת החתך
A78: 2020 | B78: ח׳ הוצאות ביטוח 100,000 | E78: 100,000/12 * 10 = 83,333 | F78: ח׳ הוצ׳ מראש 16,667 | H78: הוצ׳ מראש | I78: =100000-83333 -> 16667
B79: ז׳ מזומן 100,000 | F79: ז׳ הוצאות ביטוח 16,667 | H79: נכס
A81: 2021 | B81: ח׳ הוצאות ביטוח 80,000 | D81: השתמשנו בחודשיים של | F81: ח׳ הוצאות ביטוח 3,334 | H81: הוצ׳ מראש | I81: =100000+80000-83333-83334 -> 13333
B82: ז׳ מזומן 80,000 | D82: החוזה הישן: | F82: ז׳ הוצאות מראש 3,334 | H82: נכס
E83: 100,000/12 * 2 = 16,667
D85: וגם ב-10 חודשים נוספים
D86: של החוזה החדש:
E87: 80,000/12 * 10 = 66,667
D89: סה״כ שירות שנצרך:
E90: 16,667 + 66,667 =
D91: =16667+66667 -> 83334
A93: תרגיל 4:
A94: אבנר מעוניין להגשים את חלומו בתור עובד דלפק במקדולנדס.
A95: הוא הגיע להסדר ייחודי מול סניף מגידו שמאפשר לו לקבל את השכר בהסדר כדלקמן:
A96: אבנר יתחיל לעבוד ב-1.4.2020. את שכרו בגין שנת עבודה מלאה ראשונה (12 חודשים) יקבל רק בתום אותה שנה שלמה.
A97: השכר שיקבל ב-1.4.2021 יהיה 40,000 ש״ח.
A98: לאחר מכן, יחודש ההסכם של אבנר, ובמסגרתו יקבל 60,000 ש״ח כשכר עבודה מיד במועד החידוש (1.4.2021) לשנה.
A99: רשמו את פקודות היומן למתן ביטוי להוצאות השכר בהנהלת החשבונות של סניף מגידו, כולל פקודות התאמה ויתרות חתך.
A101: שנה | B101: פקודה בהנה״ח | D101: סך הוצאות שכר | F101: פקודת התאמה | H101: יתרת חתך
A102: 2020 | B102: אין תשלום - אין רישום | E102: 40,000/12 * 9 = | F102: ח׳ הוצאות שכר 30,000 | H102: הוצ׳ לשלם: | I102: =D103 -> 30000
B103: 0 | D103: =40000/12*9 -> 30000 | F103: ז׳ הוצאות לשלם 30,000 | H103: התחייבות
A105: 2021 | B105: אבנר מקבל - | D105: בגין ינואר, פברואר, מרס: | F105: ח׳ הוצאות לשלם 30,000 | H105: הוצ׳ מראש: | I105: =C113-D103-E115 -> 15000
B106: גם את השכר שחייבים לו | D106: מועסק לפי חוזה ישן: | F106: ח׳ הוצאות מראש 15,000 | H106: נכס
B107: על שנת העבודה הראשונה: | E107: 40,000/12 * 3 = | F107: ז׳ הוצאות שכר 45,000
C108: 40000 | D108: 10000
B109: וגם מראש את השכר עבור
B110: שנת העבודה הנוספת: | D110: בגין אפריל-דצמבר:
C111: 60000 | D111: מועסק לפי חוזה חדש:
E112: 60,000/12 * 9 =
B113: סה״כ | C113: 100000 | D113: =60000/12*9 -> 45000
B115: ח׳ הוצאות שכר 100,000 | D115: סה״כ הוצ׳: | E115: =D113+D108 -> 55000
B116: ז׳ מזומן 100,000
A118: תרגיל 5
A119: בחברה ידועים הנתונים הבאים:
A120: יתרת הלקוחות ברוטו ליום 31.12.2020 היא 40,000 ש״ח.
A121: שיעור ההלח״מ קבוע - 5%.
A122: במהלך 2021, החברה ביצעה מכירות באשראי בהיקף של 100,000 ש״ח, גבתה מלקוחות 80,000 ש״ח וכן נתגלו חובות אבודים
A123: בהיקף של 1,000 ש״ח.
A125: נדרש:
A126: א. יתרת הלקוחות ברוטו ליום 31.12.2021.
...

Sheet 7 - הרצאה חדשה
A1: הרצאה 7 - רכוש קבוע: 10/12/2025
A4: רקע - נכסים שוטפים:
A5: במפגשים הקודמים, דיברנו על נכסים שוטפים.
A6: למה הכוונה ב״נכסים שוטפים״?
A7: אלו הם נכסים שפרק הזמן הצפוי עד למימושם (עד לקבלת ההטבה הגלומה בהם) שנה או פחות.
A8: והענקנו לנכסים אלו דוגמא בולטת -
A9: א. לקוחות - זהו נכס שוטף, הואיל ובדרך כלל, צופים לקבל את ההטבה הכלכלית (לגבות מהלקוח) בתוך שנה או פחות.
A11: במפגש הנוכחי - הדוגמא הנפוצה ביותר לנכסים לא שוטפים:
A12: נכסים לא שוטפים, באופן כללי, הם נכסים שפרק הזמן הצפוי עד מימושם ארוך משנה אחת.
A13: הדוגמא הבולטת שבה נעסוק במפגש זה ובמפגש הבא היא רכוש קבוע.
A15: רכוש קבוע - הגדרה:
A16: זהו נכס שמקיים שני תנאים מצטברים:
... A27: שלי כאשר קניתי ובתקופות מאוחרות יותר (באיזה סכום = מדידה).
B31: שווי | G31: כושר השימוש של נכס
B32: בסיס מדידה 1 | F32: בסיס מדידה 2 (המחייב בקורס)
A33: לקורס שלנו: | B33: לא מחייב: ״הערכה מחדש״ | F33: עלות - - כך נעבוד!!!
B34: מציגות את הפריט | F34: לפי העלות המקורית (ההיסטורית) שלהם
B35: בסכום הקרוב לשוויו העדכני | F35: בניכוי הפחת שנצבר (״שחיקה״)
A38: בקורס הנוכחי נציג את המודל הבסיסי ביותר למדידת פריטי רכוש קבוע, שנקרא ״מודל העלות״.
A39: על פי מודל זה, פריט רכוש קבוע יוצג בכל תאריך דיווח לפי ההפרש:
C41: עלותו | E41: +
C42: פחת נצבר (*) | E42: (-)
A43: עלות מופחתת = | C43: ערך ספרים (נטו) - יוצג במאזן | E43: =
A45: (*) | B45: הפחת הנצבר הוא ערך המשקף בקירוב את החלק היחסי מעלות הפריט אשר נצרך, במצטבר, עד
B46: למועד הדיווח.
A48: תת נושא ראשון - הוצאות פחת ופחת נצבר בשיטת הקו הישר
A50: אנו יודעים שפריט רכוש קבוע נמדד (אצלנו) לפי עלות פחות הפחת הנצבר. לכן צריך להציג שיטות מקובלות לחישוב
A51: הפחת השנתי והפחת המצטבר. השיטה הנוחה ביותר (והנפוצה ביותר) היא שיטת הקו הישר, שיטה שמניחה שהנכס
A52: נשחק בקצב קבוע (בסכום קבוע) על פני זמן. נדגים את אופן החישוב והמשמעויות להלן:
A54: תרגיל 1 - הדגמה לחישובי רכוש קבוע: פחת נצבר וערך ספרים - שיטת הקו הישר
A55: חברת ״מורן״ בע״מ (להלן: ״החברה״) רכשה מכונה לחימום נקניקיות לעובדי המשרד. עלות המכונה 100,000 ש״ח,
A56: ואורך החיים השימושיים שלה 10 שנים. הניחו כי שווי המכונה בתום 10 השנים צפוי להיות 0. בהנחה שהמכונה נרכשה
A57: בתאריך 1.1.2012, מהו הסכום נטו שבו תוצג המכונה במאזן לימים 31.12.2012, 31.12.2013, 31.12.2014, בהינתן
A58: ששיטת הפחת היא ״הקו הישר״.
A60: פתרון: | F60: מכונת יוקרה לחימום נקניק: 100,000 ש״ח
A61: הבסיס למדידה - הוא העלות הראשונית. כלומר, אם היינו מפיקים דוחות
A62: כספיים מיד במועד הרכישה - היינו מציגים את המכונה לחימום נקניק
A63: בסכום של 100,000 ש״ח.
A65: אלא שלאור העובדה שאורך החיים של המכונה מוגבל, יש לדאוג לייצר
A66: התייחסות כספית ל״שחיקה״ או ל״בלאי״ השיטתיים במכונה לאורך השנים.
A68: כברירת מחדל - הפחת השנתי קבוע - מצב כזה נקרא ״פחת בשיטת הקו הישר״.
A70: המשמעות החישובית - בכל שנה, מחשבים את השחיקה / את הבלאי / הפחת לפי הנוסחה:
A72: הוצאות פחת / בלאי / שחיקה לשנה: | I72: D = Depriciation = פחת לשנה שלמה
A74: הוצאות הפחת הן הוצאה שנרשמת בדוח רווח והפסד בכל שנת דיווח: עלות בניכוי שייר / גרט (כאן - אין גרט) חלקי תקופת הפחתה.
A76: מקרא:
A77: D | B77: הוצאות פחת לשנה שלמה
A78: I0 | B78: עלות פריט הרכוש הקבוע
A79: IG | B79: ערך שייר / גרט - השווי הצפוי לפריט בסיום חייו
A80: n | B80: אורך החיים השימושיים בשנים
A82: כדי לבחון באיזה סכום כספי יוצג הפריט נטו כנכס במאזן, נצטרך להתייחס לעלות המקורית בשלמותה,
A83: וכן לפחת נצבר:
C85: 41274 | D85: 41639 | E85: 42004
A86: עלות (היסטורית, ברכישה) | C86: 100000 | D86: 100000 | E86: 100000
A87: פחת נצבר (סיכום הוצ׳ פחת) | C87: =-C90 -> -10000 | D87: =C87-D90 -> -20000 | E87: =D87-E90 -> -30000
A88: ערך ספרים/ע. מופחתת | C88: =C86+C87 -> 90000 | D88: =D86+D87 -> 80000 | E88: =E86+E87 -> 70000 | F88: מהווה את הסכום שיוצג במאזן (בדוח על המצב הכספי) כנכס
A90: הוצאות פחת | C90: =(100000-0)/10 -> 10000 | D90: =C90 -> 10000 | E90: =D90 -> 10000 | F90: בדוח רווח והפסד
A92: ערך ספרים נקרא לעתים גם ״עלות מופחתת״ או ״רכוש קבוע, נטו״ = עלות בניכוי פחת נצבר לכל תאריך.
A94: בתמצית:
B95: בכל שנה ושנה, יש להציג בדוח רווח והפסד הוצאות פחת בסך 10,000 ש״ח.
B96: בכל אחת מהשנים, במאזן, בצד הנכסים, יוצג הרכוש הקבוע בסכום שיילך ויקטן בכל שנה ב-10,000.
A100: תרגיל 2 - סוגיית קביעת העלות, פחת על שנים לא שלמות, מכירה ורווח / הפסד הון
A102: חברה מעוניינת לרכוש מכונה חדשנית מאד שיודעת לחמם
A103: גם נקניק וגם לחמניה. מחיר המחירון של המכונה היוקרתית | F103: המחיר הרגיל: | H103: 200000
A104: לפי קטלוג היבואן הוא 200,000 ש״ח, אך היא מוצעת כעת | F104: המחיר ״שלנו״ מבצע: | H104: =H103*(1-40%) -> 120000 | I104: Black Friday
A105: במבצע Black Friday ב-40% הנחה.
A106: על מנת לרכוש את המכונה, נדרשת החברה לשלם מכס | E106: 120
A107: ומסי קניה בסך 20,000 ש״ח, הובלה בסך 15,000 ש״ח, | E107: 20
A108: התקנה בסך 10,000 ש״ח, ובנוסף, בכל שנה ושנה, תצטרך | E108: 15
A109: החברה לשלם עלויות אחזקה לניקוי שאריות סחוסים | E109: 10
A110: בעלות 4,000 ש״ח.
A111: המכונה נרכשה ב-1.1.2013, הגיעה לחברה ב-1.3.2013
A112: והפכה לזמינה לשימוש ב-1.5.2013. ערך השייר / הגרט: 10,000 ש״ח.
A113: החברה צופה שאורך החיים השימושיים של המכונה יהיה 10 שנים.
A114: בחלוף 4 וחצי שנים ממועד הרכישה - 1/7/2017, בעקבות הרעלות קיבה מרובות
A115: של העובדים, נמכרה המכונה בתמורה ל-25,000 ש״ח.
A116: המכונה מופחתת בשיטת הקו הישר.
A118: נדרש: מלאו את הטבלה הבאה: | F118: רגע לפני המכירה
F119: ״עזר״ | G119: לדיווח - אחרי המכירה
B120: 41639 | C120: 42004 | D120: 42369 | E120: 42735 | F120: 42917 | G120: 43100
A121: עלות (*) | B121: =120000+20000+15000+10000 -> 165000 | C121: =B121 -> 165000 | D121: =C121 -> 165000 | E121: =D121 -> 165000 | F121: =E121 -> 165000 | G121: 0 | H121: גם העלות וגם הפחת הנצבר מתאפסים
A122: פחת נצבר | B122: =-B125 -> -10333.333 | C122: =B122-C125 -> -25833.333 | D122: =C122-D125 -> -41333.333 | E122: =D122-E125 -> -56833.333 | F122: =E122-F125 -> -64583.333 | G122: 0 | H122: מיד לאחר המכירה
A123: ערך ספרים | B123: =B121+B122 -> 154666.67 | C123: =C121+C122 -> 139166.67 | D123: =D121+D122 -> 123666.67 | E123: =E121+E122 -> 108166.67 | F123: =F121+F122 -> 100416.67 | G123: 0 | H123: <<< | I123: יוצג כנטו נכס במאזן
A125: הוצאות פחת | B125: =(165000-10000)/10*8/12 -> 10333.333 | C125: =(165000-10000)/10 -> 15500 | D125: =(165000-10000)/10 -> 15500 | E125: =(165000-10000)/10 -> 15500 | F125: =(165000-10000)/10*(6/12) -> 7750 | G125: =F125 -> 7750 | H125: הוצאות הפחת לא מתאפסות בשנת המכירה, רק נעצרות
A127: הפסד הון | G127: =25000-F123 -> -75416.667 | H127: הפסד הון: הפרש שלילי בין תמורת המכירה (נתון) 25,000
H128: לבין ערך הספרים ״רגע לפני המכירה״: 100,417
A130: (*) | B130: עלות:
B131: עלות פריט רכוש קבוע תכלול:
B132: א. עלות רכישה ״ישירה״ נטו (בהתחשב בהנחות והחזרים ככל שנוצרו).
B133: ב. כל עלות נוספת חד פעמית שהיא חיונית להבאתו למיקום ולמצב שמיש.
A136: לפי נתוני השאלה: מחיר המחירון של המכונה היוקרתית | F136: עלות ראשונית | H136: 200000
A137: לפי קטלוג היבואן הוא 200,000 ש״ח, אך היא מוצעת כעת | F137: בניכוי הנחה 40% | H137: =-40%*H136 -> -80000
A138: במבצע Black Friday ב-40% הנחה. | F138: בתוספת מכס ומס קניה | H138: 20000
A139: על מנת לרכוש את המכונה, נדרשת החברה לשלם מכס | F139: הובלה | H139: 15000
A140: ומסי קניה בסך 20,000 ש״ח, הובלה בסך 15,000 ש״ח, | F140: התקנה | H140: 10000
A141: התקנה בסך 10,000 ש״ח, ובנוסף, בכל שנה ושנה, תצטרך | F141: סך עלות הפריט - חשבונאית | H141: =SUM(H136:H140) -> 165000
A142: החברה לשלם עלויות אחזקה לניקוי שאריות סחוסים
A143: בעלות 4,000 ש״ח.
A145: שימו לב: בשונה מעלויות אחרות, עלות האחזקה כאן היא עלות שתיווצר כל שנה; היא לא עלות חד פעמית כדי ליצור
A146: את המכונה ולהתקינה, אלא עלות שימוש שוטפת - בדומה להוצאות חשמל, אחזקה וכיוצא בזה. עלויות כאלו,
A147: שיחזרו על עצמן שוב ושוב במהלך חיי המכונה, כעיקרון - אינן חלק מעלותה אלא הוצאה.
...

Sheet 8 - רכוש קבוע פיניטו
A1: הרצאה 8 - המשך רכוש קבוע - והנחיות למידה | H1: 46008
A3: מטרתנו:
A4: לסגור קומפלט את נושא הרכוש הקבוע.
A6: לידיעה:
A7: רכוש קבוע יופיע בבחינה גם כשאלה נפרדת, וגם כחלק משאלה גדולה לגבי עריכת דיווחים.
A8: בשלב זה, איננו עוסקים בשילוב רכוש קבוע בדיווחים מלאים, נגיע לשם במפגשים האחרונים.
A9: לפני זה צריך לשלוט באופן מוחלט ברכוש קבוע, גם במדידה, גם בשיטות השונות, גם בטיפול במכירה (וגם -
A10: נושא שנדגיש יותר היום - פקודות יומן קשורות).
A12: תרגול:
A13: מעבר לתרגילים הניתנים מטעם המתרגלים, במערך שיעור 7 (הקודם - מ-10.12) תמצאו בתחתיתו שאלות רבות
A14: ומגוונות בנושא רכוש קבוע בשיטות שונות עם פתרונות מפורטים וכולל התייחסות לפקודות יומן.
A15: שאלות אלו אינן להגשה, אבל רשמו לעצמכן להתמודד עמן ולפתור אותן - כמה שאפשר כעת (עדיף), ואם לא -
A16: לפחות לפני המבחן.
... A23: בחברת ״נקניקי העמקים״ בע״מ ידועים שקיימים פריטי הרכוש הקבוע הבאים:
B25: פריט | C25: תאריך רכישה | D25: עלות | E25: גרט | F25: שיטת הפחתה | G25: שנות פחת
B26: מכונת נקניק | C26: 43831 | D26: 400000 | E26: 50000 | F26: קו ישר | G26: 10
B27: Macbook | C27: 44835 | D27: 30000 | E27: 10000 | F27: קו ישר | G27: 7
B28: iPhone | C28: 45231 | D28: 10000 | E28: 1000 | F28: סכום ספרות | G28: 5
A30: נתונים נוספים:
A31: כל פריטי הרכוש הקבוע זמינים לשימוש ממועד רכישתם.
A33: נדרש:
A34: א. חשבו את הוצאות הפחת בגין הפריטים לשנת 2024 (בגין כל פריט בנפרד, וסך הכל הוצאות פחת ברווח והפסד).
A35: ב. חשבו את הסכום שבו יוצגו הפריטים כרכוש קבוע בדוח על המצב הכספי ליום 31.12.2024.
A36: ג. הניחו כעת האייפון נמכר ב-1.5.2025 בתמורה שהובילה לרישום רווח הון בסכום של 1,500 ש״ח.
A37: רשמו פקודות יומן עבור שנת 2025 בגין כל הפריטים, והציגו את הוצאות הפחת ואת ערכי הרכוש הקבוע
A38: בדוח על המצב הכספי ליום 31.12.2025.
A40: א. חשבו את הוצאות הפחת בגין הפריטים לשנת 2024 (בגין כל פריט בנפרד, וסך הכל הוצאות פחת ברווח והפסד).
A42: העתקת נתונים לשם נוחות:
B43: פריט | C43: תאריך רכישה | D43: עלות | E43: גרט | F43: שיטת הפחתה | G43: שנות פחת
B44: מכונת נקניק | C44: 43831 | D44: 400000 | E44: 50000 | F44: קו ישר | G44: 10
B45: Macbook | C45: 44835 | D45: 30000 | E45: 10000 | F45: קו ישר | G45: 7
B46: iPhone | C46: 45231 | D46: 10000 | E46: 1000 | F46: סכום ספרות | G46: 5
B48: הוצאות פחת - מכונת נקניק, 2024: | E48: =(D44-E44)/G44 -> 35000 | H48: (400,000 - 50,000)/10 =
B49: הוצאות פחת - Macbook, שנת 2024: | E49: =20000/7 -> 2857.1429 | H49: (30,000 - 10,000)/7 =
B50: הוצאות פחת - iPhone, שנת 2024: | E50: =9000*(10/12*5+2/12*4)/15 -> 2900 | H50: (10,000 - 1,000)*(10/12 * 5 + 2/12 * 4)/15 =
A51: סיכום - | B51: הוצאות פחת - רווח והפסד - 2024: | E51: =SUM(E48:E50) -> 40757.143 | F51: ביקשו גם את סך כל הוצאות הפחת לשנה זו
B53: לגבי אייפון:
B54: סכום הספרות: | D54: 5 * 6 / 2 = 15 | E54: n * (n + 1)/2 = | F54: כאשר n הוא שנות הפחת
B55: בנוסף צריך לזהות מהי הספרה / הספרות הרלוונטיות לשנת 2024.
B56: הספרה הראשונה היא 5 (אורך החיים): | F56: 1.11.2023 - 1.11.2024
B57: הספרה הבאה היא 4 (ירידה ביחידה): | F57: 1.11.2024 - 1.11.2025
B59: נפתח את הביטוי: | F59: (10,000 - 1,000) * (10/12 * 5 + 2/12 * 4) / 15 =
G61: עלות
C62: סכום אוטומטי | F62: גרט / שייר
E64: בין התאריכים 1.1.2024 - 1.11.2024 הספרה היא 5: 10 חודשים
D66: בין התאריכים 1.11.2024 - 31.12.2024 הספרה היא 4: חודשיים (2 חודשים)
A68: ב. חשבו את הסכום שבו יוצגו הפריטים כרכוש קבוע בדוח על המצב הכספי ליום 31.12.2024.
A69: בשונה מהשאלה הקודמת, שבה נדרשתי לחשב הוצאות פחת בלבד לשנה מסויימת בלבד (מ-1.1.2024 - 31.12.2024),
A70: כעת המטרה היא לחשב ערך ספרים / עלות מופחתת - שתוצג במאזן: עלינו לקחת את העלות של כל פריט, ולנכות
A71: ממנה את הפחת הנצבר למועד זה.
A73: מה ההבדל בין הפחת הנצבר ל-31.12.2024 להוצאות פחת לשנת 2024?
A75: פחת נצבר לוקח בחשבון לא רק את השנה המסוימת, אלא את כל הפחת שנוצר גם בשנים הקודמות.
B77: פריט | C77: תאריך רכישה | D77: עלות | E77: גרט | F77: שיטת הפחתה | G77: שנות פחת
B78: מכונת נקניק | C78: 43831 | D78: 400000 | E78: 50000 | F78: קו ישר | G78: 10
B79: Macbook | C79: 44835 | D79: 30000 | E79: 10000 | F79: קו ישר | G79: 7
B80: iPhone | C80: 45231 | D80: 10000 | E80: 1000 | F80: סכום ספרות | G80: 5
A82: ל-31/12/2024: | C82: מכונת | D82: Mac | E82: i
C83: נקניק | D83: Book | E83: Phone | F83: סך הכל
B84: עלות | C84: 400000 | D84: 30000 | E84: 10000 | F84: =SUM(C84:E84) -> 440000
B85: פחת נצבר | C85: =-(400000-50000)/10*5 -> -175000 | D85: =-(30000-10000)/7*(2+3/12) -> -6428.5714 | E85: =-(10000-1000)*(5+4*2/12)/15 -> -3400 | F85: =SUM(C85:E85) -> -184828.57
B86: ערך ספרים | C86: =SUM(C84:C85) -> 225000 | D86: =SUM(D84:D85) -> 23571.429 | E86: =SUM(E84:E85) -> 6600 | F86: =SUM(F84:F85) -> 255171.43
B88: פחת נצבר מכונת נקניק: | D88: =-C85 -> 175000 | G88: (400,000 - 50,000)/10 * 5 =
B89: כאשר:
B90: 400000 | C90: עלות
B91: 50000 | C91: גרט
B92: 10 | C92: תקופת הפחתה
B93: 5 | C93: מספר השנים שחלפו (נצברו) ממועד הזמינות לשימוש 1.1.2020 עד למועד הדיווח 31.12.2024
B95: פחת נצבר מקבוק: | D95: =-D85 -> 6428.5714 | G95: (30,000 - 10,000)/7 * (2 + 3/12) =
B96: כאשר:
B97: 30000 | C97: עלות
B98: 10000 | C98: נתון
B99: 7 | C99: שנות הפחתה
B100: (2 + 3/12) | C100: מספר השנים (והחודשים) ממועד הזמינות לשימוש 1.10.2022 עד למועד הדיווח 31.12.2024 = שנתיים ו-3 חודשים
B102: פחת נצבר אייפון: | D102: =-E85 -> 3400 | G102: (10,000 - 1,000) * (5 + 4*2/12) / 15 =
B104: כאשר:
B105: 10000 | C105: עלות
B106: 1000 | C106: גרט
B107: 5 | C107: הספרה הראשונה בסכום ספרות היא זו ששייכת לשנת החיים הראשונה של הנכס.
C108: הפריט מופחת החל מ-1.11.2023 - הספרה 5 (אורך החיים) משרתת את כל התקופה מ-1.11.2023 - 1.11.2024
B109: 4 * 2/12 | C109: הספרה השניה בסכום ספרות. היא שייכת לשנת החיים השניה של הנכס.
C110: ספרה זו מתחילה ב-1.11.2024. אני רוצה את החלק מהספרה שיהיה רלוונטי עד ליום 31.12.2024.
C111: לכן, מתוך הספרה 4 אני זקוק לחודשיים מתוך 12. לכן המכפלה ב -2/12
B112: 15 | C112: סכום הספרות - שמחושב כזכור תמיד לפי תקופת ההפחתה (5) כפול תקופת ההפחתה פלוס 1 (6) חלקי 2:
G113: n * (n + 1) / 2 = 5 * 6 / 12 = 15
B115: תזכורת: פחת נצבר מביא בחשבון תמיד את כל התקופה ממועד הזמינות לשימוש עד מועד הדיווח.
B116: לכן, הפחת הנצבר שחושב פה משקף את כל התקופה 1.11.2023 עד 31.12.2024, ולא רק את שנת 2024.
A118: ג. הניחו כעת האייפון נמכר ב-1.5.2025 בתמורה שהובילה לרישום רווח הון בסכום של 1,500 ש״ח.
A119: רשמו פקודות יומן עבור שנת 2025 בגין כל הפריטים, והציגו את הוצאות הפחת ואת ערכי הרכוש הקבוע
A120: בדוח על המצב הכספי ליום 31.12.2025.
B122: פריט | C122: תאריך רכישה | D122: עלות | E122: גרט | F122: שיטת הפחתה | G122: שנות פחת
B123: מכונת נקניק | C123: 43831 | D123: 400000 | E123: 50000 | F123: קו ישר | G123: 10
B124: Macbook | C124: 44835 | D124: 30000 | E124: 10000 | F124: קו ישר | G124: 7
B125: iPhone | C125: 45231 | D125: 10000 | E125: 1000 | F125: סכום ספרות | G125: 5
A127: נתחיל דווקא מרישום הנתונים לשנת 2025 בגין כל הפריטים:
D129: דוחות כספיים ליום 31.12.2025 | I129: טיפ:
D130: מכונת נקניק | E130: Macbook | F130: iPhone | G130: סה״כ | I130: כל פריט רכוש קבוע שנמכר - ערכו כנכס (עלות ופחת נצבר)
C131: עלות | D131: =D123 -> 400000 | E131: =D124 -> 30000 | F131: 0 | G131: =SUM(D131:F131) -> 430000 | I131: מתאפס לאחר מכירתו.
C132: פחת נצבר | D132: =-(400000-50000)/10*6 -> -210000 | E132: =-(30000-10000)/7*(3+3/12) -> -9285.7143 | F132: 0 | G132: =SUM(D132:F132) -> -219285.71 | I132: נתון שהאייפון נמכר ב-1.5.2025, ולכן בדוחות לתום 2025
C133: ערך ספרים | D133: =D131+D132 -> 190000 | E133: =E131+E132 -> 20714.286 | F133: 0 | G133: =G131+G132 -> 210714.29 | I133: יוצג כ-0.
C135: הוצאות פחת | D135: =(400000-50000)/10 -> 35000 | E135: =(30000-10000)/7 -> 2857.1429 | F135: =D146 -> 800 | G135: =SUM(D135:F135) -> 38657.143
...

Sheet 9 - חדש - אינטגרציה א
A1: מפגשים 9 - אינטגרציה ועריכת דוחות כספיים חלק א
A3: ייתכנו שינויים קלים במבנה הבחינה: יחד עם זאת, המתואר להלן מייצג בהחלט.
A5: הבחינה מורכבת משני חלקים. חלקה הראשון עוסק בעריכת דוחות כספיים מלאים (עם תיקונים ואירועים), וחלקה השני - כולל שאלות
A6: קטנות במגוון נושאים כדוגמת אלו שהצגנו במהלך השיעורים.
A8: שאלות לגבי דוחות כספיים יתאפשרו משני סוגים:
A9: א. שאלה לגבי עריכת מאזן ודוח רווח והפסד, כולל השפעות אירועים נוספים ופקודות יומן נוספות על הערכים בדיווח (בעיקר במפגש הבא).
A10: ב. שאלה לגבי הדוח המפרט רק בדבר השינויים בהון (מזה נתחיל היום).
A12: מעבר לזה - תהיינה גם שאלות קטנות בנושאים השונים - פקודות יומן, פקודות הכרה בהכנסות ובהוצאות כולל התאמות, לקוחות, רכוש קבוע...
A14: הדוח על השינויים בהון העצמי
A15: אנחנו כבר יודעים שההון העצמי הוא כנראה אחד הרכיבים הכי מורכבים בדוחות.
A16: הכוונה היא שנכסים קל לנו להגדיר.
A17: התחייבויות - קל לנו לזהות.
... A48: במידה והחברה הוקמה ״השנה״ - אין ״יתרות פתיחה״. כלומר מתחילים את הטבלה מהאירועים של השנה.
A50: אירוע | B50: הון מניות 3 ש״ח ערך נקוב | C50: הון מניות 1 ש״ח ערך נקוב | D50: פרמיה | E50: עודפים יתרת רווח | F50: סך הכל
A51: הנפקת מניות 3 ש״ח ערך נקוב | B51: =50000*3 -> 150000 | D51: =F51-B51 -> 220000 | F51: 370000
A52: הנפקת מניות 1 ש״ח ערך נקוב | C52: =70000*1 -> 70000 | D52: =F52-C52 -> 25000 | F52: =98000-3000 -> 95000
A53: פיצול מניות | B53: =-B51 -> -150000 | C53: =-B53 -> 150000 | F53: 0
A54: הנפקת מניות הטבה | C54: =10%*(150000+70000) -> 22000 | D54: =F54-C54 -> -22000 | F54: 0
A55: רווח נקי | E55: 320000 | F55: =E55 -> 320000
A56: דיבידנד שהוכרז | E56: -38000 | F56: =E56 -> -38000
A57: יתרות לדיווח - 31.12.2020 | B57: =SUM(B51:B56) -> 0 | C57: =SUM(C51:C56) -> 242000 | D57: =SUM(D51:D56) -> 223000 | E57: =SUM(E51:E56) -> 282000 | F57: =SUM(F51:F56) -> 747000
A59: הסברים נוספים:
A60: הנפקת מניות 3 ש״ח ערך נקוב = החברה מעניקה למשקיעים מניות (בעלות) על החברה ובתמורה מקבלת כסף (תמורת הנפקה).
A61: בעקבות ההנפקה, עלינו לתעד עלייה כוללת בהון העצמי בהתאם לתמורת ההנפקה נטו = התמורה בניכוי עלויות ההנפקה: 370,000 = 30,000 - 400,000
A62: הון המניות בגין ההנפקה = מכפלה של מספר המניות בערך הנקוב של המניות שהונפקו. הוא מייצג את מספר זכויות הבעלות בחברה.
A63: אם חברה הנפיקה מניות בערך נקוב כולל של 150,000 זה אומר שאם ברצוני להיות בעלים של 10% מהחברה - עליי לקנות מניות בערך נקוב 15,000 = 150,000 * 10%
B65: בקצרה: הון מניות = ערך נקוב = זכויות בעלות
B66: סך ההון העצמי = תמורת ההנפקה = כמה המשקיעים חושבים שהחברה שווה
B67: את ההפרש בין תמורת ההנפקה לבין הון המניות רושמים בסעיף שנקרא פרמיה.
A69: הנפקת מניות 1 ש״ח ערך נקוב - נייצר עמודה נפרדת (כי הערך הנקוב למניה שונה) .
B70: הון מניות = מס׳ מניות 70,000 כפול ערך נקוב למניה 1 ש״ח = 70,000
B71: סה״כ = תמורת הנפקה = 98,000 (תמורה ברוטו) בניכוי 3,000 (עלויות הנפקה נתונות) = 95,000
B72: ההפרש בין תמורת ההנפקה לערך הנקוב (הון המניות) = פרמיה: 25,000 = 70,000 - 95,000
A74: פיצול מניות:
A75: פיצול מניות משמעו - כל המחזיק במניה גדולה (כאן - 3 ש״ח ערך נקוב) מקבל במקומה 3 מניות בנות 1 ש״ח ערך נקוב.
A76: מן הסתם הערך הנקוב לא משתנה. הוא רק ״עובר צד״: | H76: מניה 1 ש״ח
A77: את הערך בעמודת המניות הגדולות (3 ש״ח ערך נקוב) יש לאפס. | F77: מניה בת 3 ש״ח | G77: פיצול | H77: מניה 1 ש״ח
A78: את הערך בעמודת המניות הקטנות (1 ש״ח ערך נקוב) יש להגדיל באותו סכום. | F78: ערך נקוב | H78: מניה 1 ש״ח
A79: סך ההון העצמי לא משתנה בעקבות הפיצול (אין כניסה של כסף חדש).
A81: הנפקת מניות הטבה:
A82: כאשר מבוצעת הנפקת מניות הטבה, מוגדר תהליך במסגרתו בעלי המניות הקיימים לאותה נקודת זמן זוכים להנפקת מניות נוספת ללא תמורה מצדם.
A83: הואיל ומדובר בהנפקה ללא תמורה, סך השינוי בהון העצמי כתוצאה מהנפקת הטבה תמיד 0.
A84: כדי לחשב את ההשפעה על הון המניות, עלינו לסכום ולבדוק כמה הון מניות קיים מכל סוג ערב ההטבה.
A86: בשאלה עצמה, הון המניות היחיד שעדיין קיים ערב ההטבה, זה הון מניות רגילות בנות 1 ש״ח ערך נקוב: | F86: 220000 | H86: 70,000 + 150,000 =
A87: שיעור ההטבה שהנו 10% מהערך הנקוב הקיים למועד זה, מוביל להנפקת הטבה = עלייה בהון המניות: | F87: 22000 | H87: 10% * 220,000 =
A89: בנוסף לעלייה בהון המניות, הנפקת ההטבה גם מקטינה את הפרמיה בסכום זהה.
A91: רווח נקי:
A92: יתועד בעמודת העודפים (יתרת רווח) וכן בסה״כ הון עצמי בסימן חיובי.
A93: אם היה הפסד נקי - היה מתועד בעודפים ובסה״כ ההון העצמי בסימן שלילי.
A95: דיבידנד:
A96: במועד שבו הוכרז דיבידנד (גם אם טרם שולם בפועל) יש להקטין את העודפים ואת ההון העצמי בסכומו של הדיבידנד.
A97: יש לשים לב לכך שהסכום ששולם בפועל לא רלוונטי לקביעה - בכמה ההון העצמי קטן;
A98: זאת משום שחשבונאות לא עובדת על בסיס מזומן - אלא על בסיס התרחשות האירוע.
A99: האירוע = ההכרזה, המועד שבו החברה התחייבה לחלק את הדיבידנד, ובו יבוצע התיעוד, לא אירוע התשלום עצמו.
A102: שאלה נוספת - קבוצת בוקר - בנושא הון עצמי - מועד ב
A120: פרטים | B120: הון מניות 4 | C120: הון מניות 2 | D120: פרמיה | E120: עודפים | F120: סה״כ
A121: הנפקת מניות 4 ש״ח ערך נקוב | B121: =80000*4 -> 320000 | D121: =F121-B121 -> 245000 | F121: =600000-35000 -> 565000
A122: הנפקת מניות 2 ש״ח ערך נקוב | C122: =90000*2 -> 180000 | D122: =F122-C122 -> 14000 | F122: =195000-1000 -> 194000
A123: פיצול מניות | B123: =-B121 -> -320000 | C123: =-B123 -> 320000 | F123: 0
A124: הנפקת הטבה | C124: =25%*(C122+C123) -> 125000 | D124: =F124-C124 -> -125000 | F124: 0
A125: רווח נקי | E125: 600000 | F125: =E125 -> 600000
A126: דיבידנד שהוכרז | E126: -150000 | F126: =E126 -> -150000
A127: סה״כ לדיווח - יתרות ל-31.12.2022 | B127: =SUM(B121:B126) -> 0 | C127: =SUM(C121:C126) -> 625000 | D127: =SUM(D121:D126) -> 134000 | E127: =SUM(E121:E126) -> 450000 | F127: =SUM(F121:F126) -> 1209000
A129: פרטים | B129: הון מניות 4 | C129: הון מניות 2 | D129: פרמיה | E129: עודפים | F129: סה״כ
A130: הנפקת מניות | B130: לפי ערך נקוב | C130: לפי ערך נקוב | D130: הפרש תמורה בניכוי ערך נקוב | F130: לפי התמורה נטו - בניכוי עלויות הנפקה
A131: פיצול מניות | B131: לאפס (להקטין) את הון המניות הגדולות | C131: להגדיל בסכום זהה את הון המניות הקטנות | F131: 0
A132: הנפקת הטבה | B132: כופלים את הערך הנקוב הקיים בשיעור ההטבה | C132: כופלים את הערך הנקוב הקיים בשיעור ההטבה | D132: הפרש שלילי: תמורה 0 בניכוי ערך נקוב שהונפק בהטבה | F132: 0
A133: רווח נקי / הפסד נקי | E133: רווח נקי + הפסד נקי (-) | F133: רווח נקי + הפסד נקי (-)
A134: דיבידנד שהוכרז (ממש לא אכפת לי מתי שולם) | E134: ירידה בעודפים (-) | F134: (-)
A135: סה״כ לדיווח
A137: קבוצת צהריים 12:15 - הדגמה 1 להון עצמי, הסברים ושינויים
A138: חברת סונסינו בע״מ הוקמה ב-1.1.2023.
A139: להלן נתונים בדבר עסקאות ואירועים שהתרחשו בחברה במהלך שנה זו:
A141: 44927 | B141: החברה הנפיקה 100,000 מניות בנות 2 ש״ח ערך נקוב כל אחת
B142: בתמורה ל-340,000 ש״ח. עלויות ההנפקה הסתכמו ב-15,000 ש״ח. | G142: הנפקת מניות בתמורה למזומן / נכסים
A143: 44986 | B143: החברה הנפיקה 85,000 מניות בנות 1 ש״ח ערך נקוב כל אחת,
B144: בתמורה ל-127,000 ש״ח. עלויות ההנפקה הסתכמו ב-7,000 ש״ח.
A145: 45017 | B145: בוצע פיצול מניות: כך שכל המחזיק במניה בת 2 ש״ח ערך נקוב, | G145: פיצול מניות
B146: קיבל במקומה 2 מניות בנות 1 ש״ח ערך נקוב.
A147: 45047 | B147: הונפקו מניות הטבה בשיעור של 20% כנגד הפרמיה. | G147: הנפקת הטבה
A148: 45291 | B148: הרווח הנקי בחברה לשנת 2023 הסתכם ב-500,000 ש״ח. | G148: רווח / הפסד נקי
A149: 45291 | B149: החברה הכריזה דיבידנד בסכום של 180,000 ש״ח. מתוכו חילקה ושילמה
B150: לבעלי המניות 25,000 ש״ח,היתרה תשולם לבעלי המניות בשנה הבאה. | G150: הכרזת דיבידנד
A152: נדרש: הציגו את הדוח על השינויים בהון העצמי לשנת 2023.
A154: הדוח על השינויים בהון העצמי מפרט את ההשפעה של כל עסקה הונית על הרכיבים של ההון העצמי.
A155: כל עסקה ״פותחת שורה״ חדשה לתיעוד בדוח על השינויים בהון העצמי.
A156: המטרה היא לבדוק איזה סוג / סעיף של הון עצמי משתנה בכל אירוע - לפי ההגדרות המתאימות.
A158: תאריך | B158: תיאור | D158: הון מניות 2 ש״ח | E158: הון מניות 1 ש״ח | F158: פרמיה | G158: עודפים יתרת רווח | H158: סה״כ
A159: 44927 | B159: הנפקת מניות 2 ש״ח ערך נקוב | D159: =100000*2 -> 200000 | F159: =H159-D159 -> 125000 | H159: =340000-15000 -> 325000
A160: 44986 | B160: הנפקת מניות 1 ש״ח ערך נקוב | E160: =85000*1 -> 85000 | F160: =H160-E160 -> 35000 | H160: =127000-7000 -> 120000
A161: 45017 | B161: פיצול מניות | D161: =-D159 -> -200000 | E161: =-D161 -> 200000 | H161: 0
A162: 45047 | B162: הנפקת מניות הטבה | E162: =20%*(E160+E161) -> 57000 | F162: =H162-E162 -> -57000 | H162: 0
A163: 45291 | B163: רווח נקי | G163: 500000 | H163: =G163 -> 500000
A164: 45291 | B164: דיבידנד | G164: -180000 | H164: =G164 -> -180000
A165: 45291 | B165: יתרות לדיווח | D165: =SUM(D159:D164) -> 0 | E165: =SUM(E159:E164) -> 342000 | F165: =SUM(F159:F164) -> 103000 | G165: =SUM(G159:G164) -> 320000 | H165: =SUM(H159:H164) -> 765000
A167: הסברים:
A168: כאשר מונפקות מניות, בתמורה לנכסים (למשל בתמורה למזומן) נפעל באופן הבא:
B169: סה״כ (סך השינוי בהון העצמי):
B170: נקבע לפי תמורת ההנפקה נטו (תמורת הנפקה בניכוי עלויות הנפקה).
B171: כאן, בהנפקה של 1/1/2023, נתון: | H171: כאן, בהנפקה של 1/3/2023, נתון:
...

Sheet 10 חדש הנסיכה התימנית
A1: מפגש 10 - פתרון שאלת מסה שלמה
A3: פתרון שאלת מסה מהאתר - ״הנסיכה התימנית״
A5: נייר עבודה בסיסי לפני סיווגים:
A7: חשבון | B7: ערך כספי | C7: נכסים | D7: התחייבויות | E7: הון | F7: הכנסות | G7: הוצאות
A8: מזומן בקופה | B8: 320
A9: הוצאות תקשורת | B9: 80
A10: לקוחות | B10: 500
A11: עו״ש בנק | B11: 300
A12: מכירות | B12: 700
A13: ספקים | B13: 20
A14: הוצאות תקשורת מראש ליום 1.1.2021 | B14: 30
A15: הלוואות לזמן קצר | B15: 50
A16: הון מניות | B16: 90
A17: קניות | B17: 300
A18: מלאי פתיחה - 1.1.2021 | B18: 50
A19: עודפים 1.1.2021 | B19: ?
A20: מחשבים - עלות | B20: 600
A21: מחשבים - פחת נצבר 1.1.2021 | B21: ?
A22: הנחות מזומן מספקים | B22: 20
A23: טלפונים סלולריים | B23: 100
A24: פקדון בנקאי ל-5 שנים | B24: 50
A25: הלוואות לזמן ארוך | B25: 100
A26: הוצאות ריבית | B26: 20
A27: הכנסות ריבית | B27: 80
A28: עמלה לסוכני מכירות | B28: 20
A29: הוצאות שכר - הנהלה | B29: 10
A30: הוצאות שכר - משווקים | B30: 30
A31: הוצאות חשמל | B31: 15
A32: הוצאות תפעוליות כלליות | B32: 22
A33: מלאי סגירה - מאזן | B33: ?
A34: מלאי סגירה - רווח והפסד | B34: ?
A36: סיווגים והשלמת נתונים חסרים לפני תיקונים ועדכונים:
A38: חשבון | B38: ערך כספי | C38: נכסים | D38: התחייבויות | E38: הון | F38: הכנסות | G38: הוצאות
A39: מזומן בקופה | B39: 320 | C39: =B39 -> 320
A40: הוצאות תקשורת | B40: 80 | G40: =B40 -> 80
A41: לקוחות | B41: 500 | C41: =B41 -> 500
A42: עו״ש בנק | B42: 300 | C42: =B42 -> 300
A43: מכירות | B43: 700 | F43: =B43 -> 700
A44: ספקים | B44: 20 | D44: =B44 -> 20
A45: הוצאות תקשורת מראש ליום 1.1.2021 | B45: 30 | C45: =B45 -> 30 | H45: הוצאות מראש והכנסות לקבל = נכסים
A46: הלוואות לזמן קצר | B46: 50 | D46: =B46 -> 50
A47: הון מניות | B47: 90 | E47: =B47 -> 90
A48: קניות | B48: 300 | G48: =B48 -> 300
A49: מלאי פתיחה - 1.1.2021 | B49: 50 | G49: =B49 -> 50
A50: עודפים 1.1.2021 | B50: ? | E50: =D135 -> 1124.5 | H50: את העודפים ל-1.1 תמיד נחלץ ״בסוף״ - לפי משוואה
A51: מחשבים - עלות | B51: 600 | C51: =B51 -> 600
A52: מחשבים - פחת נצבר 1.1.2021 | B52: ? | C52: =-(600-0)/8*(3+6/12) -> -262.5
A53: הנחות מזומן מספקים | B53: 20 | F53: =B53 -> 20 | H53: הנחה מסחרית שקיבלתי: קיטון בהוצאות; הנחת מזומן שקיבלתי = הכנסת מימון
A54: טלפונים סלולריים | B54: 100 | C54: =B54 -> 100
A55: פקדון בנקאי ל-5 שנים | B55: 50 | C55: =B55 -> 50
A56: הלוואות לזמן ארוך | B56: 100 | D56: =B56 -> 100
A57: הוצאות ריבית | B57: 20 | G57: =B57 -> 20
A58: הכנסות ריבית | B58: 80 | F58: =B58 -> 80
A59: עמלה לסוכני מכירות | B59: 20 | G59: =B59 -> 20
A60: הוצאות שכר - הנהלה | B60: 10 | G60: =B60 -> 10
A61: הוצאות שכר - משווקים | B61: 30 | G61: =B61 -> 30
A62: הוצאות חשמל | B62: 15 | G62: =B62 -> 15
A63: הוצאות תפעוליות כלליות | B63: 22 | G63: =B63 -> 22
A64: מלאי סגירה - מאזן | B64: ? | C64: 50 | H64: זכרו: המלאי לתום השנה מהווה נכס וגם מקטין הוצאות
A65: מלאי סגירה - רווח והפסד | B65: ? | G65: -50
A66: סה״כ | C66: =SUM(C39:C65) -> 1687.5 | D66: =SUM(D39:D65) -> 170 | E66: 90 + ? | F66: =SUM(F39:F65) -> 800 | G66: =SUM(G39:G65) -> 497
C67: נכסים | D67: התחייבויות | E67: הון | F67: הכנסות | G67: הוצאות
A70: שיחזור ערכים חסרים (?) לפני תיקונים ועדכונים - ללא פקודות יומן נוספות!
A72: פחת נצבר מחשבים 1.1.2021 | B72: ? | C72: חילוץ לפי נתוני מלל השאלה
A73: מלאי סגירה - מאזן | B73: ? | C73: חילוץ לפי נתוני מלל השאלה
A74: מלאי סגירה - רווח והפסד | B74: ? | C74: חילוץ לפי נתוני מלל השאלה
A75: עודפים 1.1.2021 | B75: ? | C75: יחולצו רק בסוף התהליך
A77: שחזור פחת נצבר מחשבים 1.1.2021
A84: מועד תחילת ההפחתה (זמינות לשימוש) | B84: 42917 | C84: <<<< | D84: תאריך לחישוב: | F84: 44197
A85: תקופת הפחתה בשנים (קו ישר) | B85: 8 | D85: כלומר בחלוף 3 שנים + 6 חודשים
A86: ערך שייר / גרט: | B86: 0
A88: דגש: כל המטרה היא לחשב את יתרת הפחת הנצבר ליום 1.1.2021, ולא לעדכן את הפחת הנצבר לתום השנה.
A89: כלומר, בשלב זה לא נעניק ביטוי לאירועים שטרם נרשמו, כגון הוצאות פחת של השנה ומכירה שלא נרשמה.
A91: בנתוני השאלה, עלות המחשבים: | B91: 600
A93: פחת נצבר מחשבים 1.1.2021: | B93: =600/8*3.5 -> 262.5 | E93: [(600 - 0) / 8] * (3 + 6/12) =
B96: שנים שחלפו מ-1.7.2017 | D96: תקופת | E96: גרט/שייר | F96: עלות
B97: עד החישוב ל-1.1.2021 | D97: ההפחתה
D98: בשנים
A100: מדוע לא רשמנו פחת השנה ולא התייחסנו למכירה? משום שאלו אירועים שטרם נרשמו ועבורם מבצעים עדכון
A101: בדרך של פקודות יומן, בהמשך.
A103: שיחזור מלאי סגירה 31.12.2021
A109: תזכורת: ערכו של מלאי הסגירה בדוחות הכספיים נקבע לפי הנמוך מבין שני ערכים: | F109: אלפי ש״ח
A110: א. עלות. | F110: 70 | H110: 10,000 * 7 =
A111: ב. שווי מימוש נטו (שמ״נ): מחיר מכירה עתידי, בניכוי עלויות השלמה ובניכוי עלויות מכירה. | F111: 50 | H111: 10,000 * (8 - 0.5 - 2.5) =
A112: הערך שיוצג - הנמוך יותר - מלאי הסגירה ליום 31.12.2021: | F112: 50
A114: כזכור: מלאי הסגירה ייכלל גם בנכסים בסימן חיובי, וגם בהוצאות בסימן שלילי.
A115: מדוע? כי מצד אחד המלאי לתום השנה הוא נכס; ומצד שני - הוא מקטין את ״עלות המכר״.
A117: שיחזור עודפים 1.1.2021
A118: רק לאחר ששיחזרתי את כל יתר הערכים, וסיכמתי את הנכסים, ההתחייבויות, ההון, ההכנסות וההוצאות לפני תיקונים,
A119: אני אגש לשיחזור יתרת הפתיחה 1.1 של העודפים. גם אם יש אירועים בשאלה שלא נרשמו כלל או מספרים לנו מפורשות על טעויות
A120: ברישומים, בשלב שיחזור ראשוני זה אין צורך בהם.
B122: 1687.5 | C122: 170 | D122: 90 + ? | E122: 800 | F122: 497
B123: נכסים | C123: התחייבויות | D123: הון | E123: הכנסות | F123: הוצאות
A125: המשוואה מתוכה אחלץ את העודפים ל-1.1 (?) היא: | D125: הון לתום השנה (לפני תיקון) = הון התחלתי + רווח (הכנסות בניכוי הוצאות)
B127: נכסים = התחייבויות + הון + הכנסות - הוצאות
E129: 1,687.5 = 170 + (90 + ?) + (800 - 497)
B131: הכנסות | C131: הון עצמי | D131: התחייבויות | E131: נכסים
B132: בניכוי | C132: כולל עודפים
B133: הוצאות | C133: ל-1.1 (?)
D135: =B122-C122-E122+F122-90 -> 1124.5 | E135: ? =
...

Sheet 11 שאלת בחינה
A1: מפגש 11 - שאלה מבחינה אמיתית - 2025א - שאלת מסה | H1: 46029
A3: חשבון | C3: ערך כספי | D3: נכסים | E3: התחייבויות | F3: הון עצמי | G3: הכנסות | H3: הוצאות
A4: הון מניות | C4: 100 | F4: =C4 -> 100
A5: הוצאות אחזקה | C5: 29 | H5: =C5 -> 29
A6: הוצאות חשמל | C6: 12 | H6: =C6 -> 12
A7: הוצאות טלפון | C7: 13 | H7: =C7 -> 13
A8: הוצאות לשלם ל-31.12.2024 | C8: 24 | E8: =C8 -> 24
A9: הוצאות ריבית | C9: 17 | H9: =C9 -> 17
A10: הוצאות שכר דירה | C10: 22 | H10: =C10 -> 22
A11: הוצאות שכר ומשכורות | C11: 72 | H11: =C11 -> 72
A12: הוצאות תפעול | C12: 15 | H12: =C12 -> 15
A13: החזרות לספקים | C13: 15 | H13: =-C13 -> -15
A14: החזרות מלקוחות | C14: 10 | G14: =-C14 -> -10
A15: הכנסות מראש 1.1 | E15: =F75 -> 200
A16: הכנסות ריבית | C16: 11 | G16: =C16 -> 11
A17: הלוואות לזמן ארוך | C17: 80 | E17: =C17 -> 80
A18: הלוואות לזמן קצר | C18: 140 | E18: =C18 -> 140
A19: הלח״מ 1.1 | D19: =-E93 -> -12.5
A20: הנחות מזומן ללקוחות | C20: 12 | H20: =C20 -> 12
A21: הנחות מזומן מספקים | C21: 31 | G21: =C21 -> 31
A22: הנחות מסחריות ללקוחות | C22: 15 | G22: =-C22 -> -15
A23: הנחות מסחריות מספקים | C23: 22 | H23: =-C23 -> -22
A24: לקוחות | C24: 400 | D24: =C24 -> 400
A25: מזומן | C25: 300 | D25: =C25 -> 300
A26: מחשבים - עלות | D26: 70
A27: מחשבים - פחת נצבר 1.1 | D27: =-D121 -> -5
A28: מכונות - עלות 1.1 | D28: 1000
A29: מכונות - פחת נצבר 1.1 | D29: -200
A30: מכירות | C30: 400 | G30: =C30 -> 400
A31: מלאי 1.1 | H31: 65
A32: ספקים | C32: 70 | E32: =C32 -> 70
A33: עודפים 1.1 | F33: X = 1453.5
A34: עמלות בנק | C34: 8 | H34: =C34 -> 8
A35: עמלות סוכני מכירות | C35: 4 | H35: =C35 -> 4
A36: פטנטים | C36: 500 | D36: =C36 -> 500
A37: קניות | C37: 200 | H37: =C37 -> 200
J40: נדרש:
J41: חלצו את כל הערכים החסרים (סימן שאלה) לפני עדכונים.
J42: הציגו את הדוחות הכספיים - הדוח על המצב הכספי (מאזן) ודוח רווח והפסד לשנת 2024.
J43: הקפידו לבצע רישומי פקודות יומן בגין עדכונים רלוונטיים מתבקשים.
A44: סה״כ | D44: =SUM(D4:D43) -> 2052.5 | E44: =SUM(E4:E43) -> 514 | F44: 100 + X | G44: =SUM(G4:G43) -> 417 | H44: =SUM(H4:H43) -> 432
D45: =D44 -> 2052.5
A46: לשם חילוץ העודפים ל-1.1 נתבסס על המשוואה הבאה:
D48: נכסים = התחייבויות + הון 1.1 + רווח (הפסד) השנה (הכנסות בניכוי הוצאות)
A50: יתרת העודפים ל-1.1.2024 שסומנה X תחולץ בהתאם מהזהות:
G51: 2,052.5 = 514 + 100 + X + (417 - 432)
F52: =2052.5-514-100-(417-432) -> 1453.5 | G52: X =
A57: התייחסות לנתונים הנוספים לשם חילוץ ערכים ״לפני עדכון״:
A59: הערך החסר הראשון הוא הכנסות מראש ל-1.1. הנתון המתייחס לערך זה הוא:
A68: אנחנו בשנת 2024.
A69: מדובר פה בהסכם שנחתם ב-1.1.2023; בסכום כולל של 300 א׳ שהתקבלו במזומן מיד.
A70: השירות עצמו יסופק ללקוח ב-3 חלקים שווים: שווי השירות שיסופק בכל שנה הוא 100 א׳ ש״ח.
A71: כדי להבין מה יתרת ההכנסות מראש ל-1.1.2024 (הערך החסר) אני בעצם מחפש את יתרת ההכנסות מראש ל-31.12.2023.
B73: סך הסכום הכספי שהתקבל בגין העסקה בשנת 2023: | F73: 300
B74: סופק 1/3 (שנה מתוך 3) עד תום 2023: | F74: 100
B75: יתרת ההכנסות מראש ל-31.12.2023 = 1.1.2024: | F75: =F73-F74 -> 200 | H75: 300 - 100 =
A77: הערך החסר השני הוא יתרת ההלח״מ ל-1.1.2024:
A78: חילוצו יתבסס על נתון מס׳ 1:
B88: יתרת הלח״מ 1.1.2024 (נדרש) = יתרת ההלח״מ 31.12.2023
B90: 45291 | C90: שיעור ההלח״מ | E90: 0.05
B91: 45291 | C91: לקוחות, ברוטו | E91: 250
B93: 45291 | C93: יתרת ההלח״מ 1.1.2024 | E93: =E90*E91 -> 12.5 | F93: 5% * 250 =
B95: הערה: כדי לחלץ את יתרת ההלח״מ ל-1.1 אני צריך את הלקוחות ל-1.1 (או לתום שנה קודמת).
B96: לשם כך השתמשתי בנתון הלקוחות שמופיע במלל כאן.
B97: נתון הלקוחות בטבלה עצמה הוא לתום השנה הנוכחית (תום 2024) ולא ניתן להשתמש בו כדי
B98: להגיע להלח״מ לתחילת 2024.
A100: הערכים החסרים הבאים:
A101: עלות המחשבים (לתום השנה, כי אין לידם ציון של 1.1) ופחת נצבר מחשבים ל-1.1.
B109: עלות המחשבים לתום השנה: | E109: 70 | F109: נתון
B111: פחת נצבר 1.1.2024 = פחת נצבר 31.12.2023.
B112: לכן - בחישוב הפחת הנצבר לא נכלול מחשבים שנרכשו ב-2024.
B114: מתוך המחשבים בסך 70 אלפי ש״ח, רק מחשבים בסך 40 אלפי ש״ח נרכשו בשנים קודמות, ולכן ישפיעו
B115: על הפחת הנצבר לתחילת השנה:
B117: שיטת פחת - סס״י - 3 שנים ===> סכום הספרות: | F117: 6 | I117: n * (n + 1) / 2 = 3 * (3 + 1) / 2 =
B118: המחשבים נרכשו ב-30.9.2023, כלומר עד 31.12.2023 הופחתו במשך 3 חודשים:
B119: הספרה הראשונה היא 3 (אורך החיים) ואני צריך 3/12 ממנה:
B121: פחנ״צ מחשבים 1.1.2024 | D121: =40*3*0.25/6 -> 5 | F121: (40 - 0) * (3 * 3/12) / 6 =
B123: העלות: 40, אין גרט (0), כופלים בספרה הראשונה (כי המחשב נרכש ב-2023 - 3) ובפרק הזמן מרכישתו 30.9 עד תום 2023 (3/12).
B124: את הכל מחלקים ב-6 סכום הספרות.
A127: הערך החסר הבא: עלות מכונות 1.1 ופחנ״צ מכונות 1.1.2024.
A128: הנתון שמטפל בכך הוא:
B133: כל המכונות הקיימות בחברה נרכשו כולן ב-1.1.2022 (מזמן).
B134: אין מכונות שנרכשו / נמכרו השנה.
B136: עלות מכונות 1.1 | E136: =250*4 -> 1000 | G136: 250 * 4 =
B137: פחת נצבר 1.1 (בגין 2022 ו-2023) | E137: =E136/10*2 -> 200 | G137: (1,000 - 0)/10 * 2 =
A139: הערך החסר הבא - מלאי ל-1.1
A145: המלאי שעלינו לשחזר ל-1.1.2024 הוא למעשה המלאי ל-31.12.2023.
B147: עלות המלאי ל-31.12.2023: | D147: 70
B148: שווי מימוש נטו ל-31.12.2023: | D148: 65
B150: המלאי נמדד לפי הנמוך: | D150: =D148 -> 65
A152: התייחסות לנתונים הנוספים לשם עדכון כל הערכים והטעויות:
A162: באופן כללי, ההשפעות על חשבון ההלח״מ כוללות: הלח״מ לתחילת שנה, בניכוי חוב אבוד, בתוספת הוצאות הלח״מ - כך מגיעים ליתרה לתום השנה.
A164: 45291 | B164: יתרת הלח״מ 1.1.2024 | D164: =E93 -> 12.5 | E164: חושבה לעיל | H164: 250 * 5% =
A165: 2024 | B165: חוב אבוד (-) | D165: 0 | E165: כאן - אין חוב אבוד
A166: 2024 | B166: הוצ׳ הלח״מ + מחולץ בסוף | D166: =D167-D165-D164 -> 22.5 | E166: PN | I166: 12.5 - 0 + PN = 35 >>>>>>>>>>> PN = 22.5 | J166: זה המספר החשוב שלי!
A167: 45657 | B167: יתרת הלח״מ 31.12.2024 | D167: =D171 -> 35 | E167: ראו חישוב למטה | J167: כי על הוצאות ההלח״מ של השנה
J168: ארשום פקודת יומן
B169: על פי הנתונים: | J169: לעדכון יתרות
B170: לקוחות ל-31.12.2024 | D170: 400 | E170: נתון בטבלה
B171: סך ההלח״מ 31.12.2024: | D171: =75%*400*10%+25%*400*5% -> 35 | G171: 75% * 400 * 10% + 25% * 400 * 5% =
...

Sheet 12 המשך בחינה
A1: מפגש 12 - חזרה לבחינה - פתרון שאלות קטנות | H1: 46036
A3: בשני המפגשים הקודמים עסקנו בפתרון שאלות מסה. שאלות אלו מהוות את חלק א של הבחינה, שמשקלו 50 נק׳.
A4: היום, נעסוק בפתרון שאלות טריות מבחינה עדכנית בהקשר לחלק ב - שאלות קצרות.
A6: שאלות הבחינה ה״קצרות״ שנפתור הן ממועד בחינה 2025א, מועד א.
A21: נדרש: רשמו פקודות יומן למתן ביטוי לעסקאות.
D22: ח | E22: ז
A23: א | B23: מזומן | D23: 100000
B24: הון מניות | E24: 100000
A26: ב | B26: מזומן | D26: 200000
B27: הלוואה | E27: =D26 -> 200000
A29: ג | B29: הכנסות לקבל | D29: 400000 | F29: הערה: אם סיפקתי שירות וטרם הנפקתי חשבונית,
B30: הכנסות משירותי נקניק | E30: 400000 | F30: ההכנסה תוכר כנגד הכנסות לקבל.
F31: אם הנפקתי חשבונית ההכנסה תוכר כנגד לקוחות.
A32: ד | B32: מכונת נקניק | D32: 30000
B33: מזומן | E33: 10000
B34: שיקים לפירעון | E34: 2000
B35: ספקים | E35: 18000
A37: ה | B37: הלוואה | D37: 200000 | F37: ההלוואה תקטן בגובה הקרן במועד הפרעון
B38: הוצאות ריבית | D38: 25000
B39: מזומן | E39: 225000 | F39: הסכום הכולל ששולם: קרן 200,000 + ריבית 25,000
A65: פיתה - רון:
A66: למרות קיומם של סעיפים רבים בשאלה זו, הואיל והיא עוסקת בהכרה בהכנסות / הוצאות / חתך, אזי יצירת גיליון
A67: העבודה שלנו יטפל בכל השלבים יחד - וזה בסדר גמור.
B69: נדרש א (פקודה-לפי המזומן) | D69: נדרש ב (לפי שווי השירות) | F69: נדרש ג | H69: נדרש ד (מזומן מצטבר מול שירות מצטבר)
A70: שנה | B70: פקודה שתירשם בהנה״ח | D70: סכום הכנסה ברוו״ה | F70: פקודת התאמה | H70: יתרת חתך
A71: 2022 | B71: ח׳ מזומן 100,000 | D71: 20000 | F71: ח׳ הכנסות 80,000 | H71: הכנסות מראש 80,000 = 20,000 - 100,000
B72: ז׳ הכנסות 100,000 | F72: ז׳ הכנסות מראש 80,000
A74: 2023 | B74: ח׳ מזומן 30,000 | D74: 150000 | F74: ז׳ הכנסות 120,000 | H74: הכנסות לקבל 40,000 = 130,000 - 170,000
B75: ז׳ הכנסות 30,000 | F75: ח׳ הכנסות מראש 80,000
F76: ח׳ הכנסות לקבל 40,000
A78: 2024 | B78: ח׳ מזומן 70,000 | D78: 30000 | F78: ח׳ הכנסות 40,000 | H78: אין (סך המזומן המצטבר = סך השירות המצטבר)
B79: ז׳ הכנסות 70,000 | F79: ז׳ הכנסות לקבל 40,000
I83: 31.12.2023 | J83: 900000
I89: יתרת הלח״מ למועד זה:
I90: 31.12.2023 | J90: =400000*7%+500000*8% -> 68000
A97: פיתה-רון:
A98: השאלה עוסקת בלקוחות והלח״מ, גם בהקשר זה יש לנו נייר עבודה רלוונטי.
A99: טיפ - למדו באופן מאסיבי את שיעור 6 להתמודדות עם הנושא.
A100: בנוסף, נרחיב מעט את השאלה - כדי שתכלול מענה לכל מה שאנחנו יכולים לשאול, ולא רק לנדרש הספציפי.
C102: לקוחות (ברוטו) | E102: הלח״מ (נכס במינוס) | G102: הוצאות הלח״מ
A103: פרטים | C103: חובה (עלייה) | D103: זכות (ירידה) | E103: חובה (ירידה) | F103: זכות (עלייה) | G103: חובה (הוצאה) | H103: זכות (הכנסה)
A104: יתרות פתיחה = 31.12.2023 | C104: 900000 | F104: =J90 -> 68000
A105: מכירות באשראי 2024 (1) | C105: 200000
A106: גבייה מלקוחות 2024 (2) | D106: 120000
A107: חוב אבוד 2024 (3) | D107: 12000 | E107: =D107 -> 12000
A108: הוצאות הלח״מ (בסוף) | F108: =F109-56000 -> 31120 | G108: =F108 -> 31120
A109: יתרות סגירה=31.12.2024 (4) | C109: =SUM(C104:C108)-SUM(D104:D108) -> 968000 | F109: =C109*9% -> 87120 | G109: =G108 -> 31120
A113: הוצאות ההלח״מ: 31,120
A114: אם היו שואלים על:
B115: יתרת הלקוחות ברוטו: | D115: 968000
B116: יתרת ההלח״מ: | D116: 87120
B117: לקוחות, נטו (במאזן): | D117: =D115-D116 -> 880880 | F117: 968,000 - 87,120 =
A135: פיתה-רון:
A136: הואיל והשאלה עוסקת ב-2020, והחברה הוקמה ב-2020, אין יתרות פתיחה.
A138: פרטים | C138: הון מניות 3 ש״ח ע״נ | D138: הון מניות 1 ש״ח ע״נ | E138: פרמיה | F138: עודפים | G138: סך ההון
A139: הנפקת מניות בהקמה | C139: =50000*3 -> 150000 | E139: =G139-C139 -> 220000 | G139: =400000-30000 -> 370000
A140: הנפקה נוספת אחרי חודש | D140: =70000*1 -> 70000 | E140: =G140-D140 -> 25000 | G140: =98000-3000 -> 95000
A141: פיצול מניות | C141: =-C139 -> -150000 | D141: =-C141 -> 150000 | G141: 0
A142: הנפקת הטבה 1.10.2020 | D142: =(70000+150000)*10% -> 22000 | E142: =-D142 -> -22000 | G142: 0
A143: רווח נקי 31.12.2020 | F143: 320000 | G143: =F143 -> 320000
A144: דיבידנד שהוכרז 31.12.2020 | F144: -38000 | G144: =F144 -> -38000
A145: יתרות לדיווח 31.12.2020 | C145: =SUM(C139:C144) -> 0 | D145: =SUM(D139:D144) -> 242000 | E145: =SUM(E139:E144) -> 223000 | F145: =SUM(F139:F144) -> 282000 | G145: =SUM(G139:G144) -> 747000
A161: פיתה-רון:
A163: תאריך הרכישה | C163: 45292
A164: עלות: | C164: 350000 | F164: 300,000 + 20,000 + 30,000 =
A165: תאריך הגעה לחברה: | C165: 45383
A166: זמינה לשימוש החל מ: | C166: 45413 | D166: זכרו: מועד הזמינות לשימוש הוא התאריך שממנו והלאה תרשמנה הוצאות פחת. יתר התאריכים לא רלוונטיים.
A167: התחלת שימוש בפועל: | C167: 45474
A168: גרט: | C168: 50000
A169: תקופת הפחתה - בשנים: | C169: 10
A170: שיטת הפחת: | C170: קו ישר
A172: פתרון הסעיפים א + ב (הצגה בשנים 2024 ו-2025, בהנחה שלא בוצעה מכירה):
A173: כאשר המטרה היא להציג: עלות, פחת נצבר, עלות מופחתת והוצאות פחת לכל שנה, אני נוהג לעבוד עם הטבלה.
C175: 45657 | D175: 46022
B176: עלות | C176: =C164 -> 350000 | D176: =C176 -> 350000
B177: פחנ״צ | C177: =-C180 -> -20000 | D177: =-C180-D180 -> -50000
B178: עלות מופחתת | C178: =C176+C177 -> 330000 | D178: =D176+D177 -> 300000 | E178: עלות בניכוי הפחת הנצבר
B180: הוצאות פחת | C180: =D184 -> 20000 | D180: =D187 -> 30000
A182: הוצאות פחת: בקו ישר - לפי עלות בניכוי שייר/גרט, חלקי תקופת הפחתה בשנים - וכפול החלק היחסי של השנה (אם לא מדובר בשנה שלמה):
A184: הוצאות פחת 2024: | D184: =300000/10*8/12 -> 20000 | G184: (350,000 - 50,000)/10 * 8/12 =
A185: המכפלה ב-8/12 מייצגת את פרק הזמן ב-2024 ממועד הזמינות לשימוש - 1.5.2024, עד מועד הדיווח 31.12.2024.
A187: הוצאות פחת 2025: | D187: 30000 | G187: (350,000 - 50,000)/10 =
A188: לשנה שלמה.
A190: פתרון סעיף ג - חישוב רווח / הפסד הון במכירה, בהנחה שבוצעה ב-31/12/2025 בתמורה ל-231,000
A191: רווח / הפסד ההון מוגדר לפי ההפרש בין תמורת המכירה לבין העלות המופחתת (עלות בניכוי פחת נצבר) ערב המכירה.
A193: העלות המופחתת למועד המכירה 31/12/2025 - חושבה בסעיף קודם: | F193: =D178 -> 300000
A195: תמורה: | C195: 231000
A196: בניכוי עלות מופחתת: | C196: =-F193 -> -300000
A197: הפרש שלילי - הפסד הון: | C197: =C195+C196 -> -69000 | D197: תשובה מלאה לסעיף.
A199: למרות שלא נדרש בשאלה זו, כהרחבה בלבד ולבקשתכם, נרשום גם פקודת יומן במועד המכירה:
A201: תבנית למכירה: | F201: יישום בנתוני השאלה:
A202: ח׳ מזומן - לפי גובה תמורת המכירה | F202: ח׳ מזומן - לפי גובה תמורת המכירה | I202: =C195 -> 231000
A203: ז׳ פריט רכוש קבוע - לפי עלותו | F203: ז׳ פריט רכוש קבוע - לפי עלותו | I203: =D176 -> 350000
A204: ח׳ פחת נצבר רכוש קבוע - ערב המכירה | F204: ח׳ פחת נצבר רכוש קבוע - ערב המכירה | I204: =-D177 -> 50000
A205: ח׳ הפסד הון / ז׳ רווח הון | F205: ח׳ הפסד הון | I205: =-C197 -> 69000
A217: פיתה-רון:
A219: תאריך רכישה: | B219: 43831
A220: עלות | B220: =150000+15000 -> 165000 | C220: העלויות כוללות גם עלות ראשונית וגם התקנה, עיתוי התשלום בפועל לא רלוונטי לעניין חישוב העלות
A221: הגעה | B221: 43862
A222: זמינה | B222: 43891 | C222: הנתון החשוב, מפה תתחיל ההפחתה
...

Sheet Sheet1
A1: מפגש 13 ואחרון - מבוא לחשבונאות פיננסית - שאלות בנושאים שונים והידוק למידה לבחינה | I1: 46043
A3: כללי - קצת על הבחינה:
A4: המבנה והכיוון של שאלת המסה דומה למבנה ולכיוון של שאלות המסה שפתרנו.
A5: חשוב לדעת לרשום את כל פקודות היומן המעדכנות.
A6: חשוב להכיר ולדעת את כל סוגי חשבונות החתך ועדכונם.
A7: רכוש קבוע כנושא יהיה מורכב יחסית (נעשה תרגולים היום). לצורך פתרונו, חשוב להכיר לא רק פתרון ״בטבלה״ | G7: זו השאלה היחידה שהיא מורכבת בחלק ב. חישוב
A8: אלא גם את המשוואות / ההגדרות המתמטיות של כל רכיב (פחת נצבר, עלות מופחתת - בכל השיטות) - ואת זה
A9: נדגים גם היום.
A11: שאלה בנושא רכוש קבוע - שימו לב - תהיה מורכבת (ראו השראה גם בשאלה ממבחן שהצגנו בשיעור קודם חלק ב) וגם שתי
A12: השאלות המורכבות שמוצגות במערך שיעור זה. הראשונה - נפתרה עם קב׳ 9:15, השניה - נפתרה עם קבוצת סונסינו 12:15.
A13: לשתי השאלות הללו פתרונות מאד מפורטים עם הקלטות.
A14: משקל שאלת הרכוש הקבוע במבחן: 16%
A15: זו השאלה היחידה שהיא מורכבת בחלק ב.
A18: שאלת רכוש קבוע מורכבת - הדגמה
A19: חברת דרורים בע״מ מחזיקה בפריטי הרכוש הקבוע הבאים ולהלן נתוניהם ב-31.12.2024:
B21: פריט | C21: תאריך רכישה | D21: עלות | E21: פחת נצבר | F21: ערך ספרים עלות מופחתת | G21: שיטת פחת | I21: גרט
B22: מכונת חימום נקניק | C22: 43831 | D22: ? | E22: ? | F22: 350000 | G22: קו ישר | I22: 10000
B23: ציוד לליקוט פופיקים | C23: 44317 | D23: 40000 | E23: ? | F23: ? | G23: סכום ספרות | I23: 0
A25: נתונים נוספים:
A26: א. מכונת חימום הנקניק הפכה לזמינה לשימוש 3 חודשים לאחר מועד רכישתה, אך הופעלה 4 חודשים לאחר מועד
A27: רכישתה. המכונה מופחתת על פני 10 שנים.
A28: ב-30.6.2025 נמכרה מכונה זו, ונרכשה מכונה אחרת שעלותה כפולה, שזמינה לשימוש החל ממועד רכישתה.
A29: המכונה החדשה מופחתת על פני 8 שנים ללא שייר / גרט.
A30: תמורת המכירה של המכונה הישנה גבוהה ב-20% מערך הספרים שלה למועד מכירתה.
A31: ב. הציוד לליקוט פופיקים הפך לזמין לשימוש 4 חודשים לאחר מועד רכישתו ומופחת על פני 9 שנים, אך החל לשמש את החברה בפועל רק בתאריך
A32: ה-1.12.2021. החברה מכרה ב-1.9.2025 40% מהציוד המקורי, ורכשה בתמורת המכירה ציוד חדש שמופחת לפי אותם
A33: הפרמטרים בדיוק. המכירה לוותה בהפסד הון בסך 4,000 ש״ח.
A35: נדרש:
A36: א. מהן הוצאות הפחת בחברה לשנת 2025?
A37: ב. מהו רווח / הפסד ההון שיירשם בגין מכירת הפריטים השונים (יש לדון בגין כל מכירה בנפרד).
... A45: נתחיל מדיון מפורט בדבר המכונה לחימום נקניק
A46: תאריך רכישה: | C46: 43831
A47: זמינות לשימוש: | C47: 43922 | D47: שלושה חודשים לאחר הרכישה כנתון - זה המידע העיקרי החשוב - הפחתה מתחילה תמיד מהזמינות לשימוש.
A48: תקופת הפחתה בשנים: | C48: 10
A49: שיטת. פחת: | C49: קו ישר
A50: עלות | C50: X
A51: גרט בש״ח: | C51: 10000
A52: עלות מופחתת 31/12/2024: | C52: 350000
A53: ב-30.6.2025 נמכרה מכונה זו, ונרכשה מכונה אחרת שעלותה כפולה, שזמינה לשימוש החל ממועד רכישתה.
A54: המכונה החדשה מופחתת על פני 8 שנים ללא שייר / גרט.
A55: תמורת המכירה של המכונה הישנה גבוהה ב-20% מערך הספרים שלה למועד מכירתה.
A57: נתחיל מחישוב הוצאות הפחת לשנת 2025.
A58: בדרך כלל, כדי לחשב את הוצאות הפחת, אני צריך לדעת מה העלות.
A59: הואיל והעלות לא ידועה, נשתמש במידע הקיים בשאלה כדי ״לחלץ״ את העלות.
A60: בשאלה יש מידע בדבר העלות המופחתת ל-31/12/2024.
G61: X - (X - 10,000)/10 * (4 + 9/12) = 350,000
E64: עלות | I64: עלות (לא ידועה,
E65: מופחתת | F65: פחת נצבר: | I65: ולכן X)
E66: ליום | F66: לפי העלות X
E67: 45657 | F67: בניכוי גרט / שייר 10,000
E68: כנתון | F68: חלקי 10: תקופת הפחתה בשנים
F69: כפול בפרק הזמן ממועד
F70: הזמינות לשימוש 1.4.2020 עד מועד הדיווח 31.12.2024
F71: כלומר: 4 שנים + 9 חודשים
C73: ממשוואה זו ניתן לחלץ את העלות של המכונות הישנות: | G73: X = 657,619
C75: העלות של המכונות החדשות שנרכשו ב-30.6.2025: | G75: =657619*2 -> 1315238 | I75: כנתון - פי 2 מעלות המכונות הישנות
A77: בעצם, הוצאות הפחת כוללות שני חלקים:
A78: פחת על המכונות הישנות מ-1.1.2025 עד 30.6.2025: | E78: =(657619-10000)/10*0.5 -> 32380.95 | I78: (657,619 - 10,000)/10 * (6/12) =
A79: פחת על המכונות החדשות מ-30.6.2025 עד 31.12.2025: | E79: =1315238/8*0.5 -> 82202.375 | I79: (1,315,238 - 0)/8 * (6/12) =
A80: סך הוצאות הפחת על כל סוגי המכונות לשנת 2025 | E80: =E78+E79 -> 114583.32 | I80: 32,381 + 82,202 =
A82: נתחיל מחישוב רווח / הפסד הון במועד המכירה
A83: המכירה בוצעה ב-30.6.2025.
A84: כדי לחשב רווח / הפסד הון במכירה, עלינו להתייחס לערך הספרים (עלות מופחתת) במועד המכירה, וכן לנתונים הנוספים בדבר התמורה.
D86: עלות מופחתת במועד המכירה:
D87: עלות | F87: 657619
D88: פחת נצבר - פריטים שנמכרו | F88: =-(F87-10000)/10*(5.25) -> -339999.98 | J88: (657,619 - 10,000)/10 * (5 + 3/12) =
D89: עלות מופחתת ערב המכירה | F89: =F87+F88 -> 317619.02 | I89: מדוע 5 שנים ו-3 חודשים?
I90: מ-1.4.2020 עד 30.6.2025
D92: תמורה | F92: =F94-F93 -> 381142.83 | I92: 317,619 * (1 + 20%) =
D93: עלות מופחתת ערב המכירה | F93: =-F89 -> -317619.02
D94: רווח הון במכירת מכונת נקניק | F94: =-20%*F93 -> 63523.805 | G94: כנתון: 20% מהעלות המופחתת
A96: נעבור לבסוף להצגת עלות, פחת נצבר ועלות מופחתת על המכונות שלא נמכרו (החדשות)
A97: ליום 31/12/2025:
D98: עלות (מכונות חדשות) | F98: =G75 -> 1315238 | G98: בלבד, כי הישנות נמכרו
D99: פחת נצבר - חדשות בלבד | F99: =-E79 -> -82202.375 | G99: הואיל והמכונות הללו נרכשו השנה, הפחת הנצבר עליהן זהה להוצאות הפחת
D100: עלות מופחת | F100: =F98+F99 -> 1233035.6
A102: נמשיך בדיון מפורט בדבר הציוד
A117: עלות | C117: 40000
A118: זמינות לשימוש | C118: 44440
A119: תקופת הפחתה | C119: 9 | D119: שנים
A120: שיטת פחת | C120: סכום ספרות
A121: גרט | C121: 0
A123: הוצאות פחת - ציוד לליקוט - 2025
A124: סס״י = נחשב את סכום הספרות תחילה: | E124: =9*10/2 -> 45 | F124: 9 * 10 / 2 =
A125: הוצאות הפחת לשנת 2025 בגין פריטים אלו, עד מכירתם - עד 1.9.2025:
A127: הוצאות פחת ל-2025, פריטים שנמכרו ב-1.9: | E127: =40000*40%*(6*8/12)/45 -> 1422.2222 | J127: (40,000 * 40% - 0) * (6 * 8/12) / 45=
A128: הוצאות פחת ל-2025, פריטים ישנים שלא נמכרו (כל השנה): | E128: =40000*60%*(6*8/12+5*4/12)/45 -> 3022.2222 | J128: (40,000 * 60% - 0) * (6 * 8/12 + 5 * 4/12) / 45=
A129: הוצאות פחת - פריטים חדשים שנרכשו ב-1.9.25: | E129: =1333*(9*4/12)/45 -> 88.866667 | F129: הסבר למטה
A130: סך הוצאות הפחת ל-2025 בגין הציוד: | E130: =SUM(E127:E129) -> 4533.3111 | G130: מ-1.9.25 | I130: מ-1.1.25 | J130: מדובר ב-60%
G131: עד 31.12.25 | I131: עד 1.9.25 | J131: משום שזה החלק שלא נמכר
G132: הספרה | I132: הספרה | J132: ולכן מופחת על כל השנה
G133: הבאה 5 | I133: להפחתה | J133: בשונה מהחלק של 40%
G134: ומדובר ב-4 | I134: היא 6 | J134: שמופחת רק 8 חודשים
G135: חודשים | I135: ומדובר ב-8 | J135: עד מכירתו
I136: חודשים
A138: זמינות: 1.9.2021, עד 1.9.22: ספרה 9, עד 1.9.23: ספרה 8, עד 1.9.24: ספרה 7, עד 1.9.25: ספרה 6, עד 1.9.26: ספרה 5
A140: כדי להתייחס לפריטים החדשים, עליי לדעת כמה הם עלו.
A141: כנתון, 40% מהפריטים הישנים נמכרו ב-1.9.2025, כאשר נוצר הפסד הון במכירה של 4,000 ש״ח.
C143: ננתח: | E143: 45901
C144: עלות הפריטים שנמכרו | E144: =40000*40% -> 16000 | G144: 40,000 * 40% =
...

Sheet שרה
A1: פתרון שאלת מסה - חברת ״שרה״ | G1: 44949
A3: חשבון | B3: ערך כספי | C3: נכסים | D3: התחייבויות | E3: הון | F3: הכנסות | G3: הוצאות
A4: מזומן בקופה | B4: 500 | C4: 564.125
A5: הוצאות תקשורת | B5: 40 | G5: 25
A6: לקוחות | B6: 600 | C6: =B6 -> 600
A7: עו״ש בנק | B7: 150 | C7: =B7 -> 150
A8: מכירות | B8: 950 | F8: =B8 -> 950
A9: פקדון בנקאי לשנה | B9: 100 | C9: =B9 -> 100
A10: ספקים | B10: 70 | D10: =B10 -> 70
A11: הוצאות תקשורת לשלם ליום 1.1.2021 | B11: 15 | D11: 0
A12: הלוואות לזמן קצר | B12: 180 | D12: =B12 -> 180
A13: הון מניות | B13: 100 | E13: =B13 -> 100
A14: קניות | B14: 300 | G14: =B14 -> 300
A15: מלאי פתיחה - 1.1.2021 | B15: 60 | G15: =B15 -> 60
A16: עודפים 1.1.2021 | B16: ? | E16: 1146.5
A17: מחשבים - עלות | B17: 400 | C17: 300
A18: מחשבים - פחת נצבר 31.12.2021 | B18: ? | C18: -56.25
A19: הנחות מזומן מספקים | B19: 15 | F19: =B19 -> 15
A20: טלפונים סלולריים | B20: 80 | C20: =B20 -> 80
A21: פקדון בנקאי ל-5 שנים | B21: 95 | C21: =B21 -> 95
A22: הלוואות לזמן ארוך | B22: 100 | D22: =B22 -> 100
A23: הוצאות ריבית | B23: 75 | G23: =B23+8 -> 83
A24: הכנסות ריבית | B24: 20 | F24: =B24 -> 20
A25: עמלה לסוכני מכירות | B25: 45 | G25: =B25 -> 45
A26: הוצאות שכר - הנהלה | B26: 62 | G26: =B26 -> 62
A27: הוצאות שכר - משווקים | B27: 93 | G27: =B27 -> 93
A28: הוצאות חשמל | B28: 14 | G28: =B28 -> 14
A29: הוצאות תפעוליות כלליות | B29: 20 | G29: =B29 -> 20
A30: מלאי סגירה - מאזן | B30: ? | C30: =D80 -> 120
A31: מלאי סגירה - רווח והפסד | B31: ? | G31: =-C30 -> -120
A32: סה״כ | C32: =SUM(C4:C31) -> 1952.875 | D32: =SUM(D4:D31) -> 350 | E32: =SUM(E4:E31) -> 1246.5 | F32: =SUM(F4:F31) -> 985 | G32: =SUM(G4:G31) -> 582
C33: נכסים | D33: התחייבויות | E33: הון | F33: הכנסות | G33: הוצאות
A34: חדש!!! הוצאות פחת!!! | G34: =40.625-C36 -> 50.833333
A35: חדש!! הפסד הון!!! | G35: 14
A36: חדש!!! פחת נצבר טלפונים סלולריים | C36: =-B189 -> -10.208333
A37: חדש!!! הוצאות ריבית לשלם | D37: 8
A40: בשלב לפני העדכונים הסיכומים היו שונים מהמופיע לעיל, ועל בסיסם חילצנו יתרת פתיחה עודפים:
C41: נכסים + הוצאות = התחייבויות + הון + הכנסות
C42: 2007.5 + 589 = 365 + 100 + X + 985
C43: י״פ עודפים 1.1 | D43: 1146.5 | E43: X =
A46: לאחר שסידרתי את הערכים בטבלה, אפעל לחילוץ סימני השאלה.
A47: את סימני השאלה אחלץ בהתאם לתאריך הרשום לצידם: אם למשל הפחת הנצבר הוא ל-1.1.2021 בנתוני השאלה, אחלץ ספציפית
A48: אותו (לתחילת השנה) לפי הנתונים הנוספים.
A50: חילוץ 1: פחת נצבר מחשבים 1.1.2021
A51: היתרה החסרה הראשונה (למעט העודפים, שאותם נחלץ רק בסוף התהליך, תמיד) היא יתרת הפחת הנצבר בגין המחשבים לתחילת
A52: השנה, ל-1.1.2021.
A53: תזכורת: פחת נצבר ל-1.1.2021 משקף למעשה את כל הוצאות הפחת (במצטבר) שכבר נרשמו בשנים קודמות.
A54: כרגיל, בשלב החילוצים, אנחנו לא רושמים פקודות יומן, אלא רק מחשבים (מתמטית) את מה שכבר נרשם בעבר - את הפחת
A55: הנצבר בגין המחשבים עד וכולל 1.1.2021.
A57: לפי נתון 2:
A58: כ-75% מהמחשבים בחברה נרכשו ב - 1.1.2020.
A59: כל היתר נרכשו ב-1.6.2021.
... A62: אלא שרק 75% מתוכם נרכשו לפני 1.1.2021, כלומר נחשב פחת נצבר בשלב ראשון רק על מחשבים שעלותם:
D63: 300 | F63: 75% * 400 =
A65: פחת נצבר 1.1.2021: | D65: =300/8 -> 37.5 | F65: [(300 - 0)/8] * 1 =
A67: הסבר נוסף: לקחנו את העלות, ניכינו את השייר / הגרט, וחילקנו בתקופת ההפחתה.
A68: הואיל והפריט נרכש ב-1.1.2020 (וכברירת מחדל - הפך לזמין מיד באותו הזמן) עד 1.1.2021 נצבר פחת בגין שנה אחת בלבד.
A70: חילוץ 2: מלאי הסגירה
A71: מלאי הסגירה הוא המלאי ל-31.12.2021.
A72: הוא נמדד לפי הנמוך מבין שני ערכים: | B72: א. עלות - וכאן נתון שיש 20,000 יח׳ מלאי בעלות 8 ש״ח ליחידה.
B73: ב. שווי מימוש נטו - מחיר מכירה צפוי (תכל׳ס) בניכוי עלויות השלמה ומכירה:
C74: מחיר מכירה | D74: 6
C75: השלמה ומכירה | D75: 0
C76: שווי מימוש נטו | D76: =D74-D75 -> 6 | E76: ש״ח ליחידה.
B78: הואיל ושווי המימוש נטו נמוך יותר, ייקבע ערכו של מלאי הסגירה לפי שווי
B79: מימוש נטו: | E79: 6 * 20,000 = 120,000
B80: באלפי ש״ח: | D80: 120
A82: כעת נעבור לעדכונים הרלוונטיים, שדורשים מאיתנו לוודא, שכל הנתונים הנוספים, ללא יוצא מן הכלל, מקבלים ביטוי מושלם לעדכון
A83: הערכים לתום 2021, כבסיס לעריכת הדיווח הכספי לתום 2021.
B92: בטבלה נתון: | E92: התחייבות | F92: הוצאות
B93: הוצאות תקשורת | F93: 40
B94: הוצאות תקשורת לשלם 1.1.2021 | E94: 15
B96: הואיל וחלק מהתשלום בסך 40 הוא לא בעד השנה, אלא סילוק התחייבות של שנה קודמת,
B97: עלינו לעדכן:
C98: מנה״ח | D98: הוצאה | E98: פקודת חתך | G98: יתרת חתך
B99: 2020 | C99: 0 | D99: 15 | E99: ח׳ הוצאות 15 | G99: הוצאות לשלם 15
E100: ז׳ הוצאות לשלם 15
B101: 2021 | C101: ח׳ הוצאות 40 | D101: 25 | E101: ח׳ הוצאות תקשורת לשלם 15 | G101: 0
C102: ז׳ מזומן 40 | E102: ז׳ הוצאות תקשורת 15
E103: פקודת עדכון
B105: הסבר מקוצר:
B106: אם נתון שחלק מההוצאות שנרשמו הן למעשה סילוק התחייבות משנה קודמת -
B107: יש להקטין את ההוצאה ולאפס את ההתחייבות באותו הסכום (15).
B109: בצבלה המעודכנץ:
B110: הוצאות תקשורת לשלם: | D110: 0 | F110: 15 - 15 =
B111: הוצאות תקשורת: | D111: 25 | F111: 40 - 15 =
A122: מחשבים - עלות | B122: 400
A123: מתוכם - עלות הנרכש ב-1.1.2020 | B123: 300 | D123: 75% * 400 =
A124: עלות הנרכש ב-30.6.2021 | B124: =B122-B123 -> 100 | D124: 25% * 400 =
A125: פחת - קו ישר, בשנים: | B125: 8
A126: אין ערך שייר / גרט.
A128: נפצל את חישוב הוצאות הפחת לחלקים:
A129: מחשבים שהיו כל השנה ולא נמכרו: | B129: 200 | D129: 300 - 100 =
A130: מחשבים שהיו מתחילת השנה ונמכרו ב-30.9: | B130: 100
A131: מחשבים חדשים שנרכשו ב-30.6.2021: | B131: 100
A133: סך הוצאות הפחת - מחשבים שהיו כל השנה ולא נמכרו: | C133: =B129/8 -> 25 | E133: 200 / 8 =
A134: סך הוצאות הפחת - מחשבים שהיו 1.1-30.9 (שנמכרו): | C134: =100/8*0.75 -> 9.375 | E134: (100 / 8) * (9/12) =
A135: סך הוצאות הפחת מחשבים חדשים 30.6.2021-31.12.2021: | C135: =100/8*0.5 -> 6.25 | E135: (100 / 8) * (6/12) =
A136: סה״כ הוצאות פחת (חדש!!!) ב-2021 | C136: =SUM(C133:C135) -> 40.625
A138: ח׳ הוצאות פחת | B138: =C136 -> 40.625
...

Sheet מבנה הבחינה
A1: הבחינה מורכבת מ-2 חלקים של שעתיים כל אחד.
A2: בין החלקים הפסקה של 45 דקות.
A4: חלק א | B4: שאלת מסה | C4: 50 נק׳
A5: רשימה של נתונים כספיים בטבלה, ולאחריה - רשימת אירועים נוספים.
A6: עליכם לדעת כיצד לשחזר את הנתונים ההתחלתיים לפני תיקון.
A7: כיצד לבטא פקודות יומן לתיקון הערכים.
A8: כיצד לתקן את הערכים ובעיקר - להפיק דוחות כספיים מלאים עדכניים בתום התהליך.
A9: אחד האתגרים המשמעותיים בשאלה הזו - לחץ / עומס מידע.
A10: מאד חשוב - להתחיל בצורה מסודרת במיון ופתרון החלקים ״הפשוטים״.
A11: הבדיקה של שאלת המסה מצד אחד מאד מדויקת - ועל כל שלב בתהליך יש ניקוד,
A12: מצד שני - כן מתחשבים בטעויות נגררות - ניתן להניח הנחת פתרון באופן מפורש, ולהמשיך איתה.
A13: לא להגיע למצב שסעיף קשה / מורכב מקלקל לנו יותר ממשקלו.
A14: תכנון זמן - קריטי.
A16: חלק ב | B16: שאלות קטנות
A17: שאלה 1 | B17: פקודות יומן | C17: 10 נק׳ | D17: פקודות רגילות
A18: שאלה 2 | B18: חתך | C18: 10 נק׳ | D18: ברמה של טבלה / אירועים
A19: שאלה 3 | B19: לקוחות | C19: 15 נק׳ | D19: ברמת כל התנועות שנלמדו - כולל אבודים, חילוץ הוצאות..
A20: שאלה 4 | B20: רכוש קבוע | C20: 15 נק׳ | D20: כל שיטות הפחת, כולל רווח הון, כולל שילוב פריטים
A22: המלצה ללמידה:
A23: אין מה להתחיל עם ״השאלות הקטנות״ עד שאני סגור פרפקט על שאלת המסה (זו דעתי האישית -
A24: שייקה). כלומר, אני רוצה להיות סגור פרפקט על כל השלבים: להבין מה זה המיון ואיך מתנהגים איתו,
A25: להבין מה ההבדל בין ״שיחזור יתרות״ (שעליו לא רושמים פקודות יומן) לבין ״עדכון יתרות״
A26: שבגינו רושמים פקודות יומן ומעדכנים את הטבלה.
A27: מצאו את הדרך הנוחה לכם: האם לעבוד על טבלה אחת עם מחיקות לטובת עדכון, או שתי טבלאות?
A28: קחו סטופר ובדקו כמה זמן לוקח לכם לפתור שאלה.
A29: טכניקות הפתרון וההצגה - מי שעובד עם טכניקת המחברת ותבניות העבודה שהוגדרו - סגור.
A30: במהלך הלמידה - שימו לב טוב לתאריכים, ותמיד תשאלו את עצמכם - ״מה היה קורה אם״.
A31: אני פותר שאלה שבה הפריט נרכש ב-1.1.2021, תשאלו את עצמכם: ״מה הייתי עושה אם הפריט
A32: נרכש ב-1.9״.

Sheet מסה נוספת לחזרה
A1: שאלת מסה נוספת עם פתרון מלא
A3: מטרות:
A4: א. תרגול אינטנסיבי מלא של שאלת מסה מ-א׳ עד ת׳ (בעיקר הצד החישובי, אם לא נספיק את הצד של העריכה כי לא נרצה לרוץ עמכם,
A5: נציג לכם דוחות כספיים מלאים לאחר מכן).
A7: ב. פרידה מרגשת עד העונג הבא.
A9: לגבי המבחן:
A10: כולנו ממתינים בכליון עיניים להנחיות הסופיות שתקבענה לגבי אופן ההבחנות. ככלל, המבנה העקרוני איננו שונה - שאלת מסה גדולה
A11: ושאלות קטנות בכל נושאי הקורס (בחלקים א ו-ב של הבחינה בהתאמה) ללא תלות באופן ביצוע הבחינה. אלא שאופן ביצוע הבחינה
A12: בפועל ישפיע על הכלי בו נבחנים (האם אפשר / אי אפשר קובץ אקסל, למשל) וכיו״ב. לכן, למרות הלחץ, נצטרך להמתין עד להחלטה
A13: סופית שמיד אחריה נפרסם הודעה מסודרת בנושא.
A15: להלן נתונים בדבר היתרות הכספיות בספרי חברת ״מבודדים כל היום״ העוסקת בייצור ובשיווק של משחקים לתקופות
A16: בידוד העוברות על כולנו בשנים האחרונות. כל היתרות מעודכנות ליום 31.12.2021 אלא אם נאמר מפורשות אחרת.
A17: הערכים באלפי ש״ח.
A19: חשבון | B19: ערך כספי | C19: נכסים | D19: התחייבויות | E19: הון עצמי | F19: הכנסות | G19: הוצאות
A20: מזומן בקופה | B20: 200 | C20: =B20 -> 200
A21: הוצאות ארנונה | B21: 72 | G21: =B21 -> 72
A22: לקוחות | B22: 400 | C22: =B22 -> 400
A23: עו״ש בנק | B23: 150 | C23: =B23 -> 150
A24: מכירות | B24: 500 | F24: =B24 -> 500
A25: השקעות לזמן קצר | B25: 100 | C25: =B25 -> 100
A26: ספקים | B26: 50 | D26: =B26 -> 50
A27: הוצאות ארנונה לשלם 1.1.2021 | B27: ? | D27: =5*2 -> 10
A28: הלוואות לזמן קצר | B28: 70 | D28: =B28 -> 70
A29: הון מניות | B29: 80 | E29: =B29 -> 80
A30: קניות | B30: 150 | G30: =B30 -> 150
A31: מלאי פתיחה - 1.1.2021 | B31: 90 | G31: =B31 -> 90
A32: עודפים 1.1.2021 | B32: ? | E32: =C51-D51-(F51-G51)-E29 -> 2048.3333
A33: מחשבים - עלות | B33: 400 | C33: =B33 -> 400
A34: מחשבים - פחת נצבר 1.1.2021 | B34: ? | C34: =-F111 -> -26.666667
A35: החזרות לספקים | B35: 20 | G35: =-B35 -> -20
A36: הנחות מזומן מספקים | B36: 12 | F36: =B36 -> 12
A37: טלפונים סלולריים | B37: 700 | C37: =B37 -> 700
A38: השקעות לזמן ארוך | B38: 40 | C38: =B38 -> 40
A39: זכיונות | B39: 200 | C39: =B39 -> 200
A40: הוצאות ריבית | B40: 80 | G40: =B40 -> 80
A41: הכנסות ריבית | B41: 30 | F41: =B41 -> 30
A42: הוצאות שיווק | B42: 22 | G42: =B42 -> 22
A43: הוצאות שכר - הנהלה | B43: 40 | G43: =B43 -> 40
A44: הוצאות שכר - משווקים | B44: 50 | G44: =B44 -> 50
A45: הוצאות חשמל | B45: 70 | G45: =B45 -> 70
A46: הוצאות הנהלת חשבונות | B46: 14 | G46: =B46 -> 14
A47: החזרות מלקוחות | B47: 30 | F47: =-B47 -> -30
A48: הנחות מסחריות ללקוחות | B48: 39 | F48: =-B48 -> -39
A49: מלאי סגירה - מאזן | B49: ? | C49: 40
A50: מלאי סגירה - רווח והפסד | B50: ? | G50: -40
A51: סה״כ | C51: =SUM(C20:C50) -> 2203.3333 | D51: =SUM(D20:D50) -> 130 | E51: =SUM(E20:E50) -> 2128.3333 | F51: =SUM(F20:F50) -> 473 | G51: =SUM(G20:G50) -> 528
A53: נתונים נוספים:
A54: א. נכון ליום 31.12.2020, לא שולמו הוצאות ארנונה עבור החודשים נובמבר ודצמבר 2020. ערכן החודשי לחודשים אלו 5,000 ש״ח.
A55: סכום זה שולם במלואו בהעברה בנקאית מהעו״ש במהלך 2021 ומנהל החשבונות זקף אותו כהוצאות ארנונה של 2021.
A56: לא התקיימה יתרת התחייבות בגין ארנונה ליום 31.12.2021.
A58: ב. המחשבים שבבעלות החברה נרכשו ב- 30.6.2020, הגיעו לחברה ב-1.8.2020 והפכו לזמינים לשימוש ב-1.9.2020.
A59: הם כוללים 100 מחשבים מדגם Macbook Air M1, שכולם בעלות זהה. אורך החיים השימושיים של המחשבים 5 שנים
A60: והם מופחתים בשיטת הקו הישר, ללא ערך שייר / גרט.
A62: ג. הטלפונים הסלולריים שבבעלות החברה כוללים 100 מכשירי iPhone 13 Pro Max 1 TB שנרכשו בתאריך 1.9.2021.
A63: הטלפונים הפכו לזמינים לשימוש באותו היום, והם מופחתים בשיטת הקו הישר, ללא ערך שייר, על פני 3 שנים. ב-31.12.2021
A64: נמכר אחד מהטלפונים ללקוח שהיה להוט להשיג את האייפון החדש, ונוצר בעסקת המכירה רווח הון בסך 1,000 ש״ח.
A66: ד. במהלך שנת 2021 העניקה החברה באופן חד פעמי שירות ללקוח שחורג מתחום עיסוקה הרגיל. החברה נוהגת לזקוף
A67: הכנסות משירותים מיוחדים לסעיף ״הכנסות אחרות״ בדוח רווח והפסד. עד לתום שנת 2021 לא ניתן ביטוי לאירוע זה,
... A86: יחד עם זאת, חשבונות חתך - ״הוצאות מראש״ ו״הוצאות לשלם״ אינם הוצאות, אלא נכסים או התחייבויות:
B87: הוצאות מראש | C87: נכס
B88: הוצאות לשלם | C88: התחייבות
A90: זכיון: ״רישיון שימוש״ במותג / במשאבים / במערך התפעולי של רשת מסויימת. למשל, זיכיון לפתיחת סניף מקדונלדס באור יהודה.
A91: זכיונות, בדומה לפטנטים, שמות מסחריים וכיוצא בזה - יסווגו בדוחות הכספיים לנכסים בלתי מוחשיים בקבוצת הנכסים
A92: הלא שוטפים.
A94: הסברים נוספים - שיחזור ערכים ל-1.1.2021
A96: הוצאות ארנונה לשלם - 1.1.2021: | C96: תמיד ולעולם, התחייבות ליום 1.1 של שנה מסוימת, זהה לאותה התחייבות ל-31.12
C97: של השנה הקודמת.
C98: לכן למעשה, הוצ׳ ארנונה לשלם ל-1.1.2021 = 31.12.2020.
C99: בנתוני השאלה (נתון א) נאמר שבשנת 2020 לא שולמו הוצאות ארנונה בסך 5,000 ש״ח
C100: לחודש, וזאת במשך 2 חודשי השנה (2020) האחרונים, ולכן הוצ׳ הארנונה לשלם
C101: לתום 2020 (באלפי ש״ח): | E101: 10 | F101: 5 * 2 =
A103: פחת נצבר מחשבים - 1.1.2021: | C103: בהתאם לנתוני השאלה - (בטבלת הנתונים): עלות המחשבים באלפים: | H103: 400
C104: אורך החיים בשנים של המחשבים: | H104: 5
C105: שיטת הפחת: | H105: קו ישר
C106: ערך שייר - גרט: | H106: 0
C107: מועד תחילת ההפחתה - זמינות לשימוש: | H107: 1.9.2020
C109: פחת נצבר ממועד הזמינות לשימוש - 1.9.2020 עד ל-31.12.020 (= 1.1.2021):
F111: =400/5*4/12 -> 26.666667 | H111: [(400 - 0)/5]*(4/12) =
C113: הסבר מלא: נטלנו את העלות 400, בניכוי השייר / גרט (0), את כל זה חילקנו בתקופת
C114: ההפחתה שהיא 5 שנים, וכך קיבלנו הוצאות פחת לשנה שלמה. אבל, הואיל וההפחתה
C115: איננה לשנה שלמה, אלא ל-4 חודשים בלבד (חודשים 9, 10, 11, 12 של שנת 2020)
C116: הרי שעלינו לכפול בחלק היחסי של השנה את ההוצאה השנתית 4/12.
A118: מלאי ליום 31.12.2021: | C118: לצורך אומדן ערכי מלאי הסגירה ליום 31.12.2021, עלינו להתבסס על נתוני העלות
C119: מצד אחד, ושווי המימוש נטו כהגדרתו מן העבר השני. זכרו: מלאי הסגירה תמיד
C120: נמדד לפי הנמוך מבין שני ערכים: עלות או שווי מימוש נטו.
C122: עלות יח׳: | D122: 40 | F122: שווי מימוש נטו ליח׳:
F123: מחיר מכירה צפוי | H123: 55
F124: בניכוי עלויות השלמה | H124: =-1-3 -> -4
F125: בניכוי עלויות מכירה | H125: =-6 -> -6
F126: שווי מימוש נטו ליח׳: | H126: =H123+H124+H125 -> 45
C128: זכרו: שווי המימוש נטו מוגדר בתור התמורה נטו הצפויה ממכירת פריט מלאי שנותר
C129: בחברה לתום תקופת הדיווח.
C130: יש לנכות ממחיר המכירה הצפוי ברוטו, לפיכך, את עלויות ההשלמה - שהן אותן עלויות
C131: פיזיות שנוצרות כדי להכין את הפריט למכירה (ניקוי, אריזה, בדיקת תקינות, תיקונים
C132: וכיוצא בזה) וכן עלויות שתיווצרנה כדי למכור את הפריט (עמלות הפצה, עמלות סוכנים,
C133: משלוח ללקוח).
C134: במקרה שלנו - עלויות ההשלמה כללו ניקיון ואריזה, ועלויות המכירה כללו משלוח ללקוח.
C136: הואיל והנמוך מבין עלות לשווי מימוש נטו במקרה זה - זוהי העלות, נתבסס עליה
C137: להצגת ערך המלאי בדוחות הכספיים לתום השנה.
C139: ערך חשבונאי ליח׳ מלאי: | E139: =D122 -> 40
...

Sheet תרגילים נוספים קצרים לחזרה
A1: הרצאה 13 - שאלות קצרות במגוון נושאים (זום בלבד + הקלטה) | H1: 44954
A3: מטרה: תרגול מוקלט ומפורט בכתב של שאלות ממגוון נושאים שונים.
A5: שאלה 1 | G5: בחומר כמובן
A6: חברת ״האחיינית״ בע״מ (להלן: ״החברה״) עוסקת במתן שירות בתחומים שונים. להלן נתונים הקשורים לעסקת
A7: התקשרות עם לקוח של החברה בדבר פרויקט לאספקת שירות מתמשך שייפרס על פני מספר שנים, כדלקמן:
A8: ההסכם נחתם ב-1.6.2020. עד ליום 31.12.2020 כולל לא סופק שירות כלל ולא שולם סכום כלשהו במזומן עבור
A9: השירותים לחברה. בשנת 2021, סופקו שירותים בהיקף של 200,000 ש״ח כאשר המזומן שהתקבל הסתכם לסכום
A10: כולל של 270,000 ש״ח במהלך שנה זו. בשנת 2022, סופקו שירותים בהיקף של 300,000 ש״ח כאשר המזומן שהתקבל
A11: הסתכם לסכום של 140,000 ש״ח במהלך שנה זו. בשנת 2023, סופקו שירותים בהיקף של 100,000 ש״ח והתקבל
A12: מזומן בסכום של 180,000 ש״ח, ובשנת 2024 סופקו שירותים בהיקף 120,000 ש״ח והתקבל כל הסכום במזומן
A13: הנותר שמגיע לחברה.
A15: בנתונים אלו, ועבור כל אחת מהשנים הנדונות בשאלה, נדרש:
A16: א. הציגו את פקודות היומן שתרשמנה בהנהלת החשבונות של החברה על בסיס מזומן.
A17: ב. הציגו את ההכנסה שתירשם בדוח רווח והפסד של החברה לפי בסיס צבירה.
A18: ג. הציגו את פקודת ההתאמה / ״פקודת החתך״ שתירשם בכל שנה.
A19: ד. הציגו את יתרת החתך לתום כל אחת מהשנים, כולל שם היתרה, סכום וסיווג (נכס / התחייבות).
A21: שאלה 2 | G21: בחומר כמובן
A22: חברת ״חשבונאים וממשיכים״ בע״מ עוסקת במגוון רחב של פעילויות עסקיות, ומבצעת פעילויות רבות תוך מתן
A23: אשראי נדיב ללקוחותיה. להלן נתונים בדבר עסקאות ואירועים שהתרחשו בחברה בשנים 2021 ו-2022:
A24: בשנת 2021, החברה סיפקה שירותים באשראי בהיקף של 600,000 ש״ח, ביצעה גבייה מלקוחות בהיקף 450,000 ש״ח,
A25: ונכון לתום שנת 2021, שיעור ההלח״מ מוערך לפי 4% מיתרת הלקוחות המעודכנת. ידוע כי יתרת הלקוחות ברוטו
A26: ליום 1 בינואר 2021 היא 80,000 ש״ח ושיעור ההלח״מ ל-1 בינואר 2021 הוא 3%.
A28: בשנת 2022, החברה סיפקה שירותים בהיקף כולל של 800,000 ש״ח, כאשר מתוך סכום זה, מכירות בהיקף של
A29: כ-150,000 ש״ח בוצעו במזומן והיתר מכירות באשראי. כמו כן, ביצעה החברה גבייה מלקוחות בסכום של 230,000 ש״ח
A30: וכן גילתה ורשמה חוב אבוד בסך 3,000 ש״ח. נכון ליום 31.12.2022, מעריכה החברה את שיעור ההלח״מ לפי
A31: כ-5% מיתרת הלקוחות המעודכנת.
A33: בנתונים אלו, השיבו לנדרשים הבאים:
A34: א. מהי יתרת הלקוחות נטו לתום כל אחת מהשנים 2021 ו-2022?
A35: ב. מהן הוצאות ההלח״מ שתכללנה בדוח רווח והפסד של החברה לכל אחת מהשנים 2021 ו-2022?
A37: שאלה 3 | G37: לא בחומר ב-2024א
A38: להלן נתונים בדבר תנועות במלאי בחברת ״אביבים ותותחים״ בע״מ בשנה מסוימת. נתוני העלויות והמחירים
A39: הם בש״ח:
C40: מלאי פתיחה וקניות | E40: מכירות שבוצעו התקופה
A41: תאריך | B41: תיאור | C41: יח׳ | D41: עלות יח׳ | E41: יח׳ | F41: מחיר יח׳
A42: 44562 | B42: מלאי פתיחה | C42: 300 | D42: 40
A43: 44580 | B43: קניה | C43: 200 | D43: 50
A44: 44598 | B44: מכירה | E44: 350 | F44: 80
A45: 44649 | B45: מכירה | E45: 20 | F45: 90
A46: 44652 | B46: קניה | C46: 400 | D46: 60
A47: 44749 | B47: קניה | C47: 100 | D47: 70
A48: 44788 | B48: מכירה | E48: 300 | F48: 85
A50: נדרש:
A51: א. מהי עלות מלאי הסגירה ליום 31.12.2022 בהנחה שהחברה מנהלת את המלאי בשיטת FIFO?
A52: ב. מהי עלות מלאי הסגירה בהנחה שהמלאי מנוהל בשיטת הממוצע המשוקלל התמידי (ממוצע נע)?
A53: ג. בהנחה שמחיר המכירה הצפוי לכל יחידת מלאי שנותרה ליום 31.12.2022 הוא 100 ש״ח, וכי עלויות ההשלמה
A54: והמכירה הן 17 ש״ח, הציגו את התחשיב המלא כולל כל צעדי המשנה כדי לחשב את הרווח הגולמי בהנחה
A55: שהמלאי מנוהל בשיטת הממוצע המשוקלל התמידי.
A57: שאלה 4 | G57: בחומר כמובן
A58: חברת ה״מומחים בטכנולוגיה״ רכשה בתאריך 1.1.2020 מכונה לחימום נקניק לעובדי המשרד. עלות המכונה
A59: היא 100,000 ש״ח, החברה שילמה על ההובלה שלה 20,000 ש״ח, על ההרכבה שלה 10,000 ש״ח, על בדיקת
A60: התקינות המתחייבת על פי החוק 15,000 ש״ח ועל חשמל היא משלמת כל שנה בגין ההפעלה 7,000 ש״ח.
A61: אורך החיים של המכונה הוא 10 שנים. המכונה הפכה לזמינה לשימוש ב-1.4.2020, וערך השייר שלה מהווה
A62: שיעור של 10% מעלותה הכוללת בהתאם לעקרונות החשבונאיים שנלמדו. שיטת ההפחתה של המכונה היא
A63: סכום ספרות השנים היורד (סס״י) ובתאריך 30.9.2023 היא נמכרה במפתיע בתמורה שהובילה להיווצרות
A64: רווח הון בסך 9,000 ש״ח.
A65: נדרש:
A66: א. חשבו והציגו את כל היתרות המאזניות והתוצאתיות בגין הפריט עבור כל אחת מהשנים שבהן הוא הוחזק,
A67: לרבות: עלות, פחת, נצבר, ערך ספרים / עלות מופחתת, הוצאות פחת, רווח / הפסד הון.
A68: ב. מהי תמורת המכירה של הפריט?

Sheet תרגול קצר אחרון
A1: פתרון שאלות חזרה - מפגשון אחרון - 27.1.2025
A3: חלק ב של המבחן - בנוי כך - סופי:
A4: 1 | B4: פקודות יומן | C4: 10
A5: 2 | B5: חתך | C5: 8 | D5: הצגנו הדגמה היום
A6: 3 | B6: לקוחות | C6: 6 | D6: הצגנו הדגמה היום
A7: 4 | B7: רכוש קבוע | C7: 16 | D7: הצגנו הדגמה היום
A8: 5 | B8: הון עצמי | C8: 10
B9: סה״כ | C9: =SUM(C4:C8) -> 50
A11: דוגמא לשאלה בסגנון בחינה - חתך (עקרונות הכרה בהכנסות ובהוצאות)
A12: חברת ״קנלו״ צורכת שירותי חימום נקניק שאותם היא משווקת ללקוחות ברחבי הארץ במשאיות מלוכלכות.
A13: להלן נתונים לגבי היקפי שירותים שצרכה החברה בשנים שונות לצד התשלומים שבוצעו בעדם לספק החימום
A14: באותן השנים:
D16: סכום תשלום
C17: שווי שירות | D17: במזומן לספק
C18: שנצרך | D18: במהלך השנה
B19: שנה | C19: אלפי ש״ח | D19: אלפי ש״ח
B20: 2021 | C20: 100 | D20: 40
B21: 2022 | C21: 200 | D21: 380
B22: 2023 | C22: 150 | D22: 70
B23: 2024 | C23: 300 | D23: 100
B24: 2025 | C24: 450 | D24: 610
A26: נדרש:
A27: א. הציגו בכל שנה פקודות רלוונטיות לרישום ההכנסות / ההוצאות מנקודת ראות קנלו בהנחה שהדיווחים
A28: בהנהלת החשבונות הם על בסיס מזומן.
A29: ב. מהי ההכנסה או ההוצאה השנתית בחברת קנלו בגין שירותי חימום נקניק.
A30: ג. מהי יתרת החתך לתום כל אחת מהשנים.
A31: ד. רשמו פקודת התאמה עבור כל אחת מהשנים.
D33: ב
B34: א | D34: הוצאה | E34: ד | G34: ג
A35: שנה | B35: הנה״ח | D35: בדווח רוו״ה | E35: פקודת התאמה | G35: יתרת חתך
A36: 2021 | B36: ח׳ הוצאות חימום נקניק מסריח 40 ז׳ מזומן 40 | D36: 100 | E36: ח׳ הוצאות נקניק 60 ז׳ הוצאות לשלם 60 | G36: הוצאות לשלם (התחייבות) | I36: =100-40 -> 60
A37: 2022 | B37: ח׳ הוצאות חימום נקניק מסריח 380 ז׳ מזומן 380 | D37: 200 | E37: ח׳ הוצאות לשלם 60 ח׳ הוצאות מראש 120 ז׳ הוצאות נקניק 180 | G37: הוצאות מראש (נכס) | I37: =(40+380)-(100+200) -> 120
A38: 2023 | B38: ח׳ הוצאות חימום נקניק מסריח 70 ז׳ מזומן 70 | D38: 150 | E38: ח׳ הוצאות נקניק 80 ז׳ הוצאות מראש 80 | G38: הוצאות מראש (נכס) | I38: =(40+380+70)-(100+200+150) -> 40
A39: 2024 | B39: ח׳ הוצאות חימום נקניק מסריח 100 ז׳ מזומן 100 | D39: 300 | E39: ח׳ הוצאות נקניק 200 ז׳ הוצאות מראש 40 ז׳ הוצאות לשלם 160 | G39: הוצאות לשלם (התחייבות) | I39: =(100+200+150+300)-(40+380+70+100) -> 160
A40: 2025 | B40: ח׳ הוצאות חימום נקניק מסריח 610 ז׳ מזומן 610 | D40: 450 | E40: ח׳ הוצאות לשלם 160 ז׳ הוצאות נקניק 160 | G40: אין
A42: דוגמא לשאלה בסגנון בחינה - לקוחות (והפרשה לחובות מסופקים)
A43: בחברת ״פץ פץ ברזים״ מוכרים קולרים לדוכני חימום נקניק.
A44: יתרת הלקוחות בחברה (ברוטו) ל-31.12.2020 היא 70,000 ש״ח ושיעור ההלח״מ למועד זה הנו 4%.
A45: עסקאות שבוצעו ב-2021:
A46: א. החברה מכרה ללקוחות במזומן בסכום של 30,000 ש״ח.
A47: ב. החברה מכרה ללקוחות באשראי בסכום של 300,000 ש״ח.
A48: ג. החברה העניקה זיכוי ללקוחות שרכשו באשראי בסכום של 20,000 ש״ח.
A49: ד. החברה גבתה מלקוחות (בגין מכירות באשראי) סכום של 78,000 ש״ח.
A50: ה. החברה גילתה / רשמה חובות אבודים בסכום של 2,000 ש״ח.
A51: ו. נכון ליום 31.12.2021 החברה זיהתה שתי קבוצות של לקוחות בעיתיים כדלקמן:
D52: חוב לקוח - ש״ח | E52: שיעור ההלח״מ
C53: קבוצה 1 | D53: 40000 | E53: 0.15
C54: קבוצה 2 | D54: 50000 | E54: 0.1
A55: בגין כל יתר חובות הלקוחות, שיעור ההלח״מ נותר 4%.
A57: נדרש:
A58: א. מהן הוצאות ההלח״מ לשנת 2021.
A59: ב. הציגו את ביאור הלקוחות נטו ליום 31.12.2021.
A62: (*) | B62: מכירה במזומן לא רלוונטית! לא משפיעה על חוב הלקוח, כי מכרנו לו והוא שילם מיד.
A64: פתרון בגישה מקוצרת (אפשר בהחלט לפתור בגישה של חשבונות T חובה וזכות כמו שהצגנו בכיתה, מה שנוח יותר):
A66: עסקאות | C66: לקוחות ברוטו | E66: הלח״מ
A67: יתרת פתיחה 31.12.2020 | C67: 70000 | E67: =4%*70000 -> 2800
A68: מכירה באשראי | C68: 300000
A69: זיכוי ללקוח באשראי | C69: -20000
A70: גבייה מלקוחות | C70: -78000
A71: חוב אבוד | C71: -2000 | E71: =C71 -> -2000
A72: הוצאות הלח״מ | E72: =E73-E71-E67 -> 17400
A73: יתרות סגירה 31.12.2021 | C73: =SUM(C67:C72) -> 270000 | E73: =40000*15%+50000*10%+(270000-90000)*4% -> 18200
A75: א. הוצאות הלח״מ = 17,400.
A76: ב. ביאור הלקוחות נטו:
C77: לקוחות ברוטו | E77: =C73 -> 270000
C78: בניכוי הלח״מ | E78: =-E73 -> -18200
C79: לקוחות, נטו | E79: =E77+E78 -> 251800
A81: דוגמא לשאלה בסגנון בחינה - רכוש קבוע
A83: לפניכם שני חלקים לגבי רכוש קבוע. יש להשיב על כל חלק בנפרד.
A85: חלק א
A86: חברת קנלו 2 פיתחה פטנט לייצור נקניק משאריות ביוב.
A87: לשם התחלת הליך הייצור, רכשה מכונה לחימום נקניק בתאריך 1.1.2020, עלותה הישירה 100,000 ש״ח,
A88: עלות הובלתה לחברה 20,000 ש״ח. היא הגיעה לחברה ב-1.3.2020, הפכה לזמינה לשימוש ב-1.5.2020,
A89: והחלה לשמש את החברה בפועל ב-1.7.2020.
A90: המכונה מפחיתה מכונות חימום נקניק על פני תקופה של 5 שנים, בשיטת הקו הישר, כאשר ערך השייר / הגרט שלהן
A91: הנו 25,000 ש״ח.
A92: בתאריך 30.9.2022 נרכשה מכונת חימום נקניק נוספת, זהה במאפייניה.
A93: נדרש:
A94: א. הציגו את מכלול רכיבי הרכוש הקבוע כנכס בדוחות (עלות, פחת נצבר, עלות מופחתת) לתום כל אחת מהשנים 2020-2023.
... A96: ג. הניחו שהמכונה הישנה בלבד נמכרה ב-30.9.2024. מהו רווח / הפסד ההון במכירה אם התמורה 68,000 ש״ח.
A98: א+ב. | C98: 44196 | D98: 44561 | E98: 44926 | F98: 45291
B99: עלות | C99: 120000 | D99: 120000 | E99: =D99*2 -> 240000 | F99: =E99 -> 240000
B100: פחת נצבר | C100: =-C103 -> -12666.667 | D100: =C100-D103 -> -31666.667 | E100: =D100-E103 -> -55416.667 | F100: =E100-F103 -> -93416.667
B101: עלות מופחתת | C101: =C99+C100 -> 107333.33 | D101: =D99+D100 -> 88333.333 | E101: =E99+E100 -> 184583.33 | F101: =F99+F100 -> 146583.33
B103: הוצאות פחת | C103: =(120000-25000)/5*(8/12) -> 12666.667 | D103: =(120000-25000)/5 -> 19000 | E103: =(120000-25000)/5+(120000-25000)/5*(3/12) -> 23750 | F103: =(120000-25000)/5*2 -> 38000
A105: ג. רווח / הפסד ההון:
C106: תמורת המכירה | E106: 68000
C107: עלות מופחתת - ערב המכירה | E107: =120000-(120000-25000)/5*(4+5/12) -> 36083.333 | H107: 120,000 - (120,000 - 25,000)/5 * (4 + 5/12)= | I107: הפחתה מ-1.5.2020
C108: רווח הון (הפרש חיובי) | E108: =E106-E107 -> 31916.667 | I108: עד 30.9.2024
H111: עלות הפריט שנמכר
G113: פחת נצבר של הפריט שנמכר, לפי פחת לשנה
G114: כפול 4 שנים ו-5 חודשים שחלפו בטווח: 1.5.2020-30.9.2024
A116: חלק ב
A117: חברת ״תותחי הכפר״ רכשה ב-1.9.2020 מכונה לחימום נקניק בעלות של 150,000 ש״ח. עלות ההרכבה של המכונה
A118: בחברה היא 30,000 ש״ח והיא הסתיימה ב-1.10.2020.
A119: החברה מפחיתה מכונות חימום נקניק בשיטת סכום ספרות השנים היורד (סס״י) בהתאם להערכת תקופת הפחתה
A120: של 5 שנים ללא ערך שייר / גרט.
A122: נדרש:
A123: א. חשבו והציגו את ביאור הרכוש הקבוע (עלות, פחת נצבר, עלות מופחתת) עבור השנים 2020, 2021, 2022.
A124: ב. הציגו את הוצאות הפחת לכל אחת מהשנים.
...
